Workbook

Sheet Observations
A1: 12m pointing calibration 18 Feb 2010 | E1: 0.143 | F1: -0.05 | G1: =(E1+F1)/2 -> 0.0465
A2: Controller params:
A3: P1 | B3: -0.36
A4: P2 | B4: 0
A5: P3 | B5: 0
A6: P4 | B6: 0.0007
A7: P5 | B7: 0.0082
A8: P6 | B8: 0
A9: P7 | B9: -0.176
A10: P8 | B10: 0
A11: P9 | B11: 0
A12: Refrac and model switched on
A14: Source | B14: RA | C14: Dec | D14: Az start | E14: El start | F14: x-el ofset | G14: el offset | H14: Az end | I14: El end
A15: Sgra | B15: 266.575 | C15: -29.0122 | D15: -93.1 | E15: 42.5 | F15: 0.11 | G15: 0.05 | H15: -93.48 | I15: 41.94
A16: CenA | B16: 201.52088 | C16: -43.071314 | D16: -143.8 | E16: 8.4 | F16: -0.05 | G16: 0.025 | H16: -144.99 | I16: 7.7
A17: 1921-293 | B17: 291.37125 | C17: -29.221806 | D17: -81.88 | E17: 54 | F17: 0.08 | G17: 0.06 | H17: -82.59 | I17: 53.52
A18: 2145+067 | B18: 327.1472 | C18: 7.007544 | D18: -34.887 | E18: 33.7723 | F18: -0.015 | G18: -0.01 | H18: -36.4 | I18: 33.22
A19: 3c446 | B19: ='Source coordinates'!D7 -> 112.7075 | C19: ='Source coordinates'!E7 -> -11.7104 | D19: -33.75 | E19: 47.304 | F19: 0.05 | G19: 0.045 | H19: -34.9 | I19: 47.06
A20: Sgra | B20: 266.575 | C20: -29.0122 | D20: -114.5 | E20: 16.6 | F20: -0.0025 | G20: 0.0465 | H20: -114.98 | I20: 16.42
A21: 0537-441 | B21: ='Source coordinates'!D8 -> 139.65437 | C21: ='Source coordinates'!E8 -> -12.141822 | D21: 121 | E21: 35.5 | F21: 0 | G21: 0.075 | H21: 119.7 | I21: 35.5
A22: 38792
A23: CenA | D23: -134 | E23: 16.7 | F23: -0.055 | G23: 0.105 | H23: -135 | I23: 16.12
A24: Sgra | D24: -85.5 | E24: 50.26 | F24: 0.08 | G24: 0.0925 | H24: -86.55 | I24: 49.5
A25: 2145+067 | D25: 7.62 | E25: 39.77 | F25: 0 | G25: 0.05 | H25: 5.3 | I25: 39.9 | J25: poor quality
A26: 3c446 | D26: 28.6 | E26: 48.5 | F26: 0.05 | G26: 0.1 | H26: 25 | I26: 49.4 | J26: poor quality
A27: 3c454.3 | D27: 12.9 | E27: 29.87 | F27: -0.035 | G27: 0.085 | H27: 10.22 | I27: 30.28 | J27: good
A28: 0537-441 | D28: 122.8 | E28: 31 | F28: -0.035 | G28: 0.1 | H28: =D28 -> 122.8 | I28: =E28 -> 31

Sheet Source coordinates
A1: RA | B1: 5 | C1: 35 | D1: 10.6 | E1: =15*(B1+(C1/60)+(D1/3600)) -> 83.794167 | G1: 0607-157 | H1: 2 - 5 Jy
A2: Dec | B2: 22 | C2: 1 | D2: 17.8 | E2: =B2+(C2/60)+(D2/60/60) -> 22.021611 | G2: 0727-115 | H2: 3 | I2: J2000
G3: 1334-127 | H3: 4 - 6 Jy
A4: taurus | D4: 83.794167 | E4: 22.021611 | G4: 1749+096 | H4: 2
A5: 0537-441 | D5: 84.79263 | E5: -44.08376 | G5: 1921-293
A6: 0637-752 | D6: 98.876154 | E6: -75.283011 | G6: 2052-474 | H6: 2
A7: 0727-115 | D7: 112.7075 | E7: -11.7104 | G7: 2145+067 | H7: 4 - 8 Jy | I7: 21 | J7: 48 | K7: 5.459 | L7: 6 | M7: 57 | N7: 38.604
A8: hydra | D8: 139.65437 | E8: -12.141822 | G8: 3c446 | H8: 5 | I8: 22 25 47.2592 | J8: -4 | K8: 57 | L8: 1.39
A9: CenA | D9: 201.52088 | E9: -43.071314 | G9: 4c39.25 | H9: 10 | I9: 09 27 03.0139 | J9: 39 02 20.852
A10: 3c353 | D10: 260.2544 | E10: -0.993614
A11: Sgra | D11: 266.575 | E11: -29.0122
A12: 1921-293 | D12: 291.37125 | E12: -29.221806
A13: 2145+067 | D13: 327.14891 | E13: 7.0068917
A14: 3C446 | D14: 336.57888 | E14: -4.8991278
A15: 3c454.3 | D15: 343.61507 | E15: 16.201767

Sheet Model fitting
A8: Coefficient Matrix (used during pointing observations)
D9: Solution | E9: Solution (fixed P4, P5) | I9: pi/180 | J9: =PI()/180 -> 0.017453293
A10: P1 = | B10: -0.36 | D10: =S67 -> -0.49525646 | E10: =L118 -> 0.056212392
A11: P2 = | B11: 0 | D11: =S68 -> 0.030049052 | E11: =L119 -> -0.45620522
A12: P3 = | B12: 0 | D12: =S69 -> 0.2195617 | E12: =L120 -> -0.07193319
A13: P4 = | B13: 0.0007 | D13: =S70 -> -0.025164705 | E13: =B13 -> 0.0007
A14: P5 = | B14: 0.0082 | D14: =S71 -> -0.036271602 | E14: =B14 -> 0.0082
A15: P7 = | B15: -0.176 | D15: =S72 -> 0.043509767 | E15: =L121 -> -0.11049985
A16: P8 = | B16: 0 | D16: =S73 -> -0.17528946 | E16: =L122 -> 0.017675107
A17: P9 = | B17: 0 | D17: =S74 -> -0.008262181 | E17: =L123 -> -0.0074092674
A19: Measurement Data | F19: Actual offsets | G19: Offsets after correction | I19: Matrix Phi | R19: Matrix transposed
G20: Sol1 | H20: Sol 2
A21: Azimuth | B21: Elevation | C21: Refraction correction (El) | D21: RAz | E21: REl | I21: P1 | J21: P2 | K21: P3 | L21: P4 | M21: P5 | N21: P7 | O21: P8 | P21: P9 | S21: 1 | T21: 2 | U21: 3 | V21: 4 | W21: 5 | X21: 6 | Y21: 7 | Z21: 8 | AA21: 9 | AB21: 10 | AC21: 11 | AD21: 12 | AE21: 13 | AF21: 14 | AG21: 15 | AH21: 16 | AI21: 17 | AJ21: 18 | AK21: 19 | AL21: 20 | AM21: 21 | AN21: 22 | AO21: 23 | AP21: 24 | AQ21: 25 | AR21: 26
A22: =360+Observations!H15 -> 266.52 | B22: =Observations!I15 -> 41.94 | C22: =(0.0019279+1.02/TAN(RADIANS((B22+10.3/(B22+5.1)))))/60 -> 0.018807526 | D22: =Observations!F15 -> 0.11 | E22: =Observations!G15 -> 0.05 | F22: =$B$10 + $B$11*COS(RADIANS(B22)) + $B$12*SIN(RADIANS(B22)) + $B$13*SIN(RADIANS(B22))*COS(RADIANS(A22)) + $B$14*SIN(RADIANS(B22))*SIN(RADIANS(A22))+D22 -> -0.25549878 | G22: =$D$10 + $D$11*(COS($J$9*B22)) + $D$12*SIN($J$9*B22) + $D$13*SIN($J$9*B22)*COS($J$9*A22) + $D$14*SIN($J$9*B22)*SIN($J$9*A22)-F22 -> -0.045442933 | H22: =$E$10 + $E$11*(COS($J$9*B22)) + $E$12*SIN($J$9*B22) + $E$13*SIN($J$9*B22)*COS($J$9*A22) + $E$14*SIN($J$9*B22)*SIN($J$9*A22)-F22 -> -0.08121033 | I22: =1 -> 1 | J22: =COS(RADIANS(B22)) -> 0.74384513 | K22: =SIN(RADIANS(B22)) -> 0.66835202 | L22: =SIN(RADIANS(B22))*COS(RADIANS(A22)) -> -0.040569049 | M22: =SIN(RADIANS(B22))*SIN(RADIANS(A22)) -> -0.66711961 | N22: 0 | O22: =0 -> 0 | P22: =0 -> 0 | R22: 1 | S22: {=TRANSPOSE(I22:P47)} -> 1 | T22: 0 | U22: 1 | V22: 0 | W22: 1 | X22: 0 | Y22: 1 | Z22: 0 | AA22: 1 | AB22: 0 | AC22: 1 | AD22: 0 | AE22: 1 | AF22: 0 | AG22: 1 | AH22: 0 | AI22: 1 | AJ22: 0 | AK22: 1 | AL22: 0 | AM22: 1 | AN22: 0 | AO22: 1 | AP22: 0 | AQ22: 1 | AR22: 0
F23: =$B$13*(-SIN(RADIANS(A22))) + $B$14*COS(RADIANS(A22)) + $B$15+ $B$16*COS(RADIANS(B22)) + $B$17*(1/TAN(RADIANS(B22)))+E22 -> -0.12579903 | G23: =$D$10*0 + $D$11*0 + $D$12*0 + $D$13*(-SIN($J$9*A22)) + $D$14*COS($J$9*A22) + $D$15+ $D$16*COS($J$9*B22) + $D$17*(1/TAN($J$9*B22))-F23+C22 -> 0.025616074 | H23: =$E$10*0 + $E$11*0 + $E$12*0 + $E$13*(-SIN($J$9*A22)) + $E$14*COS($J$9*A22) + $E$15+ $E$16*COS($J$9*B22) + $E$17*(1/TAN($J$9*B22))-F23+C22 -> 0.039209045 | I23: =0 -> 0 | J23: 0 | K23: =0 -> 0 | L23: =-SIN(RADIANS(A22)) -> 0.99815605 | M23: =COS(RADIANS(A22)) -> -0.060700121 | N23: 1 | O23: =COS(RADIANS(B22)) -> 0.74384513 | P23: =1/TAN(RADIANS(B22)) -> 1.1129541 | R23: 2 | S23: 0.74384513 | T23: 0 | U23: 0.9909832 | V23: 1 | W23: 0.59454215 | X23: 0 | Y23: 0.83657313 | Z23: 1 | AA23: 0.68123211 | AB23: 0 | AC23: 0.95921536 | AD23: 1 | AE23: 0.81411552 | AF23: 0 | AG23: 0.96068229 | AH23: 1 | AI23: 0.64944805 | AJ23: 0 | AK23: 0.76716515 | AL23: 1 | AM23: 0.65077422 | AN23: 0 | AO23: 0.86357161 | AP23: 1 | AQ23: 0.8571673 | AR23: 0
A24: =Observations!H16 -> -144.99 | B24: =Observations!I16 -> 7.7 | C24: =(0.0019279+1.02/TAN(RADIANS((B24+10.3/(B24+5.1)))))/60 -> 0.11371816 | D24: =Observations!F16 -> -0.05 | E24: =Observations!G16 -> 0.025 | F24: =$B$10 + $B$11*COS(RADIANS(B24)) + $B$12*SIN(RADIANS(B24)) + $B$13*SIN(RADIANS(B24))*COS(RADIANS(A24)) + $B$14*SIN(RADIANS(B24))*SIN(RADIANS(A24))+D24 -> -0.41070716 | G24: =$D$10 + $D$11*(COS($J$9*B24)) + $D$12*SIN($J$9*B24) + $D$13*SIN($J$9*B24)*COS($J$9*A24) + $D$14*SIN($J$9*B24)*SIN($J$9*A24)-F24 -> -0.019803136 | H24: =$E$10 + $E$11*(COS($J$9*B24)) + $E$12*SIN($J$9*B24) + $E$13*SIN($J$9*B24)*COS($J$9*A24) + $E$14*SIN($J$9*B24)*SIN($J$9*A24)-F24 -> 0.0044826326 | I24: =1 -> 1 | J24: =COS(RADIANS(B24)) -> 0.9909832 | K24: =SIN(RADIANS(B24)) -> 0.13398619 | L24: =SIN(RADIANS(B24))*COS(RADIANS(A24)) -> -0.10974164 | M24: =SIN(RADIANS(B24))*SIN(RADIANS(A24)) -> -0.076870473 | N24: 0 | O24: =0 -> 0 | P24: =0 -> 0 | R24: 3 | S24: 0.66835202 | T24: 0 | U24: 0.13398619 | V24: 0 | W24: 0.80406444 | X24: 0 | Y24: 0.54785528 | Z24: 0 | AA24: 0.73206749 | AB24: 0 | AC24: 0.2826763 | AD24: 0 | AE24: 0.58070296 | AF24: 0 | AG24: 0.27765001 | AH24: 0 | AI24: 0.76040597 | AJ24: 0 | AK24: 0.64144963 | AL24: 0 | AM24: 0.75927131 | AN24: 0 | AO24: 0.50422621 | AP24: 0 | AQ24: 0.51503807 | AR24: 0
F25: =$B$13*(-SIN(RADIANS(A24))) + $B$14*COS(RADIANS(A24)) + $B$15+ $B$16*COS(RADIANS(B24)) + $B$17*(1/TAN(RADIANS(B24)))+E24 -> -0.15731462 | G25: =$D$10*0 + $D$11*0 + $D$12*0 + $D$13*(-SIN($J$9*A24)) + $D$14*COS($J$9*A24) + $D$15+ $D$16*COS($J$9*B24) + $D$17*(1/TAN($J$9*B24))-F25+C24 -> 0.094996081 | H25: =$E$10*0 + $E$11*0 + $E$12*0 + $E$13*(-SIN($J$9*A24)) + $E$14*COS($J$9*A24) + $E$15+ $E$16*COS($J$9*B24) + $E$17*(1/TAN($J$9*B24))-F25+C24 -> 0.11693392 | I25: =0 -> 0 | J25: 1 | K25: =0 -> 0 | L25: =-SIN(RADIANS(A24)) -> 0.5737194 | M25: =COS(RADIANS(A24)) -> -0.81905192 | N25: 1 | O25: =COS(RADIANS(B24)) -> 0.9909832 | P25: =1/TAN(RADIANS(B24)) -> 7.3961595 | R25: 4 | S25: -0.040569049 | T25: 0.99815605 | U25: -0.10974164 | V25: 0.5737194 | W25: 0.10369913 | X25: 0.99164867 | Y25: 0.44096531 | Z25: 0.59341889 | AA25: 0.60040652 | AB25: 0.57214587 | AC25: -0.11937473 | AD25: 0.90645525 | AE25: -0.28771431 | AF25: -0.86863151 | AG25: -0.19632821 | AH25: 0.70710678 | AI25: 0.045759314 | AJ25: 0.99818769 | AK25: 0.63870724 | AL25: -0.092370587 | AM25: 0.6881335 | AN25: -0.42261826 | AO25: 0.49622602 | AP25: -0.17742828 | AQ25: -0.27900035 | AR25: -0.8405666
A26: =360+Observations!H17 -> 277.41 | B26: =Observations!I17 -> 53.52 | C26: =(0.0019279+1.02/TAN(RADIANS((B26+10.3/(B26+5.1)))))/60 -> 0.012521834 | D26: =Observations!F17 -> 0.08 | E26: =Observations!G17 -> 0.06 | F26: =$B$10 + $B$11*COS(RADIANS(B26)) + $B$12*SIN(RADIANS(B26)) + $B$13*SIN(RADIANS(B26))*COS(RADIANS(A26)) + $B$14*SIN(RADIANS(B26))*SIN(RADIANS(A26))+D26 -> -0.28646568 | G26: =$D$10 + $D$11*(COS($J$9*B26)) + $D$12*SIN($J$9*B26) + $D$13*SIN($J$9*B26)*COS($J$9*A26) + $D$14*SIN($J$9*B26)*SIN($J$9*A26)-F26 -> 0.011927979 | H26: =$E$10 + $E$11*(COS($J$9*B26)) + $E$12*SIN($J$9*B26) + $E$13*SIN($J$9*B26)*COS($J$9*A26) + $E$14*SIN($J$9*B26)*SIN($J$9*A26)-F26 -> 0.0071402404 | I26: =1 -> 1 | J26: =COS(RADIANS(B26)) -> 0.59454215 | K26: =SIN(RADIANS(B26)) -> 0.80406444 | L26: =SIN(RADIANS(B26))*COS(RADIANS(A26)) -> 0.10369913 | M26: =SIN(RADIANS(B26))*SIN(RADIANS(A26)) -> -0.79734944 | N26: 0 | O26: =0 -> 0 | P26: =0 -> 0 | R26: 5 | S26: -0.66711961 | T26: -0.060700121 | U26: -0.076870473 | V26: -0.81905192 | W26: -0.79734944 | X26: 0.12896867 | Y26: -0.32510767 | Z26: 0.8048938 | AA26: -0.41884939 | AB26: 0.82015188 | AC26: -0.25623342 | AD26: -0.42230187 | AE26: 0.50441689 | AF26: -0.49545867 | AG26: -0.19632821 | AH26: -0.70710678 | AI26: -0.75902788 | AJ26: 0.060177479 | AK26: 0.059251079 | AL26: 0.9957247 | AM26: 0.32088192 | AN26: 0.90630779 | AO26: 0.089463989 | AP26: 0.98413373 | AQ26: 0.43292381 | AR26: -0.54170821
F27: =$B$13*(-SIN(RADIANS(A26))) + $B$14*COS(RADIANS(A26)) + $B$15+ $B$16*COS(RADIANS(B26)) + $B$17*(1/TAN(RADIANS(B26)))+E26 -> -0.1142483 | G27: =$D$10*0 + $D$11*0 + $D$12*0 + $D$13*(-SIN($J$9*A26)) + $D$14*COS($J$9*A26) + $D$15+ $D$16*COS($J$9*B26) + $D$17*(1/TAN($J$9*B26))-F27+C26 -> 0.030321255 | H27: =$E$10*0 + $E$11*0 + $E$12*0 + $E$13*(-SIN($J$9*A26)) + $E$14*COS($J$9*A26) + $E$15+ $E$16*COS($J$9*B26) + $E$17*(1/TAN($J$9*B26))-F27+C26 -> 0.023052013 | I27: =0 -> 0 | J27: 0 | K27: =0 -> 0 | L27: =-SIN(RADIANS(A26)) -> 0.99164867 | M27: =COS(RADIANS(A26)) -> 0.12896867 | N27: 1 | O27: =COS(RADIANS(B26)) -> 0.59454215 | P27: =1/TAN(RADIANS(B26)) -> 0.73942102 | R27: 6 | S27: 0 | T27: 1 | U27: 0 | V27: 1 | W27: 0 | X27: 1 | Y27: 0 | Z27: 1 | AA27: 0 | AB27: 1 | AC27: 0 | AD27: 1 | AE27: 0 | AF27: 1 | AG27: 0 | AH27: 1 | AI27: 0 | AJ27: 1 | AK27: 0 | AL27: 1 | AM27: 0 | AN27: 1 | AO27: 0 | AP27: 1 | AQ27: 0 | AR27: 1
A28: =360+Observations!H18 -> 323.6 | B28: =Observations!I18 -> 33.22 | C28: =(0.0019279+1.02/TAN(RADIANS((B28+10.3/(B28+5.1)))))/60 -> 0.025727252 | D28: =Observations!F18 -> -0.015 | E28: =Observations!G18 -> -0.01 | F28: =$B$10 + $B$11*COS(RADIANS(B28)) + $B$12*SIN(RADIANS(B28)) + $B$13*SIN(RADIANS(B28))*COS(RADIANS(A28)) + $B$14*SIN(RADIANS(B28))*SIN(RADIANS(A28))+D28 -> -0.37735721 | G28: =$D$10 + $D$11*(COS($J$9*B28)) + $D$12*SIN($J$9*B28) + $D$13*SIN($J$9*B28)*COS($J$9*A28) + $D$14*SIN($J$9*B28)*SIN($J$9*A28)-F28 -> 0.028222422 | H28: =$E$10 + $E$11*(COS($J$9*B28)) + $E$12*SIN($J$9*B28) + $E$13*SIN($J$9*B28)*COS($J$9*A28) + $E$14*SIN($J$9*B28)*SIN($J$9*A28)-F28 -> 0.01015439 | I28: =1 -> 1 | J28: =COS(RADIANS(B28)) -> 0.83657313 | K28: =SIN(RADIANS(B28)) -> 0.54785528 | L28: =SIN(RADIANS(B28))*COS(RADIANS(A28)) -> 0.44096531 | M28: =SIN(RADIANS(B28))*SIN(RADIANS(A28)) -> -0.32510767 | N28: 0 | O28: =0 -> 0 | P28: =0 -> 0 | R28: 7 | S28: 0 | T28: 0.74384513 | U28: 0 | V28: 0.9909832 | W28: 0 | X28: 0.59454215 | Y28: 0 | Z28: 0.83657313 | AA28: 0 | AB28: 0.68123211 | AC28: 0 | AD28: 0.95921536 | AE28: 0 | AF28: 0.81411552 | AG28: 0 | AH28: 0.96068229 | AI28: 0 | AJ28: 0.64944805 | AK28: 0 | AL28: 0.76716515 | AM28: 0 | AN28: 0.65077422 | AO28: 0 | AP28: 0.86357161 | AQ28: 0 | AR28: 0.8571673
F29: =$B$13*(-SIN(RADIANS(A28))) + $B$14*COS(RADIANS(A28)) + $B$15+ $B$16*COS(RADIANS(B28)) + $B$17*(1/TAN(RADIANS(B28)))+E28 -> -0.17898448 | G29: =$D$10*0 + $D$11*0 + $D$12*0 + $D$13*(-SIN($J$9*A28)) + $D$14*COS($J$9*A28) + $D$15+ $D$16*COS($J$9*B28) + $D$17*(1/TAN($J$9*B28))-F29+C28 -> 0.044834725 | H29: =$E$10*0 + $E$11*0 + $E$12*0 + $E$13*(-SIN($J$9*A28)) + $E$14*COS($J$9*A28) + $E$15+ $E$16*COS($J$9*B28) + $E$17*(1/TAN($J$9*B28))-F29+C28 -> 0.1047 | I29: =0 -> 0 | J29: 1 | K29: =0 -> 0 | L29: =-SIN(RADIANS(A28)) -> 0.59341889 | M29: =COS(RADIANS(A28)) -> 0.8048938 | N29: 1 | O29: =COS(RADIANS(B28)) -> 0.83657313 | P29: =1/TAN(RADIANS(B28)) -> 1.5269966 | R29: 8 | S29: 0 | T29: 1.1129541 | U29: 0 | V29: 7.3961595 | W29: 0 | X29: 0.73942102 | Y29: 0 | Z29: 1.5269966 | AA29: 0 | AB29: 0.93055917 | AC29: 0 | AD29: 3.3933349 | AE29: 0 | AF29: 1.4019483 | AG29: 0 | AH29: 3.4600477 | AI29: 0 | AJ29: 0.85408069 | AK29: 0 | AL29: 1.1959866 | AM29: 0 | AN29: 0.85710366 | AO29: 0 | AP29: 1.712667 | AQ29: 0 | AR29: 1.6642795
A30: =360+Observations!H19 -> 325.1 | B30: =Observations!I19 -> 47.06 | C30: =(0.0019279+1.02/TAN(RADIANS((B30+10.3/(B30+5.1)))))/60 -> 0.015742661 | D30: =Observations!F19 -> 0.05 | E30: =Observations!G19 -> 0.045 | F30: =$B$10 + $B$11*COS(RADIANS(B30)) + $B$12*SIN(RADIANS(B30)) + $B$13*SIN(RADIANS(B30))*COS(RADIANS(A30)) + $B$14*SIN(RADIANS(B30))*SIN(RADIANS(A30))+D30 -> -0.31301428 | G30: =$D$10 + $D$11*(COS($J$9*B30)) + $D$12*SIN($J$9*B30) + $D$13*SIN($J$9*B30)*COS($J$9*A30) + $D$14*SIN($J$9*B30)*SIN($J$9*A30)-F30 -> -0.00095453729 | H30: =$E$10 + $E$11*(COS($J$9*B30)) + $E$12*SIN($J$9*B30) + $E$13*SIN($J$9*B30)*COS($J$9*A30) + $E$14*SIN($J$9*B30)*SIN($J$9*A30)-F30 -> 0.0027707978 | I30: =1 -> 1 | J30: =COS(RADIANS(B30)) -> 0.68123211 | K30: =SIN(RADIANS(B30)) -> 0.73206749 | L30: =SIN(RADIANS(B30))*COS(RADIANS(A30)) -> 0.60040652 | M30: =SIN(RADIANS(B30))*SIN(RADIANS(A30)) -> -0.41884939 | N30: 0 | O30: =0 -> 0 | P30: =0 -> 0
F31: =$B$13*(-SIN(RADIANS(A30))) + $B$14*COS(RADIANS(A30)) + $B$15+ $B$16*COS(RADIANS(B30)) + $B$17*(1/TAN(RADIANS(B30)))+E30 -> -0.12387425 | G31: =$D$10*0 + $D$11*0 + $D$12*0 + $D$13*(-SIN($J$9*A30)) + $D$14*COS($J$9*A30) + $D$15+ $D$16*COS($J$9*B30) + $D$17*(1/TAN($J$9*B30))-F31+C30 -> 0.011879318 | H31: =$E$10*0 + $E$11*0 + $E$12*0 + $E$13*(-SIN($J$9*A30)) + $E$14*COS($J$9*A30) + $E$15+ $E$16*COS($J$9*B30) + $E$17*(1/TAN($J$9*B30))-F31+C30 -> 0.041388901 | I31: =0 -> 0 | J31: 0 | K31: =0 -> 0 | L31: =-SIN(RADIANS(A30)) -> 0.57214587 | M31: =COS(RADIANS(A30)) -> 0.82015188 | N31: 1 | O31: =COS(RADIANS(B30)) -> 0.68123211 | P31: =1/TAN(RADIANS(B30)) -> 0.93055917 | R31: Phi T x Phi
A32: =360+Observations!H20 -> 245.02 | B32: =Observations!I20 -> 16.42 | C32: =(0.0019279+1.02/TAN(RADIANS((B32+10.3/(B32+5.1)))))/60 -> 0.05599055 | D32: =Observations!F20 -> -0.0025 | E32: =Observations!G20 -> 0.0465 | F32: =$B$10 + $B$11*COS(RADIANS(B32)) + $B$12*SIN(RADIANS(B32)) + $B$13*SIN(RADIANS(B32))*COS(RADIANS(A32)) + $B$14*SIN(RADIANS(B32))*SIN(RADIANS(A32))+D32 -> -0.36468468 | G32: =$D$10 + $D$11*(COS($J$9*B32)) + $D$12*SIN($J$9*B32) + $D$13*SIN($J$9*B32)*COS($J$9*A32) + $D$14*SIN($J$9*B32)*SIN($J$9*A32)-F32 -> -0.02738536 | H32: =$E$10 + $E$11*(COS($J$9*B32)) + $E$12*SIN($J$9*B32) + $E$13*SIN($J$9*B32)*COS($J$9*A32) + $E$14*SIN($J$9*B32)*SIN($J$9*A32)-F32 -> -0.039220468 | I32: =1 -> 1 | J32: =COS(RADIANS(B32)) -> 0.95921536 | K32: =SIN(RADIANS(B32)) -> 0.2826763 | L32: =SIN(RADIANS(B32))*COS(RADIANS(A32)) -> -0.11937473 | M32: =SIN(RADIANS(B32))*SIN(RADIANS(A32)) -> -0.25623342 | N32: 0 | O32: =0 -> 0 | P32: =0 -> 0 | S32: 1 | T32: 2 | U32: 3 | V32: 4 | W32: 5 | X32: 6 | Y32: 7 | Z32: 8
F33: =$B$13*(-SIN(RADIANS(A32))) + $B$14*COS(RADIANS(A32)) + $B$15+ $B$16*COS(RADIANS(B32)) + $B$17*(1/TAN(RADIANS(B32)))+E32 -> -0.13232836 | G33: =$D$10*0 + $D$11*0 + $D$12*0 + $D$13*(-SIN($J$9*A32)) + $D$14*COS($J$9*A32) + $D$15+ $D$16*COS($J$9*B32) + $D$17*(1/TAN($J$9*B32))-F33+C32 -> 0.028158872 | H33: =$E$10*0 + $E$11*0 + $E$12*0 + $E$13*(-SIN($J$9*A32)) + $E$14*COS($J$9*A32) + $E$15+ $E$16*COS($J$9*B32) + $E$17*(1/TAN($J$9*B32))-F33+C32 -> 0.066802809 | I33: =0 -> 0 | J33: 1 | K33: =0 -> 0 | L33: =-SIN(RADIANS(A32)) -> 0.90645525 | M33: =COS(RADIANS(A32)) -> -0.42230187 | N33: 1 | O33: =COS(RADIANS(B32)) -> 0.95921536 | P33: =1/TAN(RADIANS(B32)) -> 3.3933349 | R33: 1 | S33: {=MMULT(S22:AR29,I22:P47)} -> 13 | T33: 10.369315 | U33: 7.2077459 | V33: 1.9811687 | W33: -2.0899484 | X33: 0 | Y33: 0 | Z33: 0
A34: =Observations!H21 -> 119.7 | B34: =Observations!I21 -> 35.5 | C34: =(0.0019279+1.02/TAN(RADIANS((B34+10.3/(B34+5.1)))))/60 -> 0.02364341 | D34: =Observations!F21 -> 0 | E34: =Observations!G21 -> 0.075 | F34: =$B$10 + $B$11*COS(RADIANS(B34)) + $B$12*SIN(RADIANS(B34)) + $B$13*SIN(RADIANS(B34))*COS(RADIANS(A34)) + $B$14*SIN(RADIANS(B34))*SIN(RADIANS(A34))+D34 -> -0.35606518 | G34: =$D$10 + $D$11*(COS($J$9*B34)) + $D$12*SIN($J$9*B34) + $D$13*SIN($J$9*B34)*COS($J$9*A34) + $D$14*SIN($J$9*B34)*SIN($J$9*A34)-F34 -> 0.001716482 | H34: =$E$10 + $E$11*(COS($J$9*B34)) + $E$12*SIN($J$9*B34) + $E$13*SIN($J$9*B34)*COS($J$9*A34) + $E$14*SIN($J$9*B34)*SIN($J$9*A34)-F34 -> 0.0030368293 | I34: =1 -> 1 | J34: =COS(RADIANS(B34)) -> 0.81411552 | K34: =SIN(RADIANS(B34)) -> 0.58070296 | L34: =SIN(RADIANS(B34))*COS(RADIANS(A34)) -> -0.28771431 | M34: =SIN(RADIANS(B34))*SIN(RADIANS(A34)) -> 0.50441689 | N34: 0 | O34: =0 -> 0 | P34: =0 -> 0 | R34: 2 | S34: 10.369315 | T34: 14.472878 | U34: 5.4326131 | V34: 3.8311024 | W34: -0.5815511 | X34: 6 | Y34: 5.3781907 | Z34: 18.685192
F35: =$B$13*(-SIN(RADIANS(A34))) + $B$14*COS(RADIANS(A34)) + $B$15+ $B$16*COS(RADIANS(B34)) + $B$17*(1/TAN(RADIANS(B34)))+E34 -> -0.1056708 | G35: =$D$10*0 + $D$11*0 + $D$12*0 + $D$13*(-SIN($J$9*A34)) + $D$14*COS($J$9*A34) + $D$15+ $D$16*COS($J$9*B34) + $D$17*(1/TAN($J$9*B34))-F35+C34 -> 0.058364897 | H35: =$E$10*0 + $E$11*0 + $E$12*0 + $E$13*(-SIN($J$9*A34)) + $E$14*COS($J$9*A34) + $E$15+ $E$16*COS($J$9*B34) + $E$17*(1/TAN($J$9*B34))-F35+C34 -> 0.01814573 | I35: =0 -> 0 | J35: 0 | K35: =0 -> 0 | L35: =-SIN(RADIANS(A34)) -> -0.86863151 | M35: =COS(RADIANS(A34)) -> -0.49545867 | N35: 1 | O35: =COS(RADIANS(B34)) -> 0.81411552 | P35: =1/TAN(RADIANS(B34)) -> 1.4019483 | R35: 3 | S35: 7.2077459 | T35: 5.4326131 | U35: 4.527122 | V35: 1.5408429 | W35: -1.4434979 | X35: 0 | Y35: 0 | Z35: 0
A36: =360+Observations!H23 -> 225 | B36: =Observations!I23 -> 16.12 | C36: =(0.0019279+1.02/TAN(RADIANS((B36+10.3/(B36+5.1)))))/60 -> 0.057037906 | D36: =Observations!F23 -> -0.055 | E36: =Observations!G23 -> 0.105 | F36: =$B$10 + $B$11*COS(RADIANS(B36)) + $B$12*SIN(RADIANS(B36)) + $B$13*SIN(RADIANS(B36))*COS(RADIANS(A36)) + $B$14*SIN(RADIANS(B36))*SIN(RADIANS(A36))+D36 -> -0.41674732 | G36: =$D$10 + $D$11*(COS($J$9*B36)) + $D$12*SIN($J$9*B36) + $D$13*SIN($J$9*B36)*COS($J$9*A36) + $D$14*SIN($J$9*B36)*SIN($J$9*A36)-F36 -> 0.023381437 | H36: =$E$10 + $E$11*(COS($J$9*B36)) + $E$12*SIN($J$9*B36) + $E$13*SIN($J$9*B36)*COS($J$9*A36) + $E$14*SIN($J$9*B36)*SIN($J$9*A36)-F36 -> 0.012971866 | I36: =1 -> 1 | J36: =COS(RADIANS(B36)) -> 0.96068229 | K36: =SIN(RADIANS(B36)) -> 0.27765001 | L36: =SIN(RADIANS(B36))*COS(RADIANS(A36)) -> -0.19632821 | M36: =SIN(RADIANS(B36))*SIN(RADIANS(A36)) -> -0.19632821 | N36: 0 | O36: =0 -> 0 | P36: =0 -> 0 | R36: 4 | S36: 1.9811687 | T36: 3.8311024 | U36: 1.5408429 | V36: 8.9086711 | W36: -0.41283549 | X36: 3.9392234 | Y36: 3.0570738 | Z36: 10.507803
F37: =$B$13*(-SIN(RADIANS(A36))) + $B$14*COS(RADIANS(A36)) + $B$15+ $B$16*COS(RADIANS(B36)) + $B$17*(1/TAN(RADIANS(B36)))+E36 -> -0.076303301 | G37: =$D$10*0 + $D$11*0 + $D$12*0 + $D$13*(-SIN($J$9*A36)) + $D$14*COS($J$9*A36) + $D$15+ $D$16*COS($J$9*B36) + $D$17*(1/TAN($J$9*B36))-F37+C36 -> -0.012280285 | H37: =$E$10*0 + $E$11*0 + $E$12*0 + $E$13*(-SIN($J$9*A36)) + $E$14*COS($J$9*A36) + $E$15+ $E$16*COS($J$9*B36) + $E$17*(1/TAN($J$9*B36))-F37+C36 -> 0.0088818 | I37: =0 -> 0 | J37: 1 | K37: =0 -> 0 | L37: =-SIN(RADIANS(A36)) -> 0.70710678 | M37: =COS(RADIANS(A36)) -> -0.70710678 | N37: 1 | O37: =COS(RADIANS(B36)) -> 0.96068229 | P37: =1/TAN(RADIANS(B36)) -> 3.4600477 | R37: 5 | S37: -2.0899484 | T37: -0.5815511 | U37: -1.4434979 | V37: -0.41283549 | W37: 8.6184509 | X37: 1.6540305 | Y37: 0.74248601 | Z37: -5.8089963
A38: =360+Observations!H24 -> 273.45 | B38: =Observations!I24 -> 49.5 | C38: =(0.0019279+1.02/TAN(RADIANS((B38+10.3/(B38+5.1)))))/60 -> 0.014454973 | D38: =Observations!F24 -> 0.08 | E38: =Observations!G24 -> 0.0925 | F38: =$B$10 + $B$11*COS(RADIANS(B38)) + $B$12*SIN(RADIANS(B38)) + $B$13*SIN(RADIANS(B38))*COS(RADIANS(A38)) + $B$14*SIN(RADIANS(B38))*SIN(RADIANS(A38))+D38 -> -0.286192 | G38: =$D$10 + $D$11*(COS($J$9*B38)) + $D$12*SIN($J$9*B38) + $D$13*SIN($J$9*B38)*COS($J$9*A38) + $D$14*SIN($J$9*B38)*SIN($J$9*A38)-F38 -> 0.0037864948 | H38: =$E$10 + $E$11*(COS($J$9*B38)) + $E$12*SIN($J$9*B38) + $E$13*SIN($J$9*B38)*COS($J$9*A38) + $E$14*SIN($J$9*B38)*SIN($J$9*A38)-F38 -> -0.014767622 | I38: =1 -> 1 | J38: =COS(RADIANS(B38)) -> 0.64944805 | K38: =SIN(RADIANS(B38)) -> 0.76040597 | L38: =SIN(RADIANS(B38))*COS(RADIANS(A38)) -> 0.045759314 | M38: =SIN(RADIANS(B38))*SIN(RADIANS(A38)) -> -0.75902788 | N38: 0 | O38: =0 -> 0 | P38: =0 -> 0 | R38: 6 | S38: 0 | T38: 6 | U38: 0 | V38: 3.9392234 | W38: 1.6540305 | X38: 13 | Y38: 10.369315 | Z38: 26.245539
F39: =$B$13*(-SIN(RADIANS(A38))) + $B$14*COS(RADIANS(A38)) + $B$15+ $B$16*COS(RADIANS(B38)) + $B$17*(1/TAN(RADIANS(B38)))+E38 -> -0.082307813 | G39: =$D$10*0 + $D$11*0 + $D$12*0 + $D$13*(-SIN($J$9*A38)) + $D$14*COS($J$9*A38) + $D$15+ $D$16*COS($J$9*B38) + $D$17*(1/TAN($J$9*B38))-F39+C38 -> -0.0079272451 | H39: =$E$10*0 + $E$11*0 + $E$12*0 + $E$13*(-SIN($J$9*A38)) + $E$14*COS($J$9*A38) + $E$15+ $E$16*COS($J$9*B38) + $E$17*(1/TAN($J$9*B38))-F39+C38 -> -0.0073939238 | I39: =0 -> 0 | J39: 0 | K39: =0 -> 0 | L39: =-SIN(RADIANS(A38)) -> 0.99818769 | M39: =COS(RADIANS(A38)) -> 0.060177479 | N39: 1 | O39: =COS(RADIANS(B38)) -> 0.64944805 | P39: =1/TAN(RADIANS(B38)) -> 0.85408069 | R39: 7 | S39: 0 | T39: 5.3781907 | U39: 0 | V39: 3.0570738 | W39: 0.74248601 | X39: 10.369315 | Y39: 8.472878 | Z39: 23.164175
A40: =Observations!H25 -> 5.3 | B40: =Observations!I25 -> 39.9 | C40: =(0.0019279+1.02/TAN(RADIANS((B40+10.3/(B40+5.1)))))/60 -> 0.020199634 | D40: =Observations!F25 -> 0 | E40: =Observations!G25 -> 0.05 | F40: =$B$10 + $B$11*COS(RADIANS(B40)) + $B$12*SIN(RADIANS(B40)) + $B$13*SIN(RADIANS(B40))*COS(RADIANS(A40)) + $B$14*SIN(RADIANS(B40))*SIN(RADIANS(A40))+D40 -> -0.35906705 | G40: =$D$10 + $D$11*(COS($J$9*B40)) + $D$12*SIN($J$9*B40) + $D$13*SIN($J$9*B40)*COS($J$9*A40) + $D$14*SIN($J$9*B40)*SIN($J$9*A40)-F40 -> 0.0094789278 | H40: =$E$10 + $E$11*(COS($J$9*B40)) + $E$12*SIN($J$9*B40) + $E$13*SIN($J$9*B40)*COS($J$9*A40) + $E$14*SIN($J$9*B40)*SIN($J$9*A40)-F40 -> 0.020086129 | I40: =1 -> 1 | J40: =COS(RADIANS(B40)) -> 0.76716515 | K40: =SIN(RADIANS(B40)) -> 0.64144963 | L40: =SIN(RADIANS(B40))*COS(RADIANS(A40)) -> 0.63870724 | M40: =SIN(RADIANS(B40))*SIN(RADIANS(A40)) -> 0.059251079 | N40: 0 | O40: =0 -> 0 | P40: =0 -> 0 | R40: 8 | S40: 0 | T40: 18.685192 | U40: 0 | V40: 10.507803 | W40: -5.8089963 | X40: 26.245539 | Y40: 23.164175 | Z40: 93.735875
F41: =$B$13*(-SIN(RADIANS(A40))) + $B$14*COS(RADIANS(A40)) + $B$15+ $B$16*COS(RADIANS(B40)) + $B$17*(1/TAN(RADIANS(B40)))+E40 -> -0.11789972 | G41: =$D$10*0 + $D$11*0 + $D$12*0 + $D$13*(-SIN($J$9*A40)) + $D$14*COS($J$9*A40) + $D$15+ $D$16*COS($J$9*B40) + $D$17*(1/TAN($J$9*B40))-F41+C40 -> 0.0034596441 | H41: =$E$10*0 + $E$11*0 + $E$12*0 + $E$13*(-SIN($J$9*A40)) + $E$14*COS($J$9*A40) + $E$15+ $E$16*COS($J$9*B40) + $E$17*(1/TAN($J$9*B40))-F41+C40 -> 0.040398127 | I41: =0 -> 0 | J41: 1 | K41: =0 -> 0 | L41: =-SIN(RADIANS(A40)) -> -0.092370587 | M41: =COS(RADIANS(A40)) -> 0.9957247 | N41: 1 | O41: =COS(RADIANS(B40)) -> 0.76716515 | P41: =1/TAN(RADIANS(B40)) -> 1.1959866
A42: =Observations!H26 -> 25 | B42: =Observations!I26 -> 49.4 | C42: =(0.0019279+1.02/TAN(RADIANS((B42+10.3/(B42+5.1)))))/60 -> 0.014505899 | D42: =Observations!F26 -> 0.05 | E42: =Observations!G26 -> 0.1 | F42: =$B$10 + $B$11*COS(RADIANS(B42)) + $B$12*SIN(RADIANS(B42)) + $B$13*SIN(RADIANS(B42))*COS(RADIANS(A42)) + $B$14*SIN(RADIANS(B42))*SIN(RADIANS(A42))+D42 -> -0.30688707 | G42: =$D$10 + $D$11*(COS($J$9*B42)) + $D$12*SIN($J$9*B42) + $D$13*SIN($J$9*B42)*COS($J$9*A42) + $D$14*SIN($J$9*B42)*SIN($J$9*A42)-F42 -> -0.03106292 | H42: =$E$10 + $E$11*(COS($J$9*B42)) + $E$12*SIN($J$9*B42) + $E$13*SIN($J$9*B42)*COS($J$9*A42) + $E$14*SIN($J$9*B42)*SIN($J$9*A42)-F42 -> 0.014708992 | I42: =1 -> 1 | J42: =COS(RADIANS(B42)) -> 0.65077422 | K42: =SIN(RADIANS(B42)) -> 0.75927131 | L42: =SIN(RADIANS(B42))*COS(RADIANS(A42)) -> 0.6881335 | M42: =SIN(RADIANS(B42))*SIN(RADIANS(A42)) -> 0.32088192 | N42: 0 | O42: =0 -> 0 | P42: =0 -> 0 | R42: Inverse of Phi T x Phi
F43: =$B$13*(-SIN(RADIANS(A42))) + $B$14*COS(RADIANS(A42)) + $B$15+ $B$16*COS(RADIANS(B42)) + $B$17*(1/TAN(RADIANS(B42)))+E42 -> -0.068864109 | G43: =$D$10*0 + $D$11*0 + $D$12*0 + $D$13*(-SIN($J$9*A42)) + $D$14*COS($J$9*A42) + $D$15+ $D$16*COS($J$9*B42) + $D$17*(1/TAN($J$9*B42))-F43+C42 -> -0.016513802 | H43: =$E$10*0 + $E$11*0 + $E$12*0 + $E$13*(-SIN($J$9*A42)) + $E$14*COS($J$9*A42) + $E$15+ $E$16*COS($J$9*B42) + $E$17*(1/TAN($J$9*B42))-F43+C42 -> -0.014841956 | I43: =0 -> 0 | J43: 0 | K43: =0 -> 0 | L43: =-SIN(RADIANS(A42)) -> -0.42261826 | M43: =COS(RADIANS(A42)) -> 0.90630779 | N43: 1 | O43: =COS(RADIANS(B42)) -> 0.65077422 | P43: =1/TAN(RADIANS(B42)) -> 0.85710366 | S43: 1 | T43: 2 | U43: 3 | V43: 4 | W43: 5 | X43: 6 | Y43: 7 | Z43: 8
A44: =Observations!H27 -> 10.22 | B44: =Observations!I27 -> 30.28 | C44: =(0.0019279+1.02/TAN(RADIANS((B44+10.3/(B44+5.1)))))/60 -> 0.028810653 | D44: =Observations!F27 -> -0.035 | E44: =Observations!G27 -> 0.085 | F44: =$B$10 + $B$11*COS(RADIANS(B44)) + $B$12*SIN(RADIANS(B44)) + $B$13*SIN(RADIANS(B44))*COS(RADIANS(A44)) + $B$14*SIN(RADIANS(B44))*SIN(RADIANS(A44))+D44 -> -0.39391904 | G44: =$D$10 + $D$11*(COS($J$9*B44)) + $D$12*SIN($J$9*B44) + $D$13*SIN($J$9*B44)*COS($J$9*A44) + $D$14*SIN($J$9*B44)*SIN($J$9*A44)-F44 -> 0.019588461 | H44: =$E$10 + $E$11*(COS($J$9*B44)) + $E$12*SIN($J$9*B44) + $E$13*SIN($J$9*B44)*COS($J$9*A44) + $E$14*SIN($J$9*B44)*SIN($J$9*A44)-F44 -> 0.020975918 | I44: =1 -> 1 | J44: =COS(RADIANS(B44)) -> 0.86357161 | K44: =SIN(RADIANS(B44)) -> 0.50422621 | L44: =SIN(RADIANS(B44))*COS(RADIANS(A44)) -> 0.49622602 | M44: =SIN(RADIANS(B44))*SIN(RADIANS(A44)) -> 0.089463989 | N44: 0 | O44: =0 -> 0 | P44: =0 -> 0 | R44: 1 | S44: {=MINVERSE(S33:Z40)} -> 2.3274829 | T44: -1.4612347 | U44: -1.9024601 | V44: 0.26905254 | W44: 0.443008 | X44: -3.8419339 | Y44: 5.436706 | Z44: 0.020766313
F45: =$B$13*(-SIN(RADIANS(A44))) + $B$14*COS(RADIANS(A44)) + $B$15+ $B$16*COS(RADIANS(B44)) + $B$17*(1/TAN(RADIANS(B44)))+E44 -> -0.083054303 | G45: =$D$10*0 + $D$11*0 + $D$12*0 + $D$13*(-SIN($J$9*A44)) + $D$14*COS($J$9*A44) + $D$15+ $D$16*COS($J$9*B44) + $D$17*(1/TAN($J$9*B44))-F45+C44 -> -0.041381819 | H45: =$E$10*0 + $E$11*0 + $E$12*0 + $E$13*(-SIN($J$9*A44)) + $E$14*COS($J$9*A44) + $E$15+ $E$16*COS($J$9*B44) + $E$17*(1/TAN($J$9*B44))-F45+C44 -> 0.011884917 | I45: =0 -> 0 | J45: 1 | K45: =0 -> 0 | L45: =-SIN(RADIANS(A44)) -> -0.17742828 | M45: =COS(RADIANS(A44)) -> 0.98413373 | N45: 1 | O45: =COS(RADIANS(B44)) -> 0.86357161 | P45: =1/TAN(RADIANS(B44)) -> 1.712667 | R45: 2 | S45: -1.4612347 | T45: 1.2917878 | U45: 0.71082832 | V45: -0.1940606 | W45: -0.41249444 | X45: 3.3298082 | Y45: -4.7029489 | Z45: -0.031439553
A46: =Observations!H28 -> 122.8 | B46: =Observations!I28 -> 31 | C46: =(0.0019279+1.02/TAN(RADIANS((B46+10.3/(B46+5.1)))))/60 -> 0.028008366 | D46: =Observations!F28 -> -0.035 | E46: =Observations!G28 -> 0.1 | F46: =$B$10 + $B$11*COS(RADIANS(B46)) + $B$12*SIN(RADIANS(B46)) + $B$13*SIN(RADIANS(B46))*COS(RADIANS(A46)) + $B$14*SIN(RADIANS(B46))*SIN(RADIANS(A46))+D46 -> -0.39164533 | G46: =$D$10 + $D$11*(COS($J$9*B46)) + $D$12*SIN($J$9*B46) + $D$13*SIN($J$9*B46)*COS($J$9*A46) + $D$14*SIN($J$9*B46)*SIN($J$9*A46)-F46 -> 0.026546682 | H46: =$E$10 + $E$11*(COS($J$9*B46)) + $E$12*SIN($J$9*B46) + $E$13*SIN($J$9*B46)*COS($J$9*A46) + $E$14*SIN($J$9*B46)*SIN($J$9*A46)-F46 -> 0.023119866 | I46: =1 -> 1 | J46: =COS(RADIANS(B46)) -> 0.8571673 | K46: =SIN(RADIANS(B46)) -> 0.51503807 | L46: =SIN(RADIANS(B46))*COS(RADIANS(A46)) -> -0.27900035 | M46: =SIN(RADIANS(B46))*SIN(RADIANS(A46)) -> 0.43292381 | N46: 0 | O46: =0 -> 0 | P46: =0 -> 0 | R46: 3 | S46: -1.9024601 | T46: 0.71082832 | U46: 2.4357196 | V46: -0.24010331 | W46: -0.13436493 | X46: 1.9990653 | Y46: -2.8745928 | Z46: 0.027540054
F47: =$B$13*(-SIN(RADIANS(A46))) + $B$14*COS(RADIANS(A46)) + $B$15+ $B$16*COS(RADIANS(B46)) + $B$17*(1/TAN(RADIANS(B46)))+E46 -> -0.081030404 | G47: =$D$10*0 + $D$11*0 + $D$12*0 + $D$13*(-SIN($J$9*A46)) + $D$14*COS($J$9*A46) + $D$15+ $D$16*COS($J$9*B46) + $D$17*(1/TAN($J$9*B46))-F47+C46 -> 0.029346802 | H47: =$E$10*0 + $E$11*0 + $E$12*0 + $E$13*(-SIN($J$9*A46)) + $E$14*COS($J$9*A46) + $E$15+ $E$16*COS($J$9*B46) + $E$17*(1/TAN($J$9*B46))-F47+C46 -> -0.0036720507 | I47: =0 -> 0 | J47: 0 | K47: =0 -> 0 | L47: =-SIN(RADIANS(A46)) -> -0.8405666 | M47: =COS(RADIANS(A46)) -> -0.54170821 | N47: 1 | O47: =COS(RADIANS(B46)) -> 0.8571673 | P47: =1/TAN(RADIANS(B46)) -> 1.6642795 | R47: 4 | S47: 0.26905254 | T47: -0.1940606 | U47: -0.24010331 | V47: 0.18911034 | W47: 0.061945763 | X47: -0.83769559 | Y47: 1.1565571 | Z47: -0.029936784
R48: 5 | S48: 0.443008 | T48: -0.41249444 | U48: -0.13436493 | V48: 0.061945763 | W48: 0.30435005 | X48: -1.2766681 | Y48: 1.6664617 | Z48: 0.03978439
R49: 6 | S49: -3.8419339 | T49: 3.3298082 | U49: 1.9990653 | V49: -0.83769559 | W49: -1.2766681 | X49: 15.646078 | Y49: -21.876516 | Z49: 0.37637406
R50: 7 | S50: 5.436706 | T50: -4.7029489 | U50: -2.8745928 | V50: 1.1565571 | W50: 1.6664617 | X50: -21.876516 | Y50: 31.061311 | Z50: -0.63951591
R51: 8 | S51: 0.020766313 | T51: -0.031439553 | U51: 0.027540054 | V51: -0.029936784 | W51: 0.03978439 | X51: 0.37637406 | Y51: -0.63951591 | Z51: 0.075412424
R54: (Inverse of Phi T x Phi) x Phi T
A55: Offsets before | D55: Offsets After Sol 1 | F55: Offsets After Sol 2 | S55: 1 | T55: 2 | U55: 3 | V55: 4 | W55: 5 | X55: 6 | Y55: 7 | Z55: 8 | AA55: 9 | AB55: 10 | AC55: 11 | AD55: 12 | AE55: 13 | AF55: 14 | AG55: 15 | AH55: 16 | AI55: 17 | AJ55: 18 | AK55: 19 | AL55: 20 | AM55: 21 | AN55: 22 | AO55: 23 | AP55: 24 | AQ55: 25 | AR55: 26
A56: Xel | B56: El | D56: Xel | E56: El | F56: Xel | G56: El | I56: Az | J56: El | R56: 1 | S56: {=MMULT(S44:Z51,S22:AR29)} -> -0.33741701 | T56: 0.46691115 | U56: 0.56093998 | V56: 0.029620855 | W56: -0.39631493 | X56: -0.27028818 | Y56: 0.037397944 | Z56: -0.20702104 | AA56: -0.084699036 | AB56: 0.39832029 | AC56: 0.2424322 | AD56: 0.039071418 | AE56: 0.17915529 | AF56: 0.16008648 | AG56: 0.25568495 | AH56: -0.13137398 | AI56: -0.39209891 | AJ56: 0.0018843879 | AK56: 0.18423673 | AL56: -0.69121944 | AM56: 0.25936297 | AN56: 0.0017281972 | AO56: 0.27947597 | AP56: -0.18437619 | AQ56: 0.21184385 | AR56: 0.38665604
A57: =D22 -> 0.11 | B57: =E22 -> 0.05 | D57: =G22 -> -0.045442933 | E57: =G23 -> 0.025616074 | F57: =H22 -> -0.08121033 | G57: =H23 -> 0.039209045 | I57: =A22 -> 266.52 | J57: =B22 -> 41.94 | R57: 2 | S57: 0.25779497 | T57: -0.37211248 | U57: -0.03284826 | V57: -0.044961191 | W57: 0.18711774 | X57: 0.26482101 | Y57: 0.057402497 | Z57: 0.19205388 | AA57: -0.0045951942 | AB57: -0.35258702 | AC57: 0.1076632 | AD57: 0.0020602461 | AE57: -0.14902517 | AF57: -0.17007099 | AG57: 0.096208405 | AH57: 0.14923003 | AI57: 0.22244723 | AJ57: 0.030103555 | AK57: -0.16264812 | AL57: 0.58325087 | AM57: -0.34676249 | AN57: -0.049529987 | AO57: -0.12046639 | AP57: 0.13489957 | AQ57: -0.1122884 | AR57: -0.36715751
A58: =D24 -> -0.05 | B58: =E24 -> 0.025 | D58: =G24 -> -0.019803136 | E58: =G25 -> 0.094996081 | F58: =H24 -> 0.0044826326 | G58: =H25 -> 0.11693392 | I58: =A24 -> -144.99 | J58: =B24 -> 7.7 | R58: 3 | S58: 0.35358243 | T58: -0.34004028 | U58: -0.83501037 | V58: 0.037211078 | W58: 0.56087011 | X58: 0.054935466 | Y58: -0.035572566 | Z58: 0.096508822 | AA58: 0.27700917 | AB58: -0.18114569 | AC58: -0.46901139 | AD58: -0.1149076 | AE58: 0.091971044 | AF58: -0.027441946 | AG58: -0.46978367 | AH58: -0.031155144 | AI58: 0.50232143 | AJ58: -0.092065812 | AK58: 0.043937055 | AL58: 0.42593179 | AM58: 0.20116223 | AN58: 0.13165521 | AO58: -0.19162162 | AP58: 0.18501194 | AQ58: -0.029853852 | AR58: -0.14449783
A59: =D26 -> 0.08 | B59: =E26 -> 0.06 | D59: =G26 -> 0.011927979 | E59: =G27 -> 0.030321255 | F59: =H26 -> 0.0071402404 | G59: =H27 -> 0.023052013 | I59: =A26 -> 277.41 | J59: =B26 -> 53.52 | R59: 4 | S59: -0.084769276 | T59: 0.17428703 | U59: 0.019056147 | V59: -0.049285276 | W59: -0.069165036 | X59: 0.023310554 | Y59: 0.038416859 | Z59: 0.052156452 | AA59: 0.048677546 | AB59: 0.081333939 | AC59: -0.023412447 | AD59: 0.12130587 | AE59: -0.051527163 | AF59: -0.13305309 | AG59: -0.033332116 | AH59: 0.065663984 | AI59: -0.077920721 | AJ59: 0.080355092 | AK59: 0.090618337 | AL59: -0.13607718 | AM59: 0.1104698 | AN59: -0.13447653 | AO59: 0.079784329 | AP59: -0.056848652 | AQ59: -0.046896256 | AR59: -0.088672199
A60: =D28 -> -0.015 | B60: =E28 -> -0.01 | D60: =G28 -> 0.028222422 | E60: =G29 -> 0.044834725 | F60: =H28 -> 0.01015439 | G60: =H29 -> 0.1047 | I60: =A28 -> 323.6 | J60: =B28 -> 33.22 | R60: 5 | S60: -0.15917802 | T60: 0.050556976 | U60: -0.013963662 | V60: 0.042785698 | W60: -0.14652501 | X60: -0.15578891 | Y60: -0.047316899 | Z60: 0.047434425 | AA60: -0.026644848 | AB60: 0.18065614 | AC60: -0.076024195 | AD60: -0.028041649 | AE60: 0.16486039 | AF60: -0.068801022 | AG60: -0.062488726 | AH60: -0.12197211 | AI60: -0.15523318 | AJ60: -0.080260204 | AK60: 0.097966586 | AL60: -0.065802696 | AM60: 0.21283521 | AN60: 0.091576969 | AO60: 0.077006666 | AP60: 0.10661412 | AQ60: 0.1347057 | AR60: 0.0010422631
A61: =D30 -> 0.05 | B61: =E30 -> 0.045 | D61: =G30 -> -0.00095453729 | E61: =G31 -> 0.011879318 | F61: =H30 -> 0.0027707978 | G61: =H31 -> 0.041388901 | I61: =A30 -> 325.1 | J61: =B30 -> 47.06 | R61: 6 | S61: 0.85668197 | T61: -0.96643145 | U61: -0.084234539 | V61: 0.64540465 | W61: 0.67623714 | X61: 1.9225165 | Y61: 0.084552602 | Z61: -0.2753835 | AA61: -0.078337062 | AB61: -0.43301436 | AC61: 0.34428246 | AD61: -0.95143455 | AE61: -0.37317811 | AF61: -0.27609072 | AG61: 0.32710369 | AH61: -0.42782229 | AI61: 0.77139911 | AJ61: 0.84686747 | AK61: -0.61580751 | AL61: 1.4492927 | AM61: -1.1432537 | AN61: 0.92896859 | AO61: -0.48832704 | AP61: -0.37922937 | AQ61: -0.27711902 | AR61: -1.0836436
A62: =D32 -> -0.0025 | B62: =E32 -> 0.0465 | D62: =G32 -> -0.02738536 | E62: =G33 -> 0.028158872 | F62: =H32 -> -0.039220468 | G62: =H33 -> 0.066802809 | I62: =A32 -> 245.02 | J62: =B32 -> 16.42 | R62: 7 | S62: -1.1414492 | T62: 1.5698071 | U62: 0.13598275 | V62: -1.2295686 | W62: -0.87957155 | X62: -2.5203091 | Y62: -0.1042934 | Z62: 0.45670215 | AA62: 0.12491822 | AB62: 0.71681032 | AC62: -0.45208096 | AD62: 1.3895475 | AE62: 0.44651121 | AF62: 0.68412626 | AG62: -0.43370268 | AH62: 0.68727408 | AI62: -1.0154401 | AJ62: -0.99526178 | AK62: 0.82230208 | AL62: -1.9626567 | AM62: 1.5241554 | AN62: -1.1892019 | AO62: 0.64892987 | AP62: 0.58373898 | AQ62: 0.32373837 | AR62: 1.8089917
A63: =D34 -> 0 | B63: =E34 -> 0.075 | D63: =G34 -> 0.001716482 | E63: =G35 -> 0.058364897 | F63: =H34 -> 0.0030368293 | G63: =H35 -> 0.01814573 | I63: =A34 -> 119.7 | J63: =B34 -> 35.5 | R63: 8 | S63: -0.0095398345 | T63: -0.047692667 | U63: -0.0064727024 | V63: 0.21918651 | W63: -0.010608327 | X63: 0.027360594 | Y63: -0.016582502 | Z63: -0.06065565 | AA63: -0.01512805 | AB63: 0.026392041 | AC63: -0.0082264635 | AD63: -0.056536746 | AE63: 0.039844635 | AF63: -0.032248935 | AG63: -0.0037239757 | AH63: -0.057806833 | AI63: -0.01027777 | AJ63: -0.0020384104 | AK63: -0.0024510315 | AL63: -0.01310799 | AM63: 0.013382223 | AN63: 0.073538591 | AO63: -0.0037937165 | AP63: -0.033712114 | AQ63: 0.033577515 | AR63: -0.042678387
A64: =D36 -> -0.055 | B64: =E36 -> 0.105 | D64: =G36 -> 0.023381437 | E64: =G37 -> -0.012280285 | F64: =H36 -> 0.012971866 | G64: =H37 -> 0.0088818 | I64: =A36 -> 225 | J64: =B36 -> 16.12
A65: =D38 -> 0.08 | B65: =E38 -> 0.0925 | D65: =G38 -> 0.0037864948 | E65: =G39 -> -0.0079272451 | F65: =H38 -> -0.014767622 | G65: =H39 -> -0.0073939238 | I65: =A38 -> 273.45 | J65: =B38 -> 49.5 | R65: Returned Coefficients
A66: =D40 -> 0 | B66: =E40 -> 0.05 | D66: =G40 -> 0.0094789278 | E66: =G41 -> 0.0034596441 | F66: =H40 -> 0.020086129 | G66: =H41 -> 0.040398127 | I66: =A40 -> 5.3 | J66: =B40 -> 39.9
A67: =D42 -> 0.05 | B67: =E42 -> 0.1 | D67: =G42 -> -0.03106292 | E67: =G43 -> -0.016513802 | F67: =H42 -> 0.014708992 | G67: =H43 -> -0.014841956 | I67: =A42 -> 25 | J67: =B42 -> 49.4 | R67: P1 = | S67: {=MMULT(S56:AR63,F22:F47)} -> -0.49525646 | T67: =B10 -> -0.36 | U67: =S67-T67 -> -0.13525646
A68: =D44 -> -0.035 | B68: =E44 -> 0.085 | D68: =G44 -> 0.019588461 | E68: =G45 -> -0.041381819 | F68: =H44 -> 0.020975918 | G68: =H45 -> 0.011884917 | I68: =A44 -> 10.22 | J68: =B44 -> 30.28 | R68: P2 = | S68: 0.030049052 | T68: =B11 -> 0 | U68: =S68-T68 -> 0.030049052
A69: =D46 -> -0.035 | B69: =E46 -> 0.1 | D69: =G46 -> 0.026546682 | E69: =G47 -> 0.029346802 | F69: =H46 -> 0.023119866 | G69: =H47 -> -0.0036720507 | I69: =A46 -> 122.8 | J69: =B46 -> 31 | R69: P3 = | S69: 0.2195617 | T69: =B12 -> 0 | U69: =S69-T69 -> 0.2195617
R70: P4 = | S70: -0.025164705 | T70: =B13 -> 0.0007 | U70: =S70-T70 -> -0.025864705
R71: P5 = | S71: -0.036271602 | T71: =B14 -> 0.0082 | U71: =S71-T71 -> -0.044471602
R72: P6 = | S72: 0.043509767 | T72: =B15 -> -0.176 | U72: =S72-T72 -> 0.21950977
R73: P7 = | S73: -0.17528946 | T73: =B16 -> 0 | U73: =S73-T73 -> -0.17528946
R74: P8 = | S74: -0.008262181 | T74: =B17 -> 0 | U74: =S74-T74 -> -0.008262181
A76: Fixed P4 and P5 solution
A78: Matrix Phi | K78: Matrix transposed
A80: P1 | B80: P2 | C80: P3 | D80: P7 | E80: P8 | F80: P9 | L80: 1 | M80: 2 | N80: 3 | O80: 4 | P80: 5 | Q80: 6 | R80: 7 | S80: 8 | T80: 9 | U80: 10 | V80: 11 | W80: 12 | X80: 13 | Y80: 14 | Z80: 15 | AA80: 16 | AB80: 17 | AC80: 18 | AD80: 19 | AE80: 20 | AF80: 21 | AG80: 22 | AH80: 23 | AI80: 24 | AJ80: 25 | AK80: 26
A81: =1 -> 1 | B81: =COS(RADIANS(B22)) -> 0.74384513 | C81: =SIN(RADIANS(B22)) -> 0.66835202 | D81: 0 | E81: 0 | F81: 0 | K81: 1 | L81: {=TRANSPOSE(A81:F106)} -> 1 | M81: 0 | N81: 1 | O81: 0 | P81: 1 | Q81: 0 | R81: 1 | S81: 0 | T81: 1 | U81: 0 | V81: 1 | W81: 0 | X81: 1 | Y81: 0 | Z81: 1 | AA81: 0 | AB81: 1 | AC81: 0 | AD81: 1 | AE81: 0 | AF81: 1 | AG81: 0 | AH81: 1 | AI81: 0 | AJ81: 1 | AK81: 0
A82: =0 -> 0 | B82: 0 | C82: =0 -> 0 | D82: 1 | E82: =COS(RADIANS(B22)) -> 0.74384513 | F82: =1/TAN(RADIANS(B22)) -> 1.1129541 | K82: 2 | L82: 0.74384513 | M82: 0 | N82: 0.9909832 | O82: 0 | P82: 0.59454215 | Q82: 0 | R82: 0.83657313 | S82: 0 | T82: 0.68123211 | U82: 0 | V82: 0.95921536 | W82: 0 | X82: 0.81411552 | Y82: 0 | Z82: 0.96068229 | AA82: 0 | AB82: 0.64944805 | AC82: 0 | AD82: 0.76716515 | AE82: 0 | AF82: 0.65077422 | AG82: 0 | AH82: 0.86357161 | AI82: 0 | AJ82: 0.8571673 | AK82: 0
A83: =1 -> 1 | B83: =COS(RADIANS(B24)) -> 0.9909832 | C83: =SIN(RADIANS(B24)) -> 0.13398619 | D83: 0 | E83: 0 | F83: 0 | K83: 3 | L83: 0.66835202 | M83: 0 | N83: 0.13398619 | O83: 0 | P83: 0.80406444 | Q83: 0 | R83: 0.54785528 | S83: 0 | T83: 0.73206749 | U83: 0 | V83: 0.2826763 | W83: 0 | X83: 0.58070296 | Y83: 0 | Z83: 0.27765001 | AA83: 0 | AB83: 0.76040597 | AC83: 0 | AD83: 0.64144963 | AE83: 0 | AF83: 0.75927131 | AG83: 0 | AH83: 0.50422621 | AI83: 0 | AJ83: 0.51503807 | AK83: 0
A84: =0 -> 0 | B84: 0 | C84: =0 -> 0 | D84: 1 | E84: =COS(RADIANS(B24)) -> 0.9909832 | F84: =1/TAN(RADIANS(B24)) -> 7.3961595 | K84: 4 | L84: 0 | M84: 1 | N84: 0 | O84: 1 | P84: 0 | Q84: 1 | R84: 0 | S84: 1 | T84: 0 | U84: 1 | V84: 0 | W84: 1 | X84: 0 | Y84: 1 | Z84: 0 | AA84: 1 | AB84: 0 | AC84: 1 | AD84: 0 | AE84: 1 | AF84: 0 | AG84: 1 | AH84: 0 | AI84: 1 | AJ84: 0 | AK84: 1
A85: =1 -> 1 | B85: =COS(RADIANS(B26)) -> 0.59454215 | C85: =SIN(RADIANS(B26)) -> 0.80406444 | D85: 0 | E85: 0 | F85: 0 | K85: 5 | L85: 0 | M85: 0.74384513 | N85: 0 | O85: 0.9909832 | P85: 0 | Q85: 0.59454215 | R85: 0 | S85: 0.83657313 | T85: 0 | U85: 0.68123211 | V85: 0 | W85: 0.95921536 | X85: 0 | Y85: 0.81411552 | Z85: 0 | AA85: 0.96068229 | AB85: 0 | AC85: 0.64944805 | AD85: 0 | AE85: 0.76716515 | AF85: 0 | AG85: 0.65077422 | AH85: 0 | AI85: 0.86357161 | AJ85: 0 | AK85: 0.8571673
A86: =0 -> 0 | B86: 0 | C86: =0 -> 0 | D86: 1 | E86: =COS(RADIANS(B26)) -> 0.59454215 | F86: =1/TAN(RADIANS(B26)) -> 0.73942102 | K86: 6 | L86: 0 | M86: 1.1129541 | N86: 0 | O86: 7.3961595 | P86: 0 | Q86: 0.73942102 | R86: 0 | S86: 1.5269966 | T86: 0 | U86: 0.93055917 | V86: 0 | W86: 3.3933349 | X86: 0 | Y86: 1.4019483 | Z86: 0 | AA86: 3.4600477 | AB86: 0 | AC86: 0.85408069 | AD86: 0 | AE86: 1.1959866 | AF86: 0 | AG86: 0.85710366 | AH86: 0 | AI86: 1.712667 | AJ86: 0 | AK86: 1.6642795
A87: =1 -> 1 | B87: =COS(RADIANS(B28)) -> 0.83657313 | C87: =SIN(RADIANS(B28)) -> 0.54785528 | D87: 0 | E87: 0 | F87: 0
A88: =0 -> 0 | B88: 0 | C88: =0 -> 0 | D88: 1 | E88: =COS(RADIANS(B28)) -> 0.83657313 | F88: =1/TAN(RADIANS(B28)) -> 1.5269966 | K88: Phi T x Phi
A89: =1 -> 1 | B89: =COS(RADIANS(B30)) -> 0.68123211 | C89: =SIN(RADIANS(B30)) -> 0.73206749 | D89: 0 | E89: 0 | F89: 0 | L89: 1 | M89: 2 | N89: 3 | O89: 4 | P89: 5 | Q89: 6
A90: =0 -> 0 | B90: 0 | C90: =0 -> 0 | D90: 1 | E90: =COS(RADIANS(B30)) -> 0.68123211 | F90: =1/TAN(RADIANS(B30)) -> 0.93055917 | K90: 1 | L90: {=MMULT(L81:AK86,A81:F106)} -> 13 | M90: 10.369315 | N90: 7.2077459 | O90: 0 | P90: 0 | Q90: 0
A91: =1 -> 1 | B91: =COS(RADIANS(B32)) -> 0.95921536 | C91: =SIN(RADIANS(B32)) -> 0.2826763 | D91: 0 | E91: 0 | F91: 0 | K91: 2 | L91: 10.369315 | M91: 8.472878 | N91: 5.4326131 | O91: 0 | P91: 0 | Q91: 0
A92: =0 -> 0 | B92: 0 | C92: =0 -> 0 | D92: 1 | E92: =COS(RADIANS(B32)) -> 0.95921536 | F92: =1/TAN(RADIANS(B32)) -> 3.3933349 | K92: 3 | L92: 7.2077459 | M92: 5.4326131 | N92: 4.527122 | O92: 0 | P92: 0 | Q92: 0
A93: =1 -> 1 | B93: =COS(RADIANS(B34)) -> 0.81411552 | C93: =SIN(RADIANS(B34)) -> 0.58070296 | D93: 0 | E93: 0 | F93: 0 | K93: 4 | L93: 0 | M93: 0 | N93: 0 | O93: 13 | P93: 10.369315 | Q93: 26.245539
A94: =0 -> 0 | B94: 0 | C94: =0 -> 0 | D94: 1 | E94: =COS(RADIANS(B34)) -> 0.81411552 | F94: =1/TAN(RADIANS(B34)) -> 1.4019483 | K94: 5 | L94: 0 | M94: 0 | N94: 0 | O94: 10.369315 | P94: 8.472878 | Q94: 23.164175
A95: =1 -> 1 | B95: =COS(RADIANS(B36)) -> 0.96068229 | C95: =SIN(RADIANS(B36)) -> 0.27765001 | D95: 0 | E95: 0 | F95: 0 | K95: 6 | L95: 0 | M95: 0 | N95: 0 | O95: 26.245539 | P95: 23.164175 | Q95: 93.735875
A96: =0 -> 0 | B96: 0 | C96: =0 -> 0 | D96: 1 | E96: =COS(RADIANS(B36)) -> 0.96068229 | F96: =1/TAN(RADIANS(B36)) -> 3.4600477
A97: =1 -> 1 | B97: =COS(RADIANS(B38)) -> 0.64944805 | C97: =SIN(RADIANS(B38)) -> 0.76040597 | D97: 0 | E97: 0 | F97: 0 | K97: Inverse of Phi T x Phi
A98: =0 -> 0 | B98: 0 | C98: =0 -> 0 | D98: 1 | E98: =COS(RADIANS(B38)) -> 0.64944805 | F98: =1/TAN(RADIANS(B38)) -> 0.85408069 | L98: 1 | M98: 2 | N98: 3 | O98: 4 | P98: 5 | Q98: 6
A99: =1 -> 1 | B99: =COS(RADIANS(B40)) -> 0.76716515 | C99: =SIN(RADIANS(B40)) -> 0.64144963 | D99: 0 | E99: 0 | F99: 0 | K99: 1 | L99: {=MINVERSE(L90:Q95)} -> 97.732323 | M99: -86.039021 | N99: -52.354019 | O99: 0 | P99: 0 | Q99: 0
A100: =0 -> 0 | B100: 0 | C100: =0 -> 0 | D100: 1 | E100: =COS(RADIANS(B40)) -> 0.76716515 | F100: =1/TAN(RADIANS(B40)) -> 1.1959866 | K100: 2 | L100: -86.039021 | M100: 76.256638 | N100: 45.475821 | O100: 0 | P100: 0 | Q100: 0
A101: =1 -> 1 | B101: =COS(RADIANS(B42)) -> 0.65077422 | C101: =SIN(RADIANS(B42)) -> 0.75927131 | D101: 0 | E101: 0 | F101: 0 | K101: 3 | L101: -52.354019 | M101: 45.475821 | N101: 29.003399 | O101: 0 | P101: 0 | Q101: 0
A102: =0 -> 0 | B102: 0 | C102: =0 -> 0 | D102: 1 | E102: =COS(RADIANS(B42)) -> 0.65077422 | F102: =1/TAN(RADIANS(B42)) -> 0.85710366 | K102: 4 | L102: 0 | M102: 0 | N102: 0 | O102: 6.0870487 | P102: -8.6006276 | Q102: 0.42106148
A103: =1 -> 1 | B103: =COS(RADIANS(B44)) -> 0.86357161 | C103: =SIN(RADIANS(B44)) -> 0.50422621 | D103: 0 | E103: 0 | F103: 0 | K103: 5 | L103: 0 | M103: 0 | N103: 0 | O103: -8.6006276 | P103: 12.515995 | Q103: -0.68484542
A104: =0 -> 0 | B104: 0 | C104: =0 -> 0 | D104: 1 | E104: =COS(RADIANS(B44)) -> 0.86357161 | F104: =1/TAN(RADIANS(B44)) -> 1.712667 | K104: 6 | L104: 0 | M104: 0 | N104: 0 | O104: 0.42106148 | P104: -0.68484542 | Q104: 0.06201354
A105: =1 -> 1 | B105: =COS(RADIANS(B46)) -> 0.8571673 | C105: =SIN(RADIANS(B46)) -> 0.51503807 | D105: 0 | E105: 0 | F105: 0
A106: =0 -> 0 | B106: 0 | C106: =0 -> 0 | D106: 1 | E106: =COS(RADIANS(B46)) -> 0.8571673 | F106: =1/TAN(RADIANS(B46)) -> 1.6642795
K107: (Inverse of Phi T x Phi) x Phi T
L108: 1 | M108: 2 | N108: 3 | O108: 4 | P108: 5 | Q108: 6 | R108: 7 | S108: 8 | T108: 9 | U108: 10 | V108: 11 | W108: 12 | X108: 13 | Y108: 14 | Z108: 15 | AA108: 16 | AB108: 17 | AC108: 18 | AD108: 19 | AE108: 20 | AF108: 21 | AG108: 22 | AH108: 23 | AI108: 24 | AJ108: 25 | AK108: 26
K109: 1 | L109: {=MMULT(L99:Q104,L81:AK86)} -> -1.2582984 | M109: 0 | N109: 5.454383 | O109: 0 | P109: 4.4824928 | Q109: 0 | R109: -2.9280357 | S109: 0 | T109: 0.79310333 | U109: 0 | V109: 0.40313159 | W109: 0 | X109: -2.7155131 | Y109: 0 | Z109: 0.54006459 | AA109: 0 | AB109: 2.04414 | AC109: 0 | AD109: -1.8562821 | AE109: 0 | AF109: 1.9894417 | AG109: 0 | AH109: -2.966802 | AI109: 0 | AJ109: -2.9818259 | AK109: 0
K110: 2 | L110: 1.0779642 | M110: 0 | N110: -4.3768424 | O110: 0 | P110: -4.1357451 | Q110: 0 | R110: 2.6694011 | S110: 0 | T110: -0.7991807 | U110: 0 | V110: -0.037545897 | W110: 0 | X110: 2.4506346 | Y110: 0 | Z110: -0.15425717 | AA110: 0 | AB110: -1.9342112 | AC110: 0 | AD110: 1.6328624 | AE110: 0 | AF110: -1.8846815 | AG110: 0 | AH110: 2.7441472 | AI110: 0 | AJ110: 2.7474544 | AK110: 0
K111: 3 | L111: 0.85742886 | M111: 0 | N111: -3.40219 | O111: 0 | P111: -1.996125 | Q111: 0 | R111: 1.5794955 | S111: 0 | T111: -0.14198428 | U111: 0 | V111: -0.5343398 | W111: 0 | X111: 1.5109117 | Y111: 0 | Z111: -0.61340931 | AA111: 0 | AB111: -0.76547859 | AC111: 0 | AD111: 1.1376653 | AE111: 0 | AF111: -0.73807891 | AG111: 0 | AH111: 1.5418826 | AI111: 0 | AJ111: 1.5642221 | AK111: 0
K112: 4 | L112: 0 | M112: 0.15813587 | N112: 0 | O112: 0.67820914 | P112: 0 | Q112: 1.2849548 | R112: 0 | S112: -0.46504577 | T112: 0 | U112: 0.61984761 | V112: 0 | W112: -0.73400277 | X112: 0 | Y112: -0.32454925 | Z112: 0 | AA112: -0.71852911 | AB112: 0 | AC112: 0.86100838 | AD112: 0 | AE112: -0.0074691827 | AF112: 0 | AG112: 0.85087535 | AH112: 0 | AI112: -0.619071 | AJ112: 0 | AK112: -0.58436404
K113: 5 | L113: 0 | M113: -0.052867323 | N113: 0 | O113: -1.262713 | P113: 0 | Q113: -1.6657302 | R113: 0 | S113: 0.82416072 | T113: 0 | U113: -0.71161916 | V113: 0 | W113: 1.080997 | X113: 0 | Y113: 0.62872015 | Z113: 0 | AA113: 1.0536692 | AB113: 0 | AC113: -1.0570524 | AD113: 0 | AE113: 0.18214155 | AF113: 0 | AG113: -1.0425244 | AH113: 0 | AI113: 1.034918 | AJ113: 0 | AK113: 0.98789972
...

Sheet 8 component model corrections
A1: Solution
A2: -0.49525646 | B2: -0.36
A3: 0.030049052 | B3: 0
A4: 0.2195617 | B4: 0
A5: -0.025164705 | B5: 0.0007
A6: -0.036271602 | B6: 0.0082
A7: 0.043509767 | B7: -0.176
A8: -0.17528946 | B8: 0
A9: -0.008262181 | B9: 0
A10: Az corrections (old - new)
A11: Az/El | B11: 0 | C11: 15 | D11: 30 | E11: 45 | F11: 60 | G11: 75 | H11: 90 | I11: 105 | J11: 120 | K11: 135 | L11: 150 | M11: 165 | N11: 180 | O11: 195 | P11: 210 | Q11: 225 | R11: 240 | S11: 255 | T11: 270 | U11: 285 | V11: 300 | W11: 315 | X11: 330 | Y11: 345 | Z11: 360
A12: 5 | B12: =$A$2 + $A$3*(COS(RADIANS($A12))) + $A$4*SIN(RADIANS($A12)) + $A$5*SIN(RADIANS($A12))*COS(RADIANS(B$11)) + $A$6*SIN(RADIANS($A12))*SIN(RADIANS(B$11)) - ($B$2 + $B$3*(COS(RADIANS($A12))) + $B$4*SIN(RADIANS($A12)) + $B$5*SIN(RADIANS($A12))*COS(RADIANS(B$11)) + $B$6*SIN(RADIANS($A12))*SIN(RADIANS(B$11))) -> -0.088439953 | C12: =$A$2 + $A$3*(COS(RADIANS($A12))) + $A$4*SIN(RADIANS($A12)) + $A$5*SIN(RADIANS($A12))*COS(RADIANS(C$11)) + $A$6*SIN(RADIANS($A12))*SIN(RADIANS(C$11)) - ($B$2 + $B$3*(COS(RADIANS($A12))) + $B$4*SIN(RADIANS($A12)) + $B$5*SIN(RADIANS($A12))*COS(RADIANS(C$11)) + $B$6*SIN(RADIANS($A12))*SIN(RADIANS(C$11))) -> -0.089366312 | D12: =$A$2 + $A$3*(COS(RADIANS($A12))) + $A$4*SIN(RADIANS($A12)) + $A$5*SIN(RADIANS($A12))*COS(RADIANS(D$11)) + $A$6*SIN(RADIANS($A12))*SIN(RADIANS(D$11)) - ($B$2 + $B$3*(COS(RADIANS($A12))) + $B$4*SIN(RADIANS($A12)) + $B$5*SIN(RADIANS($A12))*COS(RADIANS(D$11)) + $B$6*SIN(RADIANS($A12))*SIN(RADIANS(D$11))) -> -0.090075917 | E12: =$A$2 + $A$3*(COS(RADIANS($A12))) + $A$4*SIN(RADIANS($A12)) + $A$5*SIN(RADIANS($A12))*COS(RADIANS(E$11)) + $A$6*SIN(RADIANS($A12))*SIN(RADIANS(E$11)) - ($B$2 + $B$3*(COS(RADIANS($A12))) + $B$4*SIN(RADIANS($A12)) + $B$5*SIN(RADIANS($A12))*COS(RADIANS(E$11)) + $B$6*SIN(RADIANS($A12))*SIN(RADIANS(E$11))) -> -0.090520411 | F12: =$A$2 + $A$3*(COS(RADIANS($A12))) + $A$4*SIN(RADIANS($A12)) + $A$5*SIN(RADIANS($A12))*COS(RADIANS(F$11)) + $A$6*SIN(RADIANS($A12))*SIN(RADIANS(F$11)) - ($B$2 + $B$3*(COS(RADIANS($A12))) + $B$4*SIN(RADIANS($A12)) + $B$5*SIN(RADIANS($A12))*COS(RADIANS(F$11)) + $B$6*SIN(RADIANS($A12))*SIN(RADIANS(F$11))) -> -0.0906695 | G12: =$A$2 + $A$3*(COS(RADIANS($A12))) + $A$4*SIN(RADIANS($A12)) + $A$5*SIN(RADIANS($A12))*COS(RADIANS(G$11)) + $A$6*SIN(RADIANS($A12))*SIN(RADIANS(G$11)) - ($B$2 + $B$3*(COS(RADIANS($A12))) + $B$4*SIN(RADIANS($A12)) + $B$5*SIN(RADIANS($A12))*COS(RADIANS(G$11)) + $B$6*SIN(RADIANS($A12))*SIN(RADIANS(G$11))) -> -0.090513026 | H12: =$A$2 + $A$3*(COS(RADIANS($A12))) + $A$4*SIN(RADIANS($A12)) + $A$5*SIN(RADIANS($A12))*COS(RADIANS(H$11)) + $A$6*SIN(RADIANS($A12))*SIN(RADIANS(H$11)) - ($B$2 + $B$3*(COS(RADIANS($A12))) + $B$4*SIN(RADIANS($A12)) + $B$5*SIN(RADIANS($A12))*COS(RADIANS(H$11)) + $B$6*SIN(RADIANS($A12))*SIN(RADIANS(H$11))) -> -0.090061651 | I12: =$A$2 + $A$3*(COS(RADIANS($A12))) + $A$4*SIN(RADIANS($A12)) + $A$5*SIN(RADIANS($A12))*COS(RADIANS(I$11)) + $A$6*SIN(RADIANS($A12))*SIN(RADIANS(I$11)) - ($B$2 + $B$3*(COS(RADIANS($A12))) + $B$4*SIN(RADIANS($A12)) + $B$5*SIN(RADIANS($A12))*COS(RADIANS(I$11)) + $B$6*SIN(RADIANS($A12))*SIN(RADIANS(I$11))) -> -0.089346136 | ... Z12: =$A$2 + $A$3*(COS(RADIANS($A12))) + $A$4*SIN(RADIANS($A12)) + $A$5*SIN(RADIANS($A12))*COS(RADIANS(Z$11)) + $A$6*SIN(RADIANS($A12))*SIN(RADIANS(Z$11)) - ($B$2 + $B$3*(COS(RADIANS($A12))) + $B$4*SIN(RADIANS($A12)) + $B$5*SIN(RADIANS($A12))*COS(RADIANS(Z$11)) + $B$6*SIN(RADIANS($A12))*SIN(RADIANS(Z$11))) -> -0.088439953
A13: 10 | B13: =$A$2 + $A$3*(COS(RADIANS($A13))) + $A$4*SIN(RADIANS($A13)) + $A$5*SIN(RADIANS($A13))*COS(RADIANS(B$11)) + $A$6*SIN(RADIANS($A13))*SIN(RADIANS(B$11)) - ($B$2 + $B$3*(COS(RADIANS($A13))) + $B$4*SIN(RADIANS($A13)) + $B$5*SIN(RADIANS($A13))*COS(RADIANS(B$11)) + $B$6*SIN(RADIANS($A13))*SIN(RADIANS(B$11))) -> -0.072028795 | C13: =$A$2 + $A$3*(COS(RADIANS($A13))) + $A$4*SIN(RADIANS($A13)) + $A$5*SIN(RADIANS($A13))*COS(RADIANS(C$11)) + $A$6*SIN(RADIANS($A13))*SIN(RADIANS(C$11)) - ($B$2 + $B$3*(COS(RADIANS($A13))) + $B$4*SIN(RADIANS($A13)) + $B$5*SIN(RADIANS($A13))*COS(RADIANS(C$11)) + $B$6*SIN(RADIANS($A13))*SIN(RADIANS(C$11))) -> -0.073874463 | D13: =$A$2 + $A$3*(COS(RADIANS($A13))) + $A$4*SIN(RADIANS($A13)) + $A$5*SIN(RADIANS($A13))*COS(RADIANS(D$11)) + $A$6*SIN(RADIANS($A13))*SIN(RADIANS(D$11)) - ($B$2 + $B$3*(COS(RADIANS($A13))) + $B$4*SIN(RADIANS($A13)) + $B$5*SIN(RADIANS($A13))*COS(RADIANS(D$11)) + $B$6*SIN(RADIANS($A13))*SIN(RADIANS(D$11))) -> -0.075288273 | E13: =$A$2 + $A$3*(COS(RADIANS($A13))) + $A$4*SIN(RADIANS($A13)) + $A$5*SIN(RADIANS($A13))*COS(RADIANS(E$11)) + $A$6*SIN(RADIANS($A13))*SIN(RADIANS(E$11)) - ($B$2 + $B$3*(COS(RADIANS($A13))) + $B$4*SIN(RADIANS($A13)) + $B$5*SIN(RADIANS($A13))*COS(RADIANS(E$11)) + $B$6*SIN(RADIANS($A13))*SIN(RADIANS(E$11))) -> -0.076173877 | F13: =$A$2 + $A$3*(COS(RADIANS($A13))) + $A$4*SIN(RADIANS($A13)) + $A$5*SIN(RADIANS($A13))*COS(RADIANS(F$11)) + $A$6*SIN(RADIANS($A13))*SIN(RADIANS(F$11)) - ($B$2 + $B$3*(COS(RADIANS($A13))) + $B$4*SIN(RADIANS($A13)) + $B$5*SIN(RADIANS($A13))*COS(RADIANS(F$11)) + $B$6*SIN(RADIANS($A13))*SIN(RADIANS(F$11))) -> -0.076470921 | G13: =$A$2 + $A$3*(COS(RADIANS($A13))) + $A$4*SIN(RADIANS($A13)) + $A$5*SIN(RADIANS($A13))*COS(RADIANS(G$11)) + $A$6*SIN(RADIANS($A13))*SIN(RADIANS(G$11)) - ($B$2 + $B$3*(COS(RADIANS($A13))) + $B$4*SIN(RADIANS($A13)) + $B$5*SIN(RADIANS($A13))*COS(RADIANS(G$11)) + $B$6*SIN(RADIANS($A13))*SIN(RADIANS(G$11))) -> -0.076159163 | H13: =$A$2 + $A$3*(COS(RADIANS($A13))) + $A$4*SIN(RADIANS($A13)) + $A$5*SIN(RADIANS($A13))*COS(RADIANS(H$11)) + $A$6*SIN(RADIANS($A13))*SIN(RADIANS(H$11)) - ($B$2 + $B$3*(COS(RADIANS($A13))) + $B$4*SIN(RADIANS($A13)) + $B$5*SIN(RADIANS($A13))*COS(RADIANS(H$11)) + $B$6*SIN(RADIANS($A13))*SIN(RADIANS(H$11))) -> -0.075259849 | I13: =$A$2 + $A$3*(COS(RADIANS($A13))) + $A$4*SIN(RADIANS($A13)) + $A$5*SIN(RADIANS($A13))*COS(RADIANS(I$11)) + $A$6*SIN(RADIANS($A13))*SIN(RADIANS(I$11)) - ($B$2 + $B$3*(COS(RADIANS($A13))) + $B$4*SIN(RADIANS($A13)) + $B$5*SIN(RADIANS($A13))*COS(RADIANS(I$11)) + $B$6*SIN(RADIANS($A13))*SIN(RADIANS(I$11))) -> -0.073834265 | ... Z13: =$A$2 + $A$3*(COS(RADIANS($A13))) + $A$4*SIN(RADIANS($A13)) + $A$5*SIN(RADIANS($A13))*COS(RADIANS(Z$11)) + $A$6*SIN(RADIANS($A13))*SIN(RADIANS(Z$11)) - ($B$2 + $B$3*(COS(RADIANS($A13))) + $B$4*SIN(RADIANS($A13)) + $B$5*SIN(RADIANS($A13))*COS(RADIANS(Z$11)) + $B$6*SIN(RADIANS($A13))*SIN(RADIANS(Z$11))) -> -0.072028795
A14: 15 | B14: =$A$2 + $A$3*(COS(RADIANS($A14))) + $A$4*SIN(RADIANS($A14)) + $A$5*SIN(RADIANS($A14))*COS(RADIANS(B$11)) + $A$6*SIN(RADIANS($A14))*SIN(RADIANS(B$11)) - ($B$2 + $B$3*(COS(RADIANS($A14))) + $B$4*SIN(RADIANS($A14)) + $B$5*SIN(RADIANS($A14))*COS(RADIANS(B$11)) + $B$6*SIN(RADIANS($A14))*SIN(RADIANS(B$11))) -> -0.056098838 | C14: =$A$2 + $A$3*(COS(RADIANS($A14))) + $A$4*SIN(RADIANS($A14)) + $A$5*SIN(RADIANS($A14))*COS(RADIANS(C$11)) + $A$6*SIN(RADIANS($A14))*SIN(RADIANS(C$11)) - ($B$2 + $B$3*(COS(RADIANS($A14))) + $B$4*SIN(RADIANS($A14)) + $B$5*SIN(RADIANS($A14))*COS(RADIANS(C$11)) + $B$6*SIN(RADIANS($A14))*SIN(RADIANS(C$11))) -> -0.058849768 | D14: =$A$2 + $A$3*(COS(RADIANS($A14))) + $A$4*SIN(RADIANS($A14)) + $A$5*SIN(RADIANS($A14))*COS(RADIANS(D$11)) + $A$6*SIN(RADIANS($A14))*SIN(RADIANS(D$11)) - ($B$2 + $B$3*(COS(RADIANS($A14))) + $B$4*SIN(RADIANS($A14)) + $B$5*SIN(RADIANS($A14))*COS(RADIANS(D$11)) + $B$6*SIN(RADIANS($A14))*SIN(RADIANS(D$11))) -> -0.060957024 | E14: =$A$2 + $A$3*(COS(RADIANS($A14))) + $A$4*SIN(RADIANS($A14)) + $A$5*SIN(RADIANS($A14))*COS(RADIANS(E$11)) + $A$6*SIN(RADIANS($A14))*SIN(RADIANS(E$11)) - ($B$2 + $B$3*(COS(RADIANS($A14))) + $B$4*SIN(RADIANS($A14)) + $B$5*SIN(RADIANS($A14))*COS(RADIANS(E$11)) + $B$6*SIN(RADIANS($A14))*SIN(RADIANS(E$11))) -> -0.062276997 | F14: =$A$2 + $A$3*(COS(RADIANS($A14))) + $A$4*SIN(RADIANS($A14)) + $A$5*SIN(RADIANS($A14))*COS(RADIANS(F$11)) + $A$6*SIN(RADIANS($A14))*SIN(RADIANS(F$11)) - ($B$2 + $B$3*(COS(RADIANS($A14))) + $B$4*SIN(RADIANS($A14)) + $B$5*SIN(RADIANS($A14))*COS(RADIANS(F$11)) + $B$6*SIN(RADIANS($A14))*SIN(RADIANS(F$11))) -> -0.062719736 | G14: =$A$2 + $A$3*(COS(RADIANS($A14))) + $A$4*SIN(RADIANS($A14)) + $A$5*SIN(RADIANS($A14))*COS(RADIANS(G$11)) + $A$6*SIN(RADIANS($A14))*SIN(RADIANS(G$11)) - ($B$2 + $B$3*(COS(RADIANS($A14))) + $B$4*SIN(RADIANS($A14)) + $B$5*SIN(RADIANS($A14))*COS(RADIANS(G$11)) + $B$6*SIN(RADIANS($A14))*SIN(RADIANS(G$11))) -> -0.062255067 | H14: =$A$2 + $A$3*(COS(RADIANS($A14))) + $A$4*SIN(RADIANS($A14)) + $A$5*SIN(RADIANS($A14))*COS(RADIANS(H$11)) + $A$6*SIN(RADIANS($A14))*SIN(RADIANS(H$11)) - ($B$2 + $B$3*(COS(RADIANS($A14))) + $B$4*SIN(RADIANS($A14)) + $B$5*SIN(RADIANS($A14))*COS(RADIANS(H$11)) + $B$6*SIN(RADIANS($A14))*SIN(RADIANS(H$11))) -> -0.060914657 | I14: =$A$2 + $A$3*(COS(RADIANS($A14))) + $A$4*SIN(RADIANS($A14)) + $A$5*SIN(RADIANS($A14))*COS(RADIANS(I$11)) + $A$6*SIN(RADIANS($A14))*SIN(RADIANS(I$11)) - ($B$2 + $B$3*(COS(RADIANS($A14))) + $B$4*SIN(RADIANS($A14)) + $B$5*SIN(RADIANS($A14))*COS(RADIANS(I$11)) + $B$6*SIN(RADIANS($A14))*SIN(RADIANS(I$11))) -> -0.058789853 | ... Z14: =$A$2 + $A$3*(COS(RADIANS($A14))) + $A$4*SIN(RADIANS($A14)) + $A$5*SIN(RADIANS($A14))*COS(RADIANS(Z$11)) + $A$6*SIN(RADIANS($A14))*SIN(RADIANS(Z$11)) - ($B$2 + $B$3*(COS(RADIANS($A14))) + $B$4*SIN(RADIANS($A14)) + $B$5*SIN(RADIANS($A14))*COS(RADIANS(Z$11)) + $B$6*SIN(RADIANS($A14))*SIN(RADIANS(Z$11))) -> -0.056098838
A15: 20 | B15: =$A$2 + $A$3*(COS(RADIANS($A15))) + $A$4*SIN(RADIANS($A15)) + $A$5*SIN(RADIANS($A15))*COS(RADIANS(B$11)) + $A$6*SIN(RADIANS($A15))*SIN(RADIANS(B$11)) - ($B$2 + $B$3*(COS(RADIANS($A15))) + $B$4*SIN(RADIANS($A15)) + $B$5*SIN(RADIANS($A15))*COS(RADIANS(B$11)) + $B$6*SIN(RADIANS($A15))*SIN(RADIANS(B$11))) -> -0.040771318 | C15: =$A$2 + $A$3*(COS(RADIANS($A15))) + $A$4*SIN(RADIANS($A15)) + $A$5*SIN(RADIANS($A15))*COS(RADIANS(C$11)) + $A$6*SIN(RADIANS($A15))*SIN(RADIANS(C$11)) - ($B$2 + $B$3*(COS(RADIANS($A15))) + $B$4*SIN(RADIANS($A15)) + $B$5*SIN(RADIANS($A15))*COS(RADIANS(C$11)) + $B$6*SIN(RADIANS($A15))*SIN(RADIANS(C$11))) -> -0.044406575 | D15: =$A$2 + $A$3*(COS(RADIANS($A15))) + $A$4*SIN(RADIANS($A15)) + $A$5*SIN(RADIANS($A15))*COS(RADIANS(D$11)) + $A$6*SIN(RADIANS($A15))*SIN(RADIANS(D$11)) - ($B$2 + $B$3*(COS(RADIANS($A15))) + $B$4*SIN(RADIANS($A15)) + $B$5*SIN(RADIANS($A15))*COS(RADIANS(D$11)) + $B$6*SIN(RADIANS($A15))*SIN(RADIANS(D$11))) -> -0.047191237 | E15: =$A$2 + $A$3*(COS(RADIANS($A15))) + $A$4*SIN(RADIANS($A15)) + $A$5*SIN(RADIANS($A15))*COS(RADIANS(E$11)) + $A$6*SIN(RADIANS($A15))*SIN(RADIANS(E$11)) - ($B$2 + $B$3*(COS(RADIANS($A15))) + $B$4*SIN(RADIANS($A15)) + $B$5*SIN(RADIANS($A15))*COS(RADIANS(E$11)) + $B$6*SIN(RADIANS($A15))*SIN(RADIANS(E$11))) -> -0.048935536 | F15: =$A$2 + $A$3*(COS(RADIANS($A15))) + $A$4*SIN(RADIANS($A15)) + $A$5*SIN(RADIANS($A15))*COS(RADIANS(F$11)) + $A$6*SIN(RADIANS($A15))*SIN(RADIANS(F$11)) - ($B$2 + $B$3*(COS(RADIANS($A15))) + $B$4*SIN(RADIANS($A15)) + $B$5*SIN(RADIANS($A15))*COS(RADIANS(F$11)) + $B$6*SIN(RADIANS($A15))*SIN(RADIANS(F$11))) -> -0.049520599 | G15: =$A$2 + $A$3*(COS(RADIANS($A15))) + $A$4*SIN(RADIANS($A15)) + $A$5*SIN(RADIANS($A15))*COS(RADIANS(G$11)) + $A$6*SIN(RADIANS($A15))*SIN(RADIANS(G$11)) - ($B$2 + $B$3*(COS(RADIANS($A15))) + $B$4*SIN(RADIANS($A15)) + $B$5*SIN(RADIANS($A15))*COS(RADIANS(G$11)) + $B$6*SIN(RADIANS($A15))*SIN(RADIANS(G$11))) -> -0.048906555 | H15: =$A$2 + $A$3*(COS(RADIANS($A15))) + $A$4*SIN(RADIANS($A15)) + $A$5*SIN(RADIANS($A15))*COS(RADIANS(H$11)) + $A$6*SIN(RADIANS($A15))*SIN(RADIANS(H$11)) - ($B$2 + $B$3*(COS(RADIANS($A15))) + $B$4*SIN(RADIANS($A15)) + $B$5*SIN(RADIANS($A15))*COS(RADIANS(H$11)) + $B$6*SIN(RADIANS($A15))*SIN(RADIANS(H$11))) -> -0.047135252 | I15: =$A$2 + $A$3*(COS(RADIANS($A15))) + $A$4*SIN(RADIANS($A15)) + $A$5*SIN(RADIANS($A15))*COS(RADIANS(I$11)) + $A$6*SIN(RADIANS($A15))*SIN(RADIANS(I$11)) - ($B$2 + $B$3*(COS(RADIANS($A15))) + $B$4*SIN(RADIANS($A15)) + $B$5*SIN(RADIANS($A15))*COS(RADIANS(I$11)) + $B$6*SIN(RADIANS($A15))*SIN(RADIANS(I$11))) -> -0.044327399 | ... Z15: =$A$2 + $A$3*(COS(RADIANS($A15))) + $A$4*SIN(RADIANS($A15)) + $A$5*SIN(RADIANS($A15))*COS(RADIANS(Z$11)) + $A$6*SIN(RADIANS($A15))*SIN(RADIANS(Z$11)) - ($B$2 + $B$3*(COS(RADIANS($A15))) + $B$4*SIN(RADIANS($A15)) + $B$5*SIN(RADIANS($A15))*COS(RADIANS(Z$11)) + $B$6*SIN(RADIANS($A15))*SIN(RADIANS(Z$11))) -> -0.040771318
A16: 25 | B16: =$A$2 + $A$3*(COS(RADIANS($A16))) + $A$4*SIN(RADIANS($A16)) + $A$5*SIN(RADIANS($A16))*COS(RADIANS(B$11)) + $A$6*SIN(RADIANS($A16))*SIN(RADIANS(B$11)) - ($B$2 + $B$3*(COS(RADIANS($A16))) + $B$4*SIN(RADIANS($A16)) + $B$5*SIN(RADIANS($A16))*COS(RADIANS(B$11)) + $B$6*SIN(RADIANS($A16))*SIN(RADIANS(B$11))) -> -0.026162887 | C16: =$A$2 + $A$3*(COS(RADIANS($A16))) + $A$4*SIN(RADIANS($A16)) + $A$5*SIN(RADIANS($A16))*COS(RADIANS(C$11)) + $A$6*SIN(RADIANS($A16))*SIN(RADIANS(C$11)) - ($B$2 + $B$3*(COS(RADIANS($A16))) + $B$4*SIN(RADIANS($A16)) + $B$5*SIN(RADIANS($A16))*COS(RADIANS(C$11)) + $B$6*SIN(RADIANS($A16))*SIN(RADIANS(C$11))) -> -0.030654804 | D16: =$A$2 + $A$3*(COS(RADIANS($A16))) + $A$4*SIN(RADIANS($A16)) + $A$5*SIN(RADIANS($A16))*COS(RADIANS(D$11)) + $A$6*SIN(RADIANS($A16))*SIN(RADIANS(D$11)) - ($B$2 + $B$3*(COS(RADIANS($A16))) + $B$4*SIN(RADIANS($A16)) + $B$5*SIN(RADIANS($A16))*COS(RADIANS(D$11)) + $B$6*SIN(RADIANS($A16))*SIN(RADIANS(D$11))) -> -0.034095681 | E16: =$A$2 + $A$3*(COS(RADIANS($A16))) + $A$4*SIN(RADIANS($A16)) + $A$5*SIN(RADIANS($A16))*COS(RADIANS(E$11)) + $A$6*SIN(RADIANS($A16))*SIN(RADIANS(E$11)) - ($B$2 + $B$3*(COS(RADIANS($A16))) + $B$4*SIN(RADIANS($A16)) + $B$5*SIN(RADIANS($A16))*COS(RADIANS(E$11)) + $B$6*SIN(RADIANS($A16))*SIN(RADIANS(E$11))) -> -0.036251028 | F16: =$A$2 + $A$3*(COS(RADIANS($A16))) + $A$4*SIN(RADIANS($A16)) + $A$5*SIN(RADIANS($A16))*COS(RADIANS(F$11)) + $A$6*SIN(RADIANS($A16))*SIN(RADIANS(F$11)) - ($B$2 + $B$3*(COS(RADIANS($A16))) + $B$4*SIN(RADIANS($A16)) + $B$5*SIN(RADIANS($A16))*COS(RADIANS(F$11)) + $B$6*SIN(RADIANS($A16))*SIN(RADIANS(F$11))) -> -0.036973963 | G16: =$A$2 + $A$3*(COS(RADIANS($A16))) + $A$4*SIN(RADIANS($A16)) + $A$5*SIN(RADIANS($A16))*COS(RADIANS(G$11)) + $A$6*SIN(RADIANS($A16))*SIN(RADIANS(G$11)) - ($B$2 + $B$3*(COS(RADIANS($A16))) + $B$4*SIN(RADIANS($A16)) + $B$5*SIN(RADIANS($A16))*COS(RADIANS(G$11)) + $B$6*SIN(RADIANS($A16))*SIN(RADIANS(G$11))) -> -0.036215219 | H16: =$A$2 + $A$3*(COS(RADIANS($A16))) + $A$4*SIN(RADIANS($A16)) + $A$5*SIN(RADIANS($A16))*COS(RADIANS(H$11)) + $A$6*SIN(RADIANS($A16))*SIN(RADIANS(H$11)) - ($B$2 + $B$3*(COS(RADIANS($A16))) + $B$4*SIN(RADIANS($A16)) + $B$5*SIN(RADIANS($A16))*COS(RADIANS(H$11)) + $B$6*SIN(RADIANS($A16))*SIN(RADIANS(H$11))) -> -0.034026502 | I16: =$A$2 + $A$3*(COS(RADIANS($A16))) + $A$4*SIN(RADIANS($A16)) + $A$5*SIN(RADIANS($A16))*COS(RADIANS(I$11)) + $A$6*SIN(RADIANS($A16))*SIN(RADIANS(I$11)) - ($B$2 + $B$3*(COS(RADIANS($A16))) + $B$4*SIN(RADIANS($A16)) + $B$5*SIN(RADIANS($A16))*COS(RADIANS(I$11)) + $B$6*SIN(RADIANS($A16))*SIN(RADIANS(I$11))) -> -0.03055697 | ... Z16: =$A$2 + $A$3*(COS(RADIANS($A16))) + $A$4*SIN(RADIANS($A16)) + $A$5*SIN(RADIANS($A16))*COS(RADIANS(Z$11)) + $A$6*SIN(RADIANS($A16))*SIN(RADIANS(Z$11)) - ($B$2 + $B$3*(COS(RADIANS($A16))) + $B$4*SIN(RADIANS($A16)) + $B$5*SIN(RADIANS($A16))*COS(RADIANS(Z$11)) + $B$6*SIN(RADIANS($A16))*SIN(RADIANS(Z$11))) -> -0.026162887
A17: 30 | B17: =$A$2 + $A$3*(COS(RADIANS($A17))) + $A$4*SIN(RADIANS($A17)) + $A$5*SIN(RADIANS($A17))*COS(RADIANS(B$11)) + $A$6*SIN(RADIANS($A17))*SIN(RADIANS(B$11)) - ($B$2 + $B$3*(COS(RADIANS($A17))) + $B$4*SIN(RADIANS($A17)) + $B$5*SIN(RADIANS($A17))*COS(RADIANS(B$11)) + $B$6*SIN(RADIANS($A17))*SIN(RADIANS(B$11))) -> -0.012384725 | C17: =$A$2 + $A$3*(COS(RADIANS($A17))) + $A$4*SIN(RADIANS($A17)) + $A$5*SIN(RADIANS($A17))*COS(RADIANS(C$11)) + $A$6*SIN(RADIANS($A17))*SIN(RADIANS(C$11)) - ($B$2 + $B$3*(COS(RADIANS($A17))) + $B$4*SIN(RADIANS($A17)) + $B$5*SIN(RADIANS($A17))*COS(RADIANS(C$11)) + $B$6*SIN(RADIANS($A17))*SIN(RADIANS(C$11))) -> -0.017699114 | D17: =$A$2 + $A$3*(COS(RADIANS($A17))) + $A$4*SIN(RADIANS($A17)) + $A$5*SIN(RADIANS($A17))*COS(RADIANS(D$11)) + $A$6*SIN(RADIANS($A17))*SIN(RADIANS(D$11)) - ($B$2 + $B$3*(COS(RADIANS($A17))) + $B$4*SIN(RADIANS($A17)) + $B$5*SIN(RADIANS($A17))*COS(RADIANS(D$11)) + $B$6*SIN(RADIANS($A17))*SIN(RADIANS(D$11))) -> -0.021770018 | E17: =$A$2 + $A$3*(COS(RADIANS($A17))) + $A$4*SIN(RADIANS($A17)) + $A$5*SIN(RADIANS($A17))*COS(RADIANS(E$11)) + $A$6*SIN(RADIANS($A17))*SIN(RADIANS(E$11)) - ($B$2 + $B$3*(COS(RADIANS($A17))) + $B$4*SIN(RADIANS($A17)) + $B$5*SIN(RADIANS($A17))*COS(RADIANS(E$11)) + $B$6*SIN(RADIANS($A17))*SIN(RADIANS(E$11))) -> -0.024320012 | F17: =$A$2 + $A$3*(COS(RADIANS($A17))) + $A$4*SIN(RADIANS($A17)) + $A$5*SIN(RADIANS($A17))*COS(RADIANS(F$11)) + $A$6*SIN(RADIANS($A17))*SIN(RADIANS(F$11)) - ($B$2 + $B$3*(COS(RADIANS($A17))) + $B$4*SIN(RADIANS($A17)) + $B$5*SIN(RADIANS($A17))*COS(RADIANS(F$11)) + $B$6*SIN(RADIANS($A17))*SIN(RADIANS(F$11))) -> -0.025175317 | G17: =$A$2 + $A$3*(COS(RADIANS($A17))) + $A$4*SIN(RADIANS($A17)) + $A$5*SIN(RADIANS($A17))*COS(RADIANS(G$11)) + $A$6*SIN(RADIANS($A17))*SIN(RADIANS(G$11)) - ($B$2 + $B$3*(COS(RADIANS($A17))) + $B$4*SIN(RADIANS($A17)) + $B$5*SIN(RADIANS($A17))*COS(RADIANS(G$11)) + $B$6*SIN(RADIANS($A17))*SIN(RADIANS(G$11))) -> -0.024277646 | H17: =$A$2 + $A$3*(COS(RADIANS($A17))) + $A$4*SIN(RADIANS($A17)) + $A$5*SIN(RADIANS($A17))*COS(RADIANS(H$11)) + $A$6*SIN(RADIANS($A17))*SIN(RADIANS(H$11)) - ($B$2 + $B$3*(COS(RADIANS($A17))) + $B$4*SIN(RADIANS($A17)) + $B$5*SIN(RADIANS($A17))*COS(RADIANS(H$11)) + $B$6*SIN(RADIANS($A17))*SIN(RADIANS(H$11))) -> -0.021688173 | I17: =$A$2 + $A$3*(COS(RADIANS($A17))) + $A$4*SIN(RADIANS($A17)) + $A$5*SIN(RADIANS($A17))*COS(RADIANS(I$11)) + $A$6*SIN(RADIANS($A17))*SIN(RADIANS(I$11)) - ($B$2 + $B$3*(COS(RADIANS($A17))) + $B$4*SIN(RADIANS($A17)) + $B$5*SIN(RADIANS($A17))*COS(RADIANS(I$11)) + $B$6*SIN(RADIANS($A17))*SIN(RADIANS(I$11))) -> -0.017583367 | ... Z17: =$A$2 + $A$3*(COS(RADIANS($A17))) + $A$4*SIN(RADIANS($A17)) + $A$5*SIN(RADIANS($A17))*COS(RADIANS(Z$11)) + $A$6*SIN(RADIANS($A17))*SIN(RADIANS(Z$11)) - ($B$2 + $B$3*(COS(RADIANS($A17))) + $B$4*SIN(RADIANS($A17)) + $B$5*SIN(RADIANS($A17))*COS(RADIANS(Z$11)) + $B$6*SIN(RADIANS($A17))*SIN(RADIANS(Z$11))) -> -0.012384725
A18: 35 | B18: =$A$2 + $A$3*(COS(RADIANS($A18))) + $A$4*SIN(RADIANS($A18)) + $A$5*SIN(RADIANS($A18))*COS(RADIANS(B$11)) + $A$6*SIN(RADIANS($A18))*SIN(RADIANS(B$11)) - ($B$2 + $B$3*(COS(RADIANS($A18))) + $B$4*SIN(RADIANS($A18)) + $B$5*SIN(RADIANS($A18))*COS(RADIANS(B$11)) + $B$6*SIN(RADIANS($A18))*SIN(RADIANS(B$11))) -> 0.00045830994 | C18: =$A$2 + $A$3*(COS(RADIANS($A18))) + $A$4*SIN(RADIANS($A18)) + $A$5*SIN(RADIANS($A18))*COS(RADIANS(C$11)) + $A$6*SIN(RADIANS($A18))*SIN(RADIANS(C$11)) - ($B$2 + $B$3*(COS(RADIANS($A18))) + $B$4*SIN(RADIANS($A18)) + $B$5*SIN(RADIANS($A18))*COS(RADIANS(C$11)) + $B$6*SIN(RADIANS($A18))*SIN(RADIANS(C$11))) -> -0.0056381073 | D18: =$A$2 + $A$3*(COS(RADIANS($A18))) + $A$4*SIN(RADIANS($A18)) + $A$5*SIN(RADIANS($A18))*COS(RADIANS(D$11)) + $A$6*SIN(RADIANS($A18))*SIN(RADIANS(D$11)) - ($B$2 + $B$3*(COS(RADIANS($A18))) + $B$4*SIN(RADIANS($A18)) + $B$5*SIN(RADIANS($A18))*COS(RADIANS(D$11)) + $B$6*SIN(RADIANS($A18))*SIN(RADIANS(D$11))) -> -0.010308057 | E18: =$A$2 + $A$3*(COS(RADIANS($A18))) + $A$4*SIN(RADIANS($A18)) + $A$5*SIN(RADIANS($A18))*COS(RADIANS(E$11)) + $A$6*SIN(RADIANS($A18))*SIN(RADIANS(E$11)) - ($B$2 + $B$3*(COS(RADIANS($A18))) + $B$4*SIN(RADIANS($A18)) + $B$5*SIN(RADIANS($A18))*COS(RADIANS(E$11)) + $B$6*SIN(RADIANS($A18))*SIN(RADIANS(E$11))) -> -0.013233289 | F18: =$A$2 + $A$3*(COS(RADIANS($A18))) + $A$4*SIN(RADIANS($A18)) + $A$5*SIN(RADIANS($A18))*COS(RADIANS(F$11)) + $A$6*SIN(RADIANS($A18))*SIN(RADIANS(F$11)) - ($B$2 + $B$3*(COS(RADIANS($A18))) + $B$4*SIN(RADIANS($A18)) + $B$5*SIN(RADIANS($A18))*COS(RADIANS(F$11)) + $B$6*SIN(RADIANS($A18))*SIN(RADIANS(F$11))) -> -0.014214455 | G18: =$A$2 + $A$3*(COS(RADIANS($A18))) + $A$4*SIN(RADIANS($A18)) + $A$5*SIN(RADIANS($A18))*COS(RADIANS(G$11)) + $A$6*SIN(RADIANS($A18))*SIN(RADIANS(G$11)) - ($B$2 + $B$3*(COS(RADIANS($A18))) + $B$4*SIN(RADIANS($A18)) + $B$5*SIN(RADIANS($A18))*COS(RADIANS(G$11)) + $B$6*SIN(RADIANS($A18))*SIN(RADIANS(G$11))) -> -0.013184689 | H18: =$A$2 + $A$3*(COS(RADIANS($A18))) + $A$4*SIN(RADIANS($A18)) + $A$5*SIN(RADIANS($A18))*COS(RADIANS(H$11)) + $A$6*SIN(RADIANS($A18))*SIN(RADIANS(H$11)) - ($B$2 + $B$3*(COS(RADIANS($A18))) + $B$4*SIN(RADIANS($A18)) + $B$5*SIN(RADIANS($A18))*COS(RADIANS(H$11)) + $B$6*SIN(RADIANS($A18))*SIN(RADIANS(H$11))) -> -0.010214168 | I18: =$A$2 + $A$3*(COS(RADIANS($A18))) + $A$4*SIN(RADIANS($A18)) + $A$5*SIN(RADIANS($A18))*COS(RADIANS(I$11)) + $A$6*SIN(RADIANS($A18))*SIN(RADIANS(I$11)) - ($B$2 + $B$3*(COS(RADIANS($A18))) + $B$4*SIN(RADIANS($A18)) + $B$5*SIN(RADIANS($A18))*COS(RADIANS(I$11)) + $B$6*SIN(RADIANS($A18))*SIN(RADIANS(I$11))) -> -0.0055053281 | ... Z18: =$A$2 + $A$3*(COS(RADIANS($A18))) + $A$4*SIN(RADIANS($A18)) + $A$5*SIN(RADIANS($A18))*COS(RADIANS(Z$11)) + $A$6*SIN(RADIANS($A18))*SIN(RADIANS(Z$11)) - ($B$2 + $B$3*(COS(RADIANS($A18))) + $B$4*SIN(RADIANS($A18)) + $B$5*SIN(RADIANS($A18))*COS(RADIANS(Z$11)) + $B$6*SIN(RADIANS($A18))*SIN(RADIANS(Z$11))) -> 0.00045830994
A19: 40 | B19: =$A$2 + $A$3*(COS(RADIANS($A19))) + $A$4*SIN(RADIANS($A19)) + $A$5*SIN(RADIANS($A19))*COS(RADIANS(B$11)) + $A$6*SIN(RADIANS($A19))*SIN(RADIANS(B$11)) - ($B$2 + $B$3*(COS(RADIANS($A19))) + $B$4*SIN(RADIANS($A19)) + $B$5*SIN(RADIANS($A19))*COS(RADIANS(B$11)) + $B$6*SIN(RADIANS($A19))*SIN(RADIANS(B$11))) -> 0.012268473 | C19: =$A$2 + $A$3*(COS(RADIANS($A19))) + $A$4*SIN(RADIANS($A19)) + $A$5*SIN(RADIANS($A19))*COS(RADIANS(C$11)) + $A$6*SIN(RADIANS($A19))*SIN(RADIANS(C$11)) - ($B$2 + $B$3*(COS(RADIANS($A19))) + $B$4*SIN(RADIANS($A19)) + $B$5*SIN(RADIANS($A19))*COS(RADIANS(C$11)) + $B$6*SIN(RADIANS($A19))*SIN(RADIANS(C$11))) -> 0.0054364257 | D19: =$A$2 + $A$3*(COS(RADIANS($A19))) + $A$4*SIN(RADIANS($A19)) + $A$5*SIN(RADIANS($A19))*COS(RADIANS(D$11)) + $A$6*SIN(RADIANS($A19))*SIN(RADIANS(D$11)) - ($B$2 + $B$3*(COS(RADIANS($A19))) + $B$4*SIN(RADIANS($A19)) + $B$5*SIN(RADIANS($A19))*COS(RADIANS(D$11)) + $B$6*SIN(RADIANS($A19))*SIN(RADIANS(D$11))) -> 0.00020297204 | E19: =$A$2 + $A$3*(COS(RADIANS($A19))) + $A$4*SIN(RADIANS($A19)) + $A$5*SIN(RADIANS($A19))*COS(RADIANS(E$11)) + $A$6*SIN(RADIANS($A19))*SIN(RADIANS(E$11)) - ($B$2 + $B$3*(COS(RADIANS($A19))) + $B$4*SIN(RADIANS($A19)) + $B$5*SIN(RADIANS($A19))*COS(RADIANS(E$11)) + $B$6*SIN(RADIANS($A19))*SIN(RADIANS(E$11))) -> -0.0030752364 | F19: =$A$2 + $A$3*(COS(RADIANS($A19))) + $A$4*SIN(RADIANS($A19)) + $A$5*SIN(RADIANS($A19))*COS(RADIANS(F$11)) + $A$6*SIN(RADIANS($A19))*SIN(RADIANS(F$11)) - ($B$2 + $B$3*(COS(RADIANS($A19))) + $B$4*SIN(RADIANS($A19)) + $B$5*SIN(RADIANS($A19))*COS(RADIANS(F$11)) + $B$6*SIN(RADIANS($A19))*SIN(RADIANS(F$11))) -> -0.0041747953 | G19: =$A$2 + $A$3*(COS(RADIANS($A19))) + $A$4*SIN(RADIANS($A19)) + $A$5*SIN(RADIANS($A19))*COS(RADIANS(G$11)) + $A$6*SIN(RADIANS($A19))*SIN(RADIANS(G$11)) - ($B$2 + $B$3*(COS(RADIANS($A19))) + $B$4*SIN(RADIANS($A19)) + $B$5*SIN(RADIANS($A19))*COS(RADIANS(G$11)) + $B$6*SIN(RADIANS($A19))*SIN(RADIANS(G$11))) -> -0.0030207714 | H19: =$A$2 + $A$3*(COS(RADIANS($A19))) + $A$4*SIN(RADIANS($A19)) + $A$5*SIN(RADIANS($A19))*COS(RADIANS(H$11)) + $A$6*SIN(RADIANS($A19))*SIN(RADIANS(H$11)) - ($B$2 + $B$3*(COS(RADIANS($A19))) + $B$4*SIN(RADIANS($A19)) + $B$5*SIN(RADIANS($A19))*COS(RADIANS(H$11)) + $B$6*SIN(RADIANS($A19))*SIN(RADIANS(H$11))) -> 0.00030819037 | I19: =$A$2 + $A$3*(COS(RADIANS($A19))) + $A$4*SIN(RADIANS($A19)) + $A$5*SIN(RADIANS($A19))*COS(RADIANS(I$11)) + $A$6*SIN(RADIANS($A19))*SIN(RADIANS(I$11)) - ($B$2 + $B$3*(COS(RADIANS($A19))) + $B$4*SIN(RADIANS($A19)) + $B$5*SIN(RADIANS($A19))*COS(RADIANS(I$11)) + $B$6*SIN(RADIANS($A19))*SIN(RADIANS(I$11))) -> 0.0055852269 | ... Z19: =$A$2 + $A$3*(COS(RADIANS($A19))) + $A$4*SIN(RADIANS($A19)) + $A$5*SIN(RADIANS($A19))*COS(RADIANS(Z$11)) + $A$6*SIN(RADIANS($A19))*SIN(RADIANS(Z$11)) - ($B$2 + $B$3*(COS(RADIANS($A19))) + $B$4*SIN(RADIANS($A19)) + $B$5*SIN(RADIANS($A19))*COS(RADIANS(Z$11)) + $B$6*SIN(RADIANS($A19))*SIN(RADIANS(Z$11))) -> 0.012268473
A20: 45 | B20: =$A$2 + $A$3*(COS(RADIANS($A20))) + $A$4*SIN(RADIANS($A20)) + $A$5*SIN(RADIANS($A20))*COS(RADIANS(B$11)) + $A$6*SIN(RADIANS($A20))*SIN(RADIANS(B$11)) - ($B$2 + $B$3*(COS(RADIANS($A20))) + $B$4*SIN(RADIANS($A20)) + $B$5*SIN(RADIANS($A20))*COS(RADIANS(B$11)) + $B$6*SIN(RADIANS($A20))*SIN(RADIANS(B$11))) -> 0.022955883 | C20: =$A$2 + $A$3*(COS(RADIANS($A20))) + $A$4*SIN(RADIANS($A20)) + $A$5*SIN(RADIANS($A20))*COS(RADIANS(C$11)) + $A$6*SIN(RADIANS($A20))*SIN(RADIANS(C$11)) - ($B$2 + $B$3*(COS(RADIANS($A20))) + $B$4*SIN(RADIANS($A20)) + $B$5*SIN(RADIANS($A20))*COS(RADIANS(C$11)) + $B$6*SIN(RADIANS($A20))*SIN(RADIANS(C$11))) -> 0.015440201 | D20: =$A$2 + $A$3*(COS(RADIANS($A20))) + $A$4*SIN(RADIANS($A20)) + $A$5*SIN(RADIANS($A20))*COS(RADIANS(D$11)) + $A$6*SIN(RADIANS($A20))*SIN(RADIANS(D$11)) - ($B$2 + $B$3*(COS(RADIANS($A20))) + $B$4*SIN(RADIANS($A20)) + $B$5*SIN(RADIANS($A20))*COS(RADIANS(D$11)) + $B$6*SIN(RADIANS($A20))*SIN(RADIANS(D$11))) -> 0.0096830728 | E20: =$A$2 + $A$3*(COS(RADIANS($A20))) + $A$4*SIN(RADIANS($A20)) + $A$5*SIN(RADIANS($A20))*COS(RADIANS(E$11)) + $A$6*SIN(RADIANS($A20))*SIN(RADIANS(E$11)) - ($B$2 + $B$3*(COS(RADIANS($A20))) + $B$4*SIN(RADIANS($A20)) + $B$5*SIN(RADIANS($A20))*COS(RADIANS(E$11)) + $B$6*SIN(RADIANS($A20))*SIN(RADIANS(E$11))) -> 0.0060768374 | F20: =$A$2 + $A$3*(COS(RADIANS($A20))) + $A$4*SIN(RADIANS($A20)) + $A$5*SIN(RADIANS($A20))*COS(RADIANS(F$11)) + $A$6*SIN(RADIANS($A20))*SIN(RADIANS(F$11)) - ($B$2 + $B$3*(COS(RADIANS($A20))) + $B$4*SIN(RADIANS($A20)) + $B$5*SIN(RADIANS($A20))*COS(RADIANS(F$11)) + $B$6*SIN(RADIANS($A20))*SIN(RADIANS(F$11))) -> 0.0048672535 | G20: =$A$2 + $A$3*(COS(RADIANS($A20))) + $A$4*SIN(RADIANS($A20)) + $A$5*SIN(RADIANS($A20))*COS(RADIANS(G$11)) + $A$6*SIN(RADIANS($A20))*SIN(RADIANS(G$11)) - ($B$2 + $B$3*(COS(RADIANS($A20))) + $B$4*SIN(RADIANS($A20)) + $B$5*SIN(RADIANS($A20))*COS(RADIANS(G$11)) + $B$6*SIN(RADIANS($A20))*SIN(RADIANS(G$11))) -> 0.0061367523 | H20: =$A$2 + $A$3*(COS(RADIANS($A20))) + $A$4*SIN(RADIANS($A20)) + $A$5*SIN(RADIANS($A20))*COS(RADIANS(H$11)) + $A$6*SIN(RADIANS($A20))*SIN(RADIANS(H$11)) - ($B$2 + $B$3*(COS(RADIANS($A20))) + $B$4*SIN(RADIANS($A20)) + $B$5*SIN(RADIANS($A20))*COS(RADIANS(H$11)) + $B$6*SIN(RADIANS($A20))*SIN(RADIANS(H$11))) -> 0.0097988196 | I20: =$A$2 + $A$3*(COS(RADIANS($A20))) + $A$4*SIN(RADIANS($A20)) + $A$5*SIN(RADIANS($A20))*COS(RADIANS(I$11)) + $A$6*SIN(RADIANS($A20))*SIN(RADIANS(I$11)) - ($B$2 + $B$3*(COS(RADIANS($A20))) + $B$4*SIN(RADIANS($A20)) + $B$5*SIN(RADIANS($A20))*COS(RADIANS(I$11)) + $B$6*SIN(RADIANS($A20))*SIN(RADIANS(I$11))) -> 0.015603891 | ... Z20: =$A$2 + $A$3*(COS(RADIANS($A20))) + $A$4*SIN(RADIANS($A20)) + $A$5*SIN(RADIANS($A20))*COS(RADIANS(Z$11)) + $A$6*SIN(RADIANS($A20))*SIN(RADIANS(Z$11)) - ($B$2 + $B$3*(COS(RADIANS($A20))) + $B$4*SIN(RADIANS($A20)) + $B$5*SIN(RADIANS($A20))*COS(RADIANS(Z$11)) + $B$6*SIN(RADIANS($A20))*SIN(RADIANS(Z$11))) -> 0.022955883
A21: 50 | B21: =$A$2 + $A$3*(COS(RADIANS($A21))) + $A$4*SIN(RADIANS($A21)) + $A$5*SIN(RADIANS($A21))*COS(RADIANS(B$11)) + $A$6*SIN(RADIANS($A21))*SIN(RADIANS(B$11)) - ($B$2 + $B$3*(COS(RADIANS($A21))) + $B$4*SIN(RADIANS($A21)) + $B$5*SIN(RADIANS($A21))*COS(RADIANS(B$11)) + $B$6*SIN(RADIANS($A21))*SIN(RADIANS(B$11))) -> 0.0324392 | C21: =$A$2 + $A$3*(COS(RADIANS($A21))) + $A$4*SIN(RADIANS($A21)) + $A$5*SIN(RADIANS($A21))*COS(RADIANS(C$11)) + $A$6*SIN(RADIANS($A21))*SIN(RADIANS(C$11)) - ($B$2 + $B$3*(COS(RADIANS($A21))) + $B$4*SIN(RADIANS($A21)) + $B$5*SIN(RADIANS($A21))*COS(RADIANS(C$11)) + $B$6*SIN(RADIANS($A21))*SIN(RADIANS(C$11))) -> 0.024297083 | D21: =$A$2 + $A$3*(COS(RADIANS($A21))) + $A$4*SIN(RADIANS($A21)) + $A$5*SIN(RADIANS($A21))*COS(RADIANS(D$11)) + $A$6*SIN(RADIANS($A21))*SIN(RADIANS(D$11)) - ($B$2 + $B$3*(COS(RADIANS($A21))) + $B$4*SIN(RADIANS($A21)) + $B$5*SIN(RADIANS($A21))*COS(RADIANS(D$11)) + $B$6*SIN(RADIANS($A21))*SIN(RADIANS(D$11))) -> 0.018060096 | E21: =$A$2 + $A$3*(COS(RADIANS($A21))) + $A$4*SIN(RADIANS($A21)) + $A$5*SIN(RADIANS($A21))*COS(RADIANS(E$11)) + $A$6*SIN(RADIANS($A21))*SIN(RADIANS(E$11)) - ($B$2 + $B$3*(COS(RADIANS($A21))) + $B$4*SIN(RADIANS($A21)) + $B$5*SIN(RADIANS($A21))*COS(RADIANS(E$11)) + $B$6*SIN(RADIANS($A21))*SIN(RADIANS(E$11))) -> 0.014153279 | F21: =$A$2 + $A$3*(COS(RADIANS($A21))) + $A$4*SIN(RADIANS($A21)) + $A$5*SIN(RADIANS($A21))*COS(RADIANS(F$11)) + $A$6*SIN(RADIANS($A21))*SIN(RADIANS(F$11)) - ($B$2 + $B$3*(COS(RADIANS($A21))) + $B$4*SIN(RADIANS($A21)) + $B$5*SIN(RADIANS($A21))*COS(RADIANS(F$11)) + $B$6*SIN(RADIANS($A21))*SIN(RADIANS(F$11))) -> 0.012842876 | G21: =$A$2 + $A$3*(COS(RADIANS($A21))) + $A$4*SIN(RADIANS($A21)) + $A$5*SIN(RADIANS($A21))*COS(RADIANS(G$11)) + $A$6*SIN(RADIANS($A21))*SIN(RADIANS(G$11)) - ($B$2 + $B$3*(COS(RADIANS($A21))) + $B$4*SIN(RADIANS($A21)) + $B$5*SIN(RADIANS($A21))*COS(RADIANS(G$11)) + $B$6*SIN(RADIANS($A21))*SIN(RADIANS(G$11))) -> 0.014218188 | H21: =$A$2 + $A$3*(COS(RADIANS($A21))) + $A$4*SIN(RADIANS($A21)) + $A$5*SIN(RADIANS($A21))*COS(RADIANS(H$11)) + $A$6*SIN(RADIANS($A21))*SIN(RADIANS(H$11)) - ($B$2 + $B$3*(COS(RADIANS($A21))) + $B$4*SIN(RADIANS($A21)) + $B$5*SIN(RADIANS($A21))*COS(RADIANS(H$11)) + $B$6*SIN(RADIANS($A21))*SIN(RADIANS(H$11))) -> 0.01818549 | I21: =$A$2 + $A$3*(COS(RADIANS($A21))) + $A$4*SIN(RADIANS($A21)) + $A$5*SIN(RADIANS($A21))*COS(RADIANS(I$11)) + $A$6*SIN(RADIANS($A21))*SIN(RADIANS(I$11)) - ($B$2 + $B$3*(COS(RADIANS($A21))) + $B$4*SIN(RADIANS($A21)) + $B$5*SIN(RADIANS($A21))*COS(RADIANS(I$11)) + $B$6*SIN(RADIANS($A21))*SIN(RADIANS(I$11))) -> 0.024474418 | ... Z21: =$A$2 + $A$3*(COS(RADIANS($A21))) + $A$4*SIN(RADIANS($A21)) + $A$5*SIN(RADIANS($A21))*COS(RADIANS(Z$11)) + $A$6*SIN(RADIANS($A21))*SIN(RADIANS(Z$11)) - ($B$2 + $B$3*(COS(RADIANS($A21))) + $B$4*SIN(RADIANS($A21)) + $B$5*SIN(RADIANS($A21))*COS(RADIANS(Z$11)) + $B$6*SIN(RADIANS($A21))*SIN(RADIANS(Z$11))) -> 0.0324392
A22: 55 | B22: =$A$2 + $A$3*(COS(RADIANS($A22))) + $A$4*SIN(RADIANS($A22)) + $A$5*SIN(RADIANS($A22))*COS(RADIANS(B$11)) + $A$6*SIN(RADIANS($A22))*SIN(RADIANS(B$11)) - ($B$2 + $B$3*(COS(RADIANS($A22))) + $B$4*SIN(RADIANS($A22)) + $B$5*SIN(RADIANS($A22))*COS(RADIANS(B$11)) + $B$6*SIN(RADIANS($A22))*SIN(RADIANS(B$11))) -> 0.040646253 | C22: =$A$2 + $A$3*(COS(RADIANS($A22))) + $A$4*SIN(RADIANS($A22)) + $A$5*SIN(RADIANS($A22))*COS(RADIANS(C$11)) + $A$6*SIN(RADIANS($A22))*SIN(RADIANS(C$11)) - ($B$2 + $B$3*(COS(RADIANS($A22))) + $B$4*SIN(RADIANS($A22)) + $B$5*SIN(RADIANS($A22))*COS(RADIANS(C$11)) + $B$6*SIN(RADIANS($A22))*SIN(RADIANS(C$11))) -> 0.031939667 | D22: =$A$2 + $A$3*(COS(RADIANS($A22))) + $A$4*SIN(RADIANS($A22)) + $A$5*SIN(RADIANS($A22))*COS(RADIANS(D$11)) + $A$6*SIN(RADIANS($A22))*SIN(RADIANS(D$11)) - ($B$2 + $B$3*(COS(RADIANS($A22))) + $B$4*SIN(RADIANS($A22)) + $B$5*SIN(RADIANS($A22))*COS(RADIANS(D$11)) + $B$6*SIN(RADIANS($A22))*SIN(RADIANS(D$11))) -> 0.025270288 | E22: =$A$2 + $A$3*(COS(RADIANS($A22))) + $A$4*SIN(RADIANS($A22)) + $A$5*SIN(RADIANS($A22))*COS(RADIANS(E$11)) + $A$6*SIN(RADIANS($A22))*SIN(RADIANS(E$11)) - ($B$2 + $B$3*(COS(RADIANS($A22))) + $B$4*SIN(RADIANS($A22)) + $B$5*SIN(RADIANS($A22))*COS(RADIANS(E$11)) + $B$6*SIN(RADIANS($A22))*SIN(RADIANS(E$11))) -> 0.021092623 | F22: =$A$2 + $A$3*(COS(RADIANS($A22))) + $A$4*SIN(RADIANS($A22)) + $A$5*SIN(RADIANS($A22))*COS(RADIANS(F$11)) + $A$6*SIN(RADIANS($A22))*SIN(RADIANS(F$11)) - ($B$2 + $B$3*(COS(RADIANS($A22))) + $B$4*SIN(RADIANS($A22)) + $B$5*SIN(RADIANS($A22))*COS(RADIANS(F$11)) + $B$6*SIN(RADIANS($A22))*SIN(RADIANS(F$11))) -> 0.019691373 | G22: =$A$2 + $A$3*(COS(RADIANS($A22))) + $A$4*SIN(RADIANS($A22)) + $A$5*SIN(RADIANS($A22))*COS(RADIANS(G$11)) + $A$6*SIN(RADIANS($A22))*SIN(RADIANS(G$11)) - ($B$2 + $B$3*(COS(RADIANS($A22))) + $B$4*SIN(RADIANS($A22)) + $B$5*SIN(RADIANS($A22))*COS(RADIANS(G$11)) + $B$6*SIN(RADIANS($A22))*SIN(RADIANS(G$11))) -> 0.021162032 | H22: =$A$2 + $A$3*(COS(RADIANS($A22))) + $A$4*SIN(RADIANS($A22)) + $A$5*SIN(RADIANS($A22))*COS(RADIANS(H$11)) + $A$6*SIN(RADIANS($A22))*SIN(RADIANS(H$11)) - ($B$2 + $B$3*(COS(RADIANS($A22))) + $B$4*SIN(RADIANS($A22)) + $B$5*SIN(RADIANS($A22))*COS(RADIANS(H$11)) + $B$6*SIN(RADIANS($A22))*SIN(RADIANS(H$11))) -> 0.025404375 | I22: =$A$2 + $A$3*(COS(RADIANS($A22))) + $A$4*SIN(RADIANS($A22)) + $A$5*SIN(RADIANS($A22))*COS(RADIANS(I$11)) + $A$6*SIN(RADIANS($A22))*SIN(RADIANS(I$11)) - ($B$2 + $B$3*(COS(RADIANS($A22))) + $B$4*SIN(RADIANS($A22)) + $B$5*SIN(RADIANS($A22))*COS(RADIANS(I$11)) + $B$6*SIN(RADIANS($A22))*SIN(RADIANS(I$11))) -> 0.032129295 | ... Z22: =$A$2 + $A$3*(COS(RADIANS($A22))) + $A$4*SIN(RADIANS($A22)) + $A$5*SIN(RADIANS($A22))*COS(RADIANS(Z$11)) + $A$6*SIN(RADIANS($A22))*SIN(RADIANS(Z$11)) - ($B$2 + $B$3*(COS(RADIANS($A22))) + $B$4*SIN(RADIANS($A22)) + $B$5*SIN(RADIANS($A22))*COS(RADIANS(Z$11)) + $B$6*SIN(RADIANS($A22))*SIN(RADIANS(Z$11))) -> 0.040646253
A23: 60 | B23: =$A$2 + $A$3*(COS(RADIANS($A23))) + $A$4*SIN(RADIANS($A23)) + $A$5*SIN(RADIANS($A23))*COS(RADIANS(B$11)) + $A$6*SIN(RADIANS($A23))*SIN(RADIANS(B$11)) - ($B$2 + $B$3*(COS(RADIANS($A23))) + $B$4*SIN(RADIANS($A23)) + $B$5*SIN(RADIANS($A23))*COS(RADIANS(B$11)) + $B$6*SIN(RADIANS($A23))*SIN(RADIANS(B$11))) -> 0.04751458 | C23: =$A$2 + $A$3*(COS(RADIANS($A23))) + $A$4*SIN(RADIANS($A23)) + $A$5*SIN(RADIANS($A23))*COS(RADIANS(C$11)) + $A$6*SIN(RADIANS($A23))*SIN(RADIANS(C$11)) - ($B$2 + $B$3*(COS(RADIANS($A23))) + $B$4*SIN(RADIANS($A23)) + $B$5*SIN(RADIANS($A23))*COS(RADIANS(C$11)) + $B$6*SIN(RADIANS($A23))*SIN(RADIANS(C$11))) -> 0.038309787 | D23: =$A$2 + $A$3*(COS(RADIANS($A23))) + $A$4*SIN(RADIANS($A23)) + $A$5*SIN(RADIANS($A23))*COS(RADIANS(D$11)) + $A$6*SIN(RADIANS($A23))*SIN(RADIANS(D$11)) - ($B$2 + $B$3*(COS(RADIANS($A23))) + $B$4*SIN(RADIANS($A23)) + $B$5*SIN(RADIANS($A23))*COS(RADIANS(D$11)) + $B$6*SIN(RADIANS($A23))*SIN(RADIANS(D$11))) -> 0.031258774 | E23: =$A$2 + $A$3*(COS(RADIANS($A23))) + $A$4*SIN(RADIANS($A23)) + $A$5*SIN(RADIANS($A23))*COS(RADIANS(E$11)) + $A$6*SIN(RADIANS($A23))*SIN(RADIANS(E$11)) - ($B$2 + $B$3*(COS(RADIANS($A23))) + $B$4*SIN(RADIANS($A23)) + $B$5*SIN(RADIANS($A23))*COS(RADIANS(E$11)) + $B$6*SIN(RADIANS($A23))*SIN(RADIANS(E$11))) -> 0.026842056 | F23: =$A$2 + $A$3*(COS(RADIANS($A23))) + $A$4*SIN(RADIANS($A23)) + $A$5*SIN(RADIANS($A23))*COS(RADIANS(F$11)) + $A$6*SIN(RADIANS($A23))*SIN(RADIANS(F$11)) - ($B$2 + $B$3*(COS(RADIANS($A23))) + $B$4*SIN(RADIANS($A23)) + $B$5*SIN(RADIANS($A23))*COS(RADIANS(F$11)) + $B$6*SIN(RADIANS($A23))*SIN(RADIANS(F$11))) -> 0.025360624 | G23: =$A$2 + $A$3*(COS(RADIANS($A23))) + $A$4*SIN(RADIANS($A23)) + $A$5*SIN(RADIANS($A23))*COS(RADIANS(G$11)) + $A$6*SIN(RADIANS($A23))*SIN(RADIANS(G$11)) - ($B$2 + $B$3*(COS(RADIANS($A23))) + $B$4*SIN(RADIANS($A23)) + $B$5*SIN(RADIANS($A23))*COS(RADIANS(G$11)) + $B$6*SIN(RADIANS($A23))*SIN(RADIANS(G$11))) -> 0.026915436 | H23: =$A$2 + $A$3*(COS(RADIANS($A23))) + $A$4*SIN(RADIANS($A23)) + $A$5*SIN(RADIANS($A23))*COS(RADIANS(H$11)) + $A$6*SIN(RADIANS($A23))*SIN(RADIANS(H$11)) - ($B$2 + $B$3*(COS(RADIANS($A23))) + $B$4*SIN(RADIANS($A23)) + $B$5*SIN(RADIANS($A23))*COS(RADIANS(H$11)) + $B$6*SIN(RADIANS($A23))*SIN(RADIANS(H$11))) -> 0.031400534 | I23: =$A$2 + $A$3*(COS(RADIANS($A23))) + $A$4*SIN(RADIANS($A23)) + $A$5*SIN(RADIANS($A23))*COS(RADIANS(I$11)) + $A$6*SIN(RADIANS($A23))*SIN(RADIANS(I$11)) - ($B$2 + $B$3*(COS(RADIANS($A23))) + $B$4*SIN(RADIANS($A23)) + $B$5*SIN(RADIANS($A23))*COS(RADIANS(I$11)) + $B$6*SIN(RADIANS($A23))*SIN(RADIANS(I$11))) -> 0.038510266 | ... Z23: =$A$2 + $A$3*(COS(RADIANS($A23))) + $A$4*SIN(RADIANS($A23)) + $A$5*SIN(RADIANS($A23))*COS(RADIANS(Z$11)) + $A$6*SIN(RADIANS($A23))*SIN(RADIANS(Z$11)) - ($B$2 + $B$3*(COS(RADIANS($A23))) + $B$4*SIN(RADIANS($A23)) + $B$5*SIN(RADIANS($A23))*COS(RADIANS(Z$11)) + $B$6*SIN(RADIANS($A23))*SIN(RADIANS(Z$11))) -> 0.04751458
... A28: 85 | B28: =$A$2 + $A$3*(COS(RADIANS($A28))) + $A$4*SIN(RADIANS($A28)) + $A$5*SIN(RADIANS($A28))*COS(RADIANS(B$11)) + $A$6*SIN(RADIANS($A28))*SIN(RADIANS(B$11)) - ($B$2 + $B$3*(COS(RADIANS($A28))) + $B$4*SIN(RADIANS($A28)) + $B$5*SIN(RADIANS($A28))*COS(RADIANS(B$11)) + $B$6*SIN(RADIANS($A28))*SIN(RADIANS(B$11))) -> 0.060322403 | C28: =$A$2 + $A$3*(COS(RADIANS($A28))) + $A$4*SIN(RADIANS($A28)) + $A$5*SIN(RADIANS($A28))*COS(RADIANS(C$11)) + $A$6*SIN(RADIANS($A28))*SIN(RADIANS(C$11)) - ($B$2 + $B$3*(COS(RADIANS($A28))) + $B$4*SIN(RADIANS($A28)) + $B$5*SIN(RADIANS($A28))*COS(RADIANS(C$11)) + $B$6*SIN(RADIANS($A28))*SIN(RADIANS(C$11))) -> 0.049734069 | D28: =$A$2 + $A$3*(COS(RADIANS($A28))) + $A$4*SIN(RADIANS($A28)) + $A$5*SIN(RADIANS($A28))*COS(RADIANS(D$11)) + $A$6*SIN(RADIANS($A28))*SIN(RADIANS(D$11)) - ($B$2 + $B$3*(COS(RADIANS($A28))) + $B$4*SIN(RADIANS($A28)) + $B$5*SIN(RADIANS($A28))*COS(RADIANS(D$11)) + $B$6*SIN(RADIANS($A28))*SIN(RADIANS(D$11))) -> 0.041623243 | E28: =$A$2 + $A$3*(COS(RADIANS($A28))) + $A$4*SIN(RADIANS($A28)) + $A$5*SIN(RADIANS($A28))*COS(RADIANS(E$11)) + $A$6*SIN(RADIANS($A28))*SIN(RADIANS(E$11)) - ($B$2 + $B$3*(COS(RADIANS($A28))) + $B$4*SIN(RADIANS($A28)) + $B$5*SIN(RADIANS($A28))*COS(RADIANS(E$11)) + $B$6*SIN(RADIANS($A28))*SIN(RADIANS(E$11))) -> 0.036542663 | F28: =$A$2 + $A$3*(COS(RADIANS($A28))) + $A$4*SIN(RADIANS($A28)) + $A$5*SIN(RADIANS($A28))*COS(RADIANS(F$11)) + $A$6*SIN(RADIANS($A28))*SIN(RADIANS(F$11)) - ($B$2 + $B$3*(COS(RADIANS($A28))) + $B$4*SIN(RADIANS($A28)) + $B$5*SIN(RADIANS($A28))*COS(RADIANS(F$11)) + $B$6*SIN(RADIANS($A28))*SIN(RADIANS(F$11))) -> 0.034838562 | G28: =$A$2 + $A$3*(COS(RADIANS($A28))) + $A$4*SIN(RADIANS($A28)) + $A$5*SIN(RADIANS($A28))*COS(RADIANS(G$11)) + $A$6*SIN(RADIANS($A28))*SIN(RADIANS(G$11)) - ($B$2 + $B$3*(COS(RADIANS($A28))) + $B$4*SIN(RADIANS($A28)) + $B$5*SIN(RADIANS($A28))*COS(RADIANS(G$11)) + $B$6*SIN(RADIANS($A28))*SIN(RADIANS(G$11))) -> 0.036627073 | H28: =$A$2 + $A$3*(COS(RADIANS($A28))) + $A$4*SIN(RADIANS($A28)) + $A$5*SIN(RADIANS($A28))*COS(RADIANS(H$11)) + $A$6*SIN(RADIANS($A28))*SIN(RADIANS(H$11)) - ($B$2 + $B$3*(COS(RADIANS($A28))) + $B$4*SIN(RADIANS($A28)) + $B$5*SIN(RADIANS($A28))*COS(RADIANS(H$11)) + $B$6*SIN(RADIANS($A28))*SIN(RADIANS(H$11))) -> 0.04178631 | I28: =$A$2 + $A$3*(COS(RADIANS($A28))) + $A$4*SIN(RADIANS($A28)) + $A$5*SIN(RADIANS($A28))*COS(RADIANS(I$11)) + $A$6*SIN(RADIANS($A28))*SIN(RADIANS(I$11)) - ($B$2 + $B$3*(COS(RADIANS($A28))) + $B$4*SIN(RADIANS($A28)) + $B$5*SIN(RADIANS($A28))*COS(RADIANS(I$11)) + $B$6*SIN(RADIANS($A28))*SIN(RADIANS(I$11))) -> 0.049964682 | ... Z28: =$A$2 + $A$3*(COS(RADIANS($A28))) + $A$4*SIN(RADIANS($A28)) + $A$5*SIN(RADIANS($A28))*COS(RADIANS(Z$11)) + $A$6*SIN(RADIANS($A28))*SIN(RADIANS(Z$11)) - ($B$2 + $B$3*(COS(RADIANS($A28))) + $B$4*SIN(RADIANS($A28)) + $B$5*SIN(RADIANS($A28))*COS(RADIANS(Z$11)) + $B$6*SIN(RADIANS($A28))*SIN(RADIANS(Z$11))) -> 0.060322403
A30: El corrections (old-new)
A32: Az/El | B32: 0 | C32: 15 | D32: 30 | E32: 45 | F32: 60 | G32: 75 | H32: 90 | I32: 105 | J32: 120 | K32: 135 | L32: 150 | M32: 165 | N32: 180 | O32: 195 | P32: 210 | Q32: 225 | R32: 240 | S32: 255 | T32: 270 | U32: 285 | V32: 300 | W32: 315 | X32: 330 | Y32: 345 | Z32: 360
A33: 5 | B33: =$A$5*(-SIN(RADIANS(B$32))) + $A$6*COS(RADIANS(B$32)) + $A$7+ $A$8*COS(RADIANS($A33)) + $A$9*(1/TAN(RADIANS($A33)))- ($B$5*(-SIN(RADIANS(B$32))) + $B$6*COS(RADIANS(B$32)) + $B$7+ $B$8*COS(RADIANS($A33)) + $B$9*(1/TAN(RADIANS($A33)))) -> -0.094021426 | C33: =$A$5*(-SIN(RADIANS(C$32))) + $A$6*COS(RADIANS(C$32)) + $A$7+ $A$8*COS(RADIANS($A33)) + $A$9*(1/TAN(RADIANS($A33)))- ($B$5*(-SIN(RADIANS(C$32))) + $B$6*COS(RADIANS(C$32)) + $B$7+ $B$8*COS(RADIANS($A33)) + $B$9*(1/TAN(RADIANS($A33)))) -> -0.085811815 | D33: =$A$5*(-SIN(RADIANS(D$32))) + $A$6*COS(RADIANS(D$32)) + $A$7+ $A$8*COS(RADIANS($A33)) + $A$9*(1/TAN(RADIANS($A33)))- ($B$5*(-SIN(RADIANS(D$32))) + $B$6*COS(RADIANS(D$32)) + $B$7+ $B$8*COS(RADIANS($A33)) + $B$9*(1/TAN(RADIANS($A33)))) -> -0.075131008 | E33: =$A$5*(-SIN(RADIANS(E$32))) + $A$6*COS(RADIANS(E$32)) + $A$7+ $A$8*COS(RADIANS($A33)) + $A$9*(1/TAN(RADIANS($A33)))- ($B$5*(-SIN(RADIANS(E$32))) + $B$6*COS(RADIANS(E$32)) + $B$7+ $B$8*COS(RADIANS($A33)) + $B$9*(1/TAN(RADIANS($A33)))) -> -0.062706887 | F33: =$A$5*(-SIN(RADIANS(F$32))) + $A$6*COS(RADIANS(F$32)) + $A$7+ $A$8*COS(RADIANS($A33)) + $A$9*(1/TAN(RADIANS($A33)))- ($B$5*(-SIN(RADIANS(F$32))) + $B$6*COS(RADIANS(F$32)) + $B$7+ $B$8*COS(RADIANS($A33)) + $B$9*(1/TAN(RADIANS($A33)))) -> -0.049386133 | G33: =$A$5*(-SIN(RADIANS(G$32))) + $A$6*COS(RADIANS(G$32)) + $A$7+ $A$8*COS(RADIANS($A33)) + $A$9*(1/TAN(RADIANS($A33)))- ($B$5*(-SIN(RADIANS(G$32))) + $B$6*COS(RADIANS(G$32)) + $B$7+ $B$8*COS(RADIANS($A33)) + $B$9*(1/TAN(RADIANS($A33)))) -> -0.036076535 | H33: =$A$5*(-SIN(RADIANS(H$32))) + $A$6*COS(RADIANS(H$32)) + $A$7+ $A$8*COS(RADIANS($A33)) + $A$9*(1/TAN(RADIANS($A33)))- ($B$5*(-SIN(RADIANS(H$32))) + $B$6*COS(RADIANS(H$32)) + $B$7+ $B$8*COS(RADIANS($A33)) + $B$9*(1/TAN(RADIANS($A33)))) -> -0.023685119 | I33: =$A$5*(-SIN(RADIANS(I$32))) + $A$6*COS(RADIANS(I$32)) + $A$7+ $A$8*COS(RADIANS($A33)) + $A$9*(1/TAN(RADIANS($A33)))- ($B$5*(-SIN(RADIANS(I$32))) + $B$6*COS(RADIANS(I$32)) + $B$7+ $B$8*COS(RADIANS($A33)) + $B$9*(1/TAN(RADIANS($A33)))) -> -0.01305634 | ... Z33: =$A$5*(-SIN(RADIANS(Z$32))) + $A$6*COS(RADIANS(Z$32)) + $A$7+ $A$8*COS(RADIANS($A33)) + $A$9*(1/TAN(RADIANS($A33)))- ($B$5*(-SIN(RADIANS(Z$32))) + $B$6*COS(RADIANS(Z$32)) + $B$7+ $B$8*COS(RADIANS($A33)) + $B$9*(1/TAN(RADIANS($A33)))) -> -0.094021426
A34: 10 | B34: =$A$5*(-SIN(RADIANS(B$32))) + $A$6*COS(RADIANS(B$32)) + $A$7+ $A$8*COS(RADIANS($A34)) + $A$9*(1/TAN(RADIANS($A34)))- ($B$5*(-SIN(RADIANS(B$32))) + $B$6*COS(RADIANS(B$32)) + $B$7+ $B$8*COS(RADIANS($A34)) + $B$9*(1/TAN(RADIANS($A34)))) -> -0.04444541 | C34: =$A$5*(-SIN(RADIANS(C$32))) + $A$6*COS(RADIANS(C$32)) + $A$7+ $A$8*COS(RADIANS($A34)) + $A$9*(1/TAN(RADIANS($A34)))- ($B$5*(-SIN(RADIANS(C$32))) + $B$6*COS(RADIANS(C$32)) + $B$7+ $B$8*COS(RADIANS($A34)) + $B$9*(1/TAN(RADIANS($A34)))) -> -0.036235799 | D34: =$A$5*(-SIN(RADIANS(D$32))) + $A$6*COS(RADIANS(D$32)) + $A$7+ $A$8*COS(RADIANS($A34)) + $A$9*(1/TAN(RADIANS($A34)))- ($B$5*(-SIN(RADIANS(D$32))) + $B$6*COS(RADIANS(D$32)) + $B$7+ $B$8*COS(RADIANS($A34)) + $B$9*(1/TAN(RADIANS($A34)))) -> -0.025554993 | E34: =$A$5*(-SIN(RADIANS(E$32))) + $A$6*COS(RADIANS(E$32)) + $A$7+ $A$8*COS(RADIANS($A34)) + $A$9*(1/TAN(RADIANS($A34)))- ($B$5*(-SIN(RADIANS(E$32))) + $B$6*COS(RADIANS(E$32)) + $B$7+ $B$8*COS(RADIANS($A34)) + $B$9*(1/TAN(RADIANS($A34)))) -> -0.013130871 | F34: =$A$5*(-SIN(RADIANS(F$32))) + $A$6*COS(RADIANS(F$32)) + $A$7+ $A$8*COS(RADIANS($A34)) + $A$9*(1/TAN(RADIANS($A34)))- ($B$5*(-SIN(RADIANS(F$32))) + $B$6*COS(RADIANS(F$32)) + $B$7+ $B$8*COS(RADIANS($A34)) + $B$9*(1/TAN(RADIANS($A34)))) -> 0.00018988261 | G34: =$A$5*(-SIN(RADIANS(G$32))) + $A$6*COS(RADIANS(G$32)) + $A$7+ $A$8*COS(RADIANS($A34)) + $A$9*(1/TAN(RADIANS($A34)))- ($B$5*(-SIN(RADIANS(G$32))) + $B$6*COS(RADIANS(G$32)) + $B$7+ $B$8*COS(RADIANS($A34)) + $B$9*(1/TAN(RADIANS($A34)))) -> 0.013499481 | H34: =$A$5*(-SIN(RADIANS(H$32))) + $A$6*COS(RADIANS(H$32)) + $A$7+ $A$8*COS(RADIANS($A34)) + $A$9*(1/TAN(RADIANS($A34)))- ($B$5*(-SIN(RADIANS(H$32))) + $B$6*COS(RADIANS(H$32)) + $B$7+ $B$8*COS(RADIANS($A34)) + $B$9*(1/TAN(RADIANS($A34)))) -> 0.025890897 | I34: =$A$5*(-SIN(RADIANS(I$32))) + $A$6*COS(RADIANS(I$32)) + $A$7+ $A$8*COS(RADIANS($A34)) + $A$9*(1/TAN(RADIANS($A34)))- ($B$5*(-SIN(RADIANS(I$32))) + $B$6*COS(RADIANS(I$32)) + $B$7+ $B$8*COS(RADIANS($A34)) + $B$9*(1/TAN(RADIANS($A34)))) -> 0.036519676 | ... Z34: =$A$5*(-SIN(RADIANS(Z$32))) + $A$6*COS(RADIANS(Z$32)) + $A$7+ $A$8*COS(RADIANS($A34)) + $A$9*(1/TAN(RADIANS($A34)))- ($B$5*(-SIN(RADIANS(Z$32))) + $B$6*COS(RADIANS(Z$32)) + $B$7+ $B$8*COS(RADIANS($A34)) + $B$9*(1/TAN(RADIANS($A34)))) -> -0.04444541
A35: 15 | B35: =$A$5*(-SIN(RADIANS(B$32))) + $A$6*COS(RADIANS(B$32)) + $A$7+ $A$8*COS(RADIANS($A35)) + $A$9*(1/TAN(RADIANS($A35)))- ($B$5*(-SIN(RADIANS(B$32))) + $B$6*COS(RADIANS(B$32)) + $B$7+ $B$8*COS(RADIANS($A35)) + $B$9*(1/TAN(RADIANS($A35)))) -> -0.02511333 | C35: =$A$5*(-SIN(RADIANS(C$32))) + $A$6*COS(RADIANS(C$32)) + $A$7+ $A$8*COS(RADIANS($A35)) + $A$9*(1/TAN(RADIANS($A35)))- ($B$5*(-SIN(RADIANS(C$32))) + $B$6*COS(RADIANS(C$32)) + $B$7+ $B$8*COS(RADIANS($A35)) + $B$9*(1/TAN(RADIANS($A35)))) -> -0.016903718 | D35: =$A$5*(-SIN(RADIANS(D$32))) + $A$6*COS(RADIANS(D$32)) + $A$7+ $A$8*COS(RADIANS($A35)) + $A$9*(1/TAN(RADIANS($A35)))- ($B$5*(-SIN(RADIANS(D$32))) + $B$6*COS(RADIANS(D$32)) + $B$7+ $B$8*COS(RADIANS($A35)) + $B$9*(1/TAN(RADIANS($A35)))) -> -0.0062229122 | E35: =$A$5*(-SIN(RADIANS(E$32))) + $A$6*COS(RADIANS(E$32)) + $A$7+ $A$8*COS(RADIANS($A35)) + $A$9*(1/TAN(RADIANS($A35)))- ($B$5*(-SIN(RADIANS(E$32))) + $B$6*COS(RADIANS(E$32)) + $B$7+ $B$8*COS(RADIANS($A35)) + $B$9*(1/TAN(RADIANS($A35)))) -> 0.0062012094 | F35: =$A$5*(-SIN(RADIANS(F$32))) + $A$6*COS(RADIANS(F$32)) + $A$7+ $A$8*COS(RADIANS($A35)) + $A$9*(1/TAN(RADIANS($A35)))- ($B$5*(-SIN(RADIANS(F$32))) + $B$6*COS(RADIANS(F$32)) + $B$7+ $B$8*COS(RADIANS($A35)) + $B$9*(1/TAN(RADIANS($A35)))) -> 0.019521963 | G35: =$A$5*(-SIN(RADIANS(G$32))) + $A$6*COS(RADIANS(G$32)) + $A$7+ $A$8*COS(RADIANS($A35)) + $A$9*(1/TAN(RADIANS($A35)))- ($B$5*(-SIN(RADIANS(G$32))) + $B$6*COS(RADIANS(G$32)) + $B$7+ $B$8*COS(RADIANS($A35)) + $B$9*(1/TAN(RADIANS($A35)))) -> 0.032831561 | H35: =$A$5*(-SIN(RADIANS(H$32))) + $A$6*COS(RADIANS(H$32)) + $A$7+ $A$8*COS(RADIANS($A35)) + $A$9*(1/TAN(RADIANS($A35)))- ($B$5*(-SIN(RADIANS(H$32))) + $B$6*COS(RADIANS(H$32)) + $B$7+ $B$8*COS(RADIANS($A35)) + $B$9*(1/TAN(RADIANS($A35)))) -> 0.045222978 | I35: =$A$5*(-SIN(RADIANS(I$32))) + $A$6*COS(RADIANS(I$32)) + $A$7+ $A$8*COS(RADIANS($A35)) + $A$9*(1/TAN(RADIANS($A35)))- ($B$5*(-SIN(RADIANS(I$32))) + $B$6*COS(RADIANS(I$32)) + $B$7+ $B$8*COS(RADIANS($A35)) + $B$9*(1/TAN(RADIANS($A35)))) -> 0.055851757 | ... Z35: =$A$5*(-SIN(RADIANS(Z$32))) + $A$6*COS(RADIANS(Z$32)) + $A$7+ $A$8*COS(RADIANS($A35)) + $A$9*(1/TAN(RADIANS($A35)))- ($B$5*(-SIN(RADIANS(Z$32))) + $B$6*COS(RADIANS(Z$32)) + $B$7+ $B$8*COS(RADIANS($A35)) + $B$9*(1/TAN(RADIANS($A35)))) -> -0.02511333
A36: 20 | B36: =$A$5*(-SIN(RADIANS(B$32))) + $A$6*COS(RADIANS(B$32)) + $A$7+ $A$8*COS(RADIANS($A36)) + $A$9*(1/TAN(RADIANS($A36)))- ($B$5*(-SIN(RADIANS(B$32))) + $B$6*COS(RADIANS(B$32)) + $B$7+ $B$8*COS(RADIANS($A36)) + $B$9*(1/TAN(RADIANS($A36)))) -> -0.012380202 | C36: =$A$5*(-SIN(RADIANS(C$32))) + $A$6*COS(RADIANS(C$32)) + $A$7+ $A$8*COS(RADIANS($A36)) + $A$9*(1/TAN(RADIANS($A36)))- ($B$5*(-SIN(RADIANS(C$32))) + $B$6*COS(RADIANS(C$32)) + $B$7+ $B$8*COS(RADIANS($A36)) + $B$9*(1/TAN(RADIANS($A36)))) -> -0.0041705904 | D36: =$A$5*(-SIN(RADIANS(D$32))) + $A$6*COS(RADIANS(D$32)) + $A$7+ $A$8*COS(RADIANS($A36)) + $A$9*(1/TAN(RADIANS($A36)))- ($B$5*(-SIN(RADIANS(D$32))) + $B$6*COS(RADIANS(D$32)) + $B$7+ $B$8*COS(RADIANS($A36)) + $B$9*(1/TAN(RADIANS($A36)))) -> 0.0065102157 | E36: =$A$5*(-SIN(RADIANS(E$32))) + $A$6*COS(RADIANS(E$32)) + $A$7+ $A$8*COS(RADIANS($A36)) + $A$9*(1/TAN(RADIANS($A36)))- ($B$5*(-SIN(RADIANS(E$32))) + $B$6*COS(RADIANS(E$32)) + $B$7+ $B$8*COS(RADIANS($A36)) + $B$9*(1/TAN(RADIANS($A36)))) -> 0.018934337 | F36: =$A$5*(-SIN(RADIANS(F$32))) + $A$6*COS(RADIANS(F$32)) + $A$7+ $A$8*COS(RADIANS($A36)) + $A$9*(1/TAN(RADIANS($A36)))- ($B$5*(-SIN(RADIANS(F$32))) + $B$6*COS(RADIANS(F$32)) + $B$7+ $B$8*COS(RADIANS($A36)) + $B$9*(1/TAN(RADIANS($A36)))) -> 0.032255091 | G36: =$A$5*(-SIN(RADIANS(G$32))) + $A$6*COS(RADIANS(G$32)) + $A$7+ $A$8*COS(RADIANS($A36)) + $A$9*(1/TAN(RADIANS($A36)))- ($B$5*(-SIN(RADIANS(G$32))) + $B$6*COS(RADIANS(G$32)) + $B$7+ $B$8*COS(RADIANS($A36)) + $B$9*(1/TAN(RADIANS($A36)))) -> 0.045564689 | H36: =$A$5*(-SIN(RADIANS(H$32))) + $A$6*COS(RADIANS(H$32)) + $A$7+ $A$8*COS(RADIANS($A36)) + $A$9*(1/TAN(RADIANS($A36)))- ($B$5*(-SIN(RADIANS(H$32))) + $B$6*COS(RADIANS(H$32)) + $B$7+ $B$8*COS(RADIANS($A36)) + $B$9*(1/TAN(RADIANS($A36)))) -> 0.057956105 | I36: =$A$5*(-SIN(RADIANS(I$32))) + $A$6*COS(RADIANS(I$32)) + $A$7+ $A$8*COS(RADIANS($A36)) + $A$9*(1/TAN(RADIANS($A36)))- ($B$5*(-SIN(RADIANS(I$32))) + $B$6*COS(RADIANS(I$32)) + $B$7+ $B$8*COS(RADIANS($A36)) + $B$9*(1/TAN(RADIANS($A36)))) -> 0.068584885 | ... Z36: =$A$5*(-SIN(RADIANS(Z$32))) + $A$6*COS(RADIANS(Z$32)) + $A$7+ $A$8*COS(RADIANS($A36)) + $A$9*(1/TAN(RADIANS($A36)))- ($B$5*(-SIN(RADIANS(Z$32))) + $B$6*COS(RADIANS(Z$32)) + $B$7+ $B$8*COS(RADIANS($A36)) + $B$9*(1/TAN(RADIANS($A36)))) -> -0.012380202
A37: 25 | B37: =$A$5*(-SIN(RADIANS(B$32))) + $A$6*COS(RADIANS(B$32)) + $A$7+ $A$8*COS(RADIANS($A37)) + $A$9*(1/TAN(RADIANS($A37)))- ($B$5*(-SIN(RADIANS(B$32))) + $B$6*COS(RADIANS(B$32)) + $B$7+ $B$8*COS(RADIANS($A37)) + $B$9*(1/TAN(RADIANS($A37)))) -> -0.0015463409 | C37: =$A$5*(-SIN(RADIANS(C$32))) + $A$6*COS(RADIANS(C$32)) + $A$7+ $A$8*COS(RADIANS($A37)) + $A$9*(1/TAN(RADIANS($A37)))- ($B$5*(-SIN(RADIANS(C$32))) + $B$6*COS(RADIANS(C$32)) + $B$7+ $B$8*COS(RADIANS($A37)) + $B$9*(1/TAN(RADIANS($A37)))) -> 0.0066632705 | D37: =$A$5*(-SIN(RADIANS(D$32))) + $A$6*COS(RADIANS(D$32)) + $A$7+ $A$8*COS(RADIANS($A37)) + $A$9*(1/TAN(RADIANS($A37)))- ($B$5*(-SIN(RADIANS(D$32))) + $B$6*COS(RADIANS(D$32)) + $B$7+ $B$8*COS(RADIANS($A37)) + $B$9*(1/TAN(RADIANS($A37)))) -> 0.017344077 | E37: =$A$5*(-SIN(RADIANS(E$32))) + $A$6*COS(RADIANS(E$32)) + $A$7+ $A$8*COS(RADIANS($A37)) + $A$9*(1/TAN(RADIANS($A37)))- ($B$5*(-SIN(RADIANS(E$32))) + $B$6*COS(RADIANS(E$32)) + $B$7+ $B$8*COS(RADIANS($A37)) + $B$9*(1/TAN(RADIANS($A37)))) -> 0.029768198 | F37: =$A$5*(-SIN(RADIANS(F$32))) + $A$6*COS(RADIANS(F$32)) + $A$7+ $A$8*COS(RADIANS($A37)) + $A$9*(1/TAN(RADIANS($A37)))- ($B$5*(-SIN(RADIANS(F$32))) + $B$6*COS(RADIANS(F$32)) + $B$7+ $B$8*COS(RADIANS($A37)) + $B$9*(1/TAN(RADIANS($A37)))) -> 0.043088952 | G37: =$A$5*(-SIN(RADIANS(G$32))) + $A$6*COS(RADIANS(G$32)) + $A$7+ $A$8*COS(RADIANS($A37)) + $A$9*(1/TAN(RADIANS($A37)))- ($B$5*(-SIN(RADIANS(G$32))) + $B$6*COS(RADIANS(G$32)) + $B$7+ $B$8*COS(RADIANS($A37)) + $B$9*(1/TAN(RADIANS($A37)))) -> 0.05639855 | H37: =$A$5*(-SIN(RADIANS(H$32))) + $A$6*COS(RADIANS(H$32)) + $A$7+ $A$8*COS(RADIANS($A37)) + $A$9*(1/TAN(RADIANS($A37)))- ($B$5*(-SIN(RADIANS(H$32))) + $B$6*COS(RADIANS(H$32)) + $B$7+ $B$8*COS(RADIANS($A37)) + $B$9*(1/TAN(RADIANS($A37)))) -> 0.068789966 | I37: =$A$5*(-SIN(RADIANS(I$32))) + $A$6*COS(RADIANS(I$32)) + $A$7+ $A$8*COS(RADIANS($A37)) + $A$9*(1/TAN(RADIANS($A37)))- ($B$5*(-SIN(RADIANS(I$32))) + $B$6*COS(RADIANS(I$32)) + $B$7+ $B$8*COS(RADIANS($A37)) + $B$9*(1/TAN(RADIANS($A37)))) -> 0.079418745 | ... Z37: =$A$5*(-SIN(RADIANS(Z$32))) + $A$6*COS(RADIANS(Z$32)) + $A$7+ $A$8*COS(RADIANS($A37)) + $A$9*(1/TAN(RADIANS($A37)))- ($B$5*(-SIN(RADIANS(Z$32))) + $B$6*COS(RADIANS(Z$32)) + $B$7+ $B$8*COS(RADIANS($A37)) + $B$9*(1/TAN(RADIANS($A37)))) -> -0.0015463409
A38: 30 | B38: =$A$5*(-SIN(RADIANS(B$32))) + $A$6*COS(RADIANS(B$32)) + $A$7+ $A$8*COS(RADIANS($A38)) + $A$9*(1/TAN(RADIANS($A38)))- ($B$5*(-SIN(RADIANS(B$32))) + $B$6*COS(RADIANS(B$32)) + $B$7+ $B$8*COS(RADIANS($A38)) + $B$9*(1/TAN(RADIANS($A38)))) -> 0.0089225233 | C38: =$A$5*(-SIN(RADIANS(C$32))) + $A$6*COS(RADIANS(C$32)) + $A$7+ $A$8*COS(RADIANS($A38)) + $A$9*(1/TAN(RADIANS($A38)))- ($B$5*(-SIN(RADIANS(C$32))) + $B$6*COS(RADIANS(C$32)) + $B$7+ $B$8*COS(RADIANS($A38)) + $B$9*(1/TAN(RADIANS($A38)))) -> 0.017132135 | D38: =$A$5*(-SIN(RADIANS(D$32))) + $A$6*COS(RADIANS(D$32)) + $A$7+ $A$8*COS(RADIANS($A38)) + $A$9*(1/TAN(RADIANS($A38)))- ($B$5*(-SIN(RADIANS(D$32))) + $B$6*COS(RADIANS(D$32)) + $B$7+ $B$8*COS(RADIANS($A38)) + $B$9*(1/TAN(RADIANS($A38)))) -> 0.027812941 | E38: =$A$5*(-SIN(RADIANS(E$32))) + $A$6*COS(RADIANS(E$32)) + $A$7+ $A$8*COS(RADIANS($A38)) + $A$9*(1/TAN(RADIANS($A38)))- ($B$5*(-SIN(RADIANS(E$32))) + $B$6*COS(RADIANS(E$32)) + $B$7+ $B$8*COS(RADIANS($A38)) + $B$9*(1/TAN(RADIANS($A38)))) -> 0.040237062 | F38: =$A$5*(-SIN(RADIANS(F$32))) + $A$6*COS(RADIANS(F$32)) + $A$7+ $A$8*COS(RADIANS($A38)) + $A$9*(1/TAN(RADIANS($A38)))- ($B$5*(-SIN(RADIANS(F$32))) + $B$6*COS(RADIANS(F$32)) + $B$7+ $B$8*COS(RADIANS($A38)) + $B$9*(1/TAN(RADIANS($A38)))) -> 0.053557816 | G38: =$A$5*(-SIN(RADIANS(G$32))) + $A$6*COS(RADIANS(G$32)) + $A$7+ $A$8*COS(RADIANS($A38)) + $A$9*(1/TAN(RADIANS($A38)))- ($B$5*(-SIN(RADIANS(G$32))) + $B$6*COS(RADIANS(G$32)) + $B$7+ $B$8*COS(RADIANS($A38)) + $B$9*(1/TAN(RADIANS($A38)))) -> 0.066867415 | H38: =$A$5*(-SIN(RADIANS(H$32))) + $A$6*COS(RADIANS(H$32)) + $A$7+ $A$8*COS(RADIANS($A38)) + $A$9*(1/TAN(RADIANS($A38)))- ($B$5*(-SIN(RADIANS(H$32))) + $B$6*COS(RADIANS(H$32)) + $B$7+ $B$8*COS(RADIANS($A38)) + $B$9*(1/TAN(RADIANS($A38)))) -> 0.079258831 | I38: =$A$5*(-SIN(RADIANS(I$32))) + $A$6*COS(RADIANS(I$32)) + $A$7+ $A$8*COS(RADIANS($A38)) + $A$9*(1/TAN(RADIANS($A38)))- ($B$5*(-SIN(RADIANS(I$32))) + $B$6*COS(RADIANS(I$32)) + $B$7+ $B$8*COS(RADIANS($A38)) + $B$9*(1/TAN(RADIANS($A38)))) -> 0.08988761 | ... Z38: =$A$5*(-SIN(RADIANS(Z$32))) + $A$6*COS(RADIANS(Z$32)) + $A$7+ $A$8*COS(RADIANS($A38)) + $A$9*(1/TAN(RADIANS($A38)))- ($B$5*(-SIN(RADIANS(Z$32))) + $B$6*COS(RADIANS(Z$32)) + $B$7+ $B$8*COS(RADIANS($A38)) + $B$9*(1/TAN(RADIANS($A38)))) -> 0.0089225233
A39: 35 | B39: =$A$5*(-SIN(RADIANS(B$32))) + $A$6*COS(RADIANS(B$32)) + $A$7+ $A$8*COS(RADIANS($A39)) + $A$9*(1/TAN(RADIANS($A39)))- ($B$5*(-SIN(RADIANS(B$32))) + $B$6*COS(RADIANS(B$32)) + $B$7+ $B$8*COS(RADIANS($A39)) + $B$9*(1/TAN(RADIANS($A39)))) -> 0.019649829 | C39: =$A$5*(-SIN(RADIANS(C$32))) + $A$6*COS(RADIANS(C$32)) + $A$7+ $A$8*COS(RADIANS($A39)) + $A$9*(1/TAN(RADIANS($A39)))- ($B$5*(-SIN(RADIANS(C$32))) + $B$6*COS(RADIANS(C$32)) + $B$7+ $B$8*COS(RADIANS($A39)) + $B$9*(1/TAN(RADIANS($A39)))) -> 0.02785944 | D39: =$A$5*(-SIN(RADIANS(D$32))) + $A$6*COS(RADIANS(D$32)) + $A$7+ $A$8*COS(RADIANS($A39)) + $A$9*(1/TAN(RADIANS($A39)))- ($B$5*(-SIN(RADIANS(D$32))) + $B$6*COS(RADIANS(D$32)) + $B$7+ $B$8*COS(RADIANS($A39)) + $B$9*(1/TAN(RADIANS($A39)))) -> 0.038540247 | E39: =$A$5*(-SIN(RADIANS(E$32))) + $A$6*COS(RADIANS(E$32)) + $A$7+ $A$8*COS(RADIANS($A39)) + $A$9*(1/TAN(RADIANS($A39)))- ($B$5*(-SIN(RADIANS(E$32))) + $B$6*COS(RADIANS(E$32)) + $B$7+ $B$8*COS(RADIANS($A39)) + $B$9*(1/TAN(RADIANS($A39)))) -> 0.050964368 | F39: =$A$5*(-SIN(RADIANS(F$32))) + $A$6*COS(RADIANS(F$32)) + $A$7+ $A$8*COS(RADIANS($A39)) + $A$9*(1/TAN(RADIANS($A39)))- ($B$5*(-SIN(RADIANS(F$32))) + $B$6*COS(RADIANS(F$32)) + $B$7+ $B$8*COS(RADIANS($A39)) + $B$9*(1/TAN(RADIANS($A39)))) -> 0.064285122 | G39: =$A$5*(-SIN(RADIANS(G$32))) + $A$6*COS(RADIANS(G$32)) + $A$7+ $A$8*COS(RADIANS($A39)) + $A$9*(1/TAN(RADIANS($A39)))- ($B$5*(-SIN(RADIANS(G$32))) + $B$6*COS(RADIANS(G$32)) + $B$7+ $B$8*COS(RADIANS($A39)) + $B$9*(1/TAN(RADIANS($A39)))) -> 0.07759472 | H39: =$A$5*(-SIN(RADIANS(H$32))) + $A$6*COS(RADIANS(H$32)) + $A$7+ $A$8*COS(RADIANS($A39)) + $A$9*(1/TAN(RADIANS($A39)))- ($B$5*(-SIN(RADIANS(H$32))) + $B$6*COS(RADIANS(H$32)) + $B$7+ $B$8*COS(RADIANS($A39)) + $B$9*(1/TAN(RADIANS($A39)))) -> 0.089986136 | I39: =$A$5*(-SIN(RADIANS(I$32))) + $A$6*COS(RADIANS(I$32)) + $A$7+ $A$8*COS(RADIANS($A39)) + $A$9*(1/TAN(RADIANS($A39)))- ($B$5*(-SIN(RADIANS(I$32))) + $B$6*COS(RADIANS(I$32)) + $B$7+ $B$8*COS(RADIANS($A39)) + $B$9*(1/TAN(RADIANS($A39)))) -> 0.10061492 | ... Z39: =$A$5*(-SIN(RADIANS(Z$32))) + $A$6*COS(RADIANS(Z$32)) + $A$7+ $A$8*COS(RADIANS($A39)) + $A$9*(1/TAN(RADIANS($A39)))- ($B$5*(-SIN(RADIANS(Z$32))) + $B$6*COS(RADIANS(Z$32)) + $B$7+ $B$8*COS(RADIANS($A39)) + $B$9*(1/TAN(RADIANS($A39)))) -> 0.019649829
A40: 40 | B40: =$A$5*(-SIN(RADIANS(B$32))) + $A$6*COS(RADIANS(B$32)) + $A$7+ $A$8*COS(RADIANS($A40)) + $A$9*(1/TAN(RADIANS($A40)))- ($B$5*(-SIN(RADIANS(B$32))) + $B$6*COS(RADIANS(B$32)) + $B$7+ $B$8*COS(RADIANS($A40)) + $B$9*(1/TAN(RADIANS($A40)))) -> 0.030912165 | C40: =$A$5*(-SIN(RADIANS(C$32))) + $A$6*COS(RADIANS(C$32)) + $A$7+ $A$8*COS(RADIANS($A40)) + $A$9*(1/TAN(RADIANS($A40)))- ($B$5*(-SIN(RADIANS(C$32))) + $B$6*COS(RADIANS(C$32)) + $B$7+ $B$8*COS(RADIANS($A40)) + $B$9*(1/TAN(RADIANS($A40)))) -> 0.039121777 | D40: =$A$5*(-SIN(RADIANS(D$32))) + $A$6*COS(RADIANS(D$32)) + $A$7+ $A$8*COS(RADIANS($A40)) + $A$9*(1/TAN(RADIANS($A40)))- ($B$5*(-SIN(RADIANS(D$32))) + $B$6*COS(RADIANS(D$32)) + $B$7+ $B$8*COS(RADIANS($A40)) + $B$9*(1/TAN(RADIANS($A40)))) -> 0.049802583 | E40: =$A$5*(-SIN(RADIANS(E$32))) + $A$6*COS(RADIANS(E$32)) + $A$7+ $A$8*COS(RADIANS($A40)) + $A$9*(1/TAN(RADIANS($A40)))- ($B$5*(-SIN(RADIANS(E$32))) + $B$6*COS(RADIANS(E$32)) + $B$7+ $B$8*COS(RADIANS($A40)) + $B$9*(1/TAN(RADIANS($A40)))) -> 0.062226704 | F40: =$A$5*(-SIN(RADIANS(F$32))) + $A$6*COS(RADIANS(F$32)) + $A$7+ $A$8*COS(RADIANS($A40)) + $A$9*(1/TAN(RADIANS($A40)))- ($B$5*(-SIN(RADIANS(F$32))) + $B$6*COS(RADIANS(F$32)) + $B$7+ $B$8*COS(RADIANS($A40)) + $B$9*(1/TAN(RADIANS($A40)))) -> 0.075547458 | G40: =$A$5*(-SIN(RADIANS(G$32))) + $A$6*COS(RADIANS(G$32)) + $A$7+ $A$8*COS(RADIANS($A40)) + $A$9*(1/TAN(RADIANS($A40)))- ($B$5*(-SIN(RADIANS(G$32))) + $B$6*COS(RADIANS(G$32)) + $B$7+ $B$8*COS(RADIANS($A40)) + $B$9*(1/TAN(RADIANS($A40)))) -> 0.088857056 | H40: =$A$5*(-SIN(RADIANS(H$32))) + $A$6*COS(RADIANS(H$32)) + $A$7+ $A$8*COS(RADIANS($A40)) + $A$9*(1/TAN(RADIANS($A40)))- ($B$5*(-SIN(RADIANS(H$32))) + $B$6*COS(RADIANS(H$32)) + $B$7+ $B$8*COS(RADIANS($A40)) + $B$9*(1/TAN(RADIANS($A40)))) -> 0.10124847 | I40: =$A$5*(-SIN(RADIANS(I$32))) + $A$6*COS(RADIANS(I$32)) + $A$7+ $A$8*COS(RADIANS($A40)) + $A$9*(1/TAN(RADIANS($A40)))- ($B$5*(-SIN(RADIANS(I$32))) + $B$6*COS(RADIANS(I$32)) + $B$7+ $B$8*COS(RADIANS($A40)) + $B$9*(1/TAN(RADIANS($A40)))) -> 0.11187725 | ... Z40: =$A$5*(-SIN(RADIANS(Z$32))) + $A$6*COS(RADIANS(Z$32)) + $A$7+ $A$8*COS(RADIANS($A40)) + $A$9*(1/TAN(RADIANS($A40)))- ($B$5*(-SIN(RADIANS(Z$32))) + $B$6*COS(RADIANS(Z$32)) + $B$7+ $B$8*COS(RADIANS($A40)) + $B$9*(1/TAN(RADIANS($A40)))) -> 0.030912165
A41: 45 | B41: =$A$5*(-SIN(RADIANS(B$32))) + $A$6*COS(RADIANS(B$32)) + $A$7+ $A$8*COS(RADIANS($A41)) + $A$9*(1/TAN(RADIANS($A41)))- ($B$5*(-SIN(RADIANS(B$32))) + $B$6*COS(RADIANS(B$32)) + $B$7+ $B$8*COS(RADIANS($A41)) + $B$9*(1/TAN(RADIANS($A41)))) -> 0.042827619 | C41: =$A$5*(-SIN(RADIANS(C$32))) + $A$6*COS(RADIANS(C$32)) + $A$7+ $A$8*COS(RADIANS($A41)) + $A$9*(1/TAN(RADIANS($A41)))- ($B$5*(-SIN(RADIANS(C$32))) + $B$6*COS(RADIANS(C$32)) + $B$7+ $B$8*COS(RADIANS($A41)) + $B$9*(1/TAN(RADIANS($A41)))) -> 0.05103723 | D41: =$A$5*(-SIN(RADIANS(D$32))) + $A$6*COS(RADIANS(D$32)) + $A$7+ $A$8*COS(RADIANS($A41)) + $A$9*(1/TAN(RADIANS($A41)))- ($B$5*(-SIN(RADIANS(D$32))) + $B$6*COS(RADIANS(D$32)) + $B$7+ $B$8*COS(RADIANS($A41)) + $B$9*(1/TAN(RADIANS($A41)))) -> 0.061718036 | E41: =$A$5*(-SIN(RADIANS(E$32))) + $A$6*COS(RADIANS(E$32)) + $A$7+ $A$8*COS(RADIANS($A41)) + $A$9*(1/TAN(RADIANS($A41)))- ($B$5*(-SIN(RADIANS(E$32))) + $B$6*COS(RADIANS(E$32)) + $B$7+ $B$8*COS(RADIANS($A41)) + $B$9*(1/TAN(RADIANS($A41)))) -> 0.074142158 | F41: =$A$5*(-SIN(RADIANS(F$32))) + $A$6*COS(RADIANS(F$32)) + $A$7+ $A$8*COS(RADIANS($A41)) + $A$9*(1/TAN(RADIANS($A41)))- ($B$5*(-SIN(RADIANS(F$32))) + $B$6*COS(RADIANS(F$32)) + $B$7+ $B$8*COS(RADIANS($A41)) + $B$9*(1/TAN(RADIANS($A41)))) -> 0.087462912 | G41: =$A$5*(-SIN(RADIANS(G$32))) + $A$6*COS(RADIANS(G$32)) + $A$7+ $A$8*COS(RADIANS($A41)) + $A$9*(1/TAN(RADIANS($A41)))- ($B$5*(-SIN(RADIANS(G$32))) + $B$6*COS(RADIANS(G$32)) + $B$7+ $B$8*COS(RADIANS($A41)) + $B$9*(1/TAN(RADIANS($A41)))) -> 0.10077251 | H41: =$A$5*(-SIN(RADIANS(H$32))) + $A$6*COS(RADIANS(H$32)) + $A$7+ $A$8*COS(RADIANS($A41)) + $A$9*(1/TAN(RADIANS($A41)))- ($B$5*(-SIN(RADIANS(H$32))) + $B$6*COS(RADIANS(H$32)) + $B$7+ $B$8*COS(RADIANS($A41)) + $B$9*(1/TAN(RADIANS($A41)))) -> 0.11316393 | I41: =$A$5*(-SIN(RADIANS(I$32))) + $A$6*COS(RADIANS(I$32)) + $A$7+ $A$8*COS(RADIANS($A41)) + $A$9*(1/TAN(RADIANS($A41)))- ($B$5*(-SIN(RADIANS(I$32))) + $B$6*COS(RADIANS(I$32)) + $B$7+ $B$8*COS(RADIANS($A41)) + $B$9*(1/TAN(RADIANS($A41)))) -> 0.12379271 | ... Z41: =$A$5*(-SIN(RADIANS(Z$32))) + $A$6*COS(RADIANS(Z$32)) + $A$7+ $A$8*COS(RADIANS($A41)) + $A$9*(1/TAN(RADIANS($A41)))- ($B$5*(-SIN(RADIANS(Z$32))) + $B$6*COS(RADIANS(Z$32)) + $B$7+ $B$8*COS(RADIANS($A41)) + $B$9*(1/TAN(RADIANS($A41)))) -> 0.042827619
A42: 50 | B42: =$A$5*(-SIN(RADIANS(B$32))) + $A$6*COS(RADIANS(B$32)) + $A$7+ $A$8*COS(RADIANS($A42)) + $A$9*(1/TAN(RADIANS($A42)))- ($B$5*(-SIN(RADIANS(B$32))) + $B$6*COS(RADIANS(B$32)) + $B$7+ $B$8*COS(RADIANS($A42)) + $B$9*(1/TAN(RADIANS($A42)))) -> 0.05543148 | C42: =$A$5*(-SIN(RADIANS(C$32))) + $A$6*COS(RADIANS(C$32)) + $A$7+ $A$8*COS(RADIANS($A42)) + $A$9*(1/TAN(RADIANS($A42)))- ($B$5*(-SIN(RADIANS(C$32))) + $B$6*COS(RADIANS(C$32)) + $B$7+ $B$8*COS(RADIANS($A42)) + $B$9*(1/TAN(RADIANS($A42)))) -> 0.063641091 | D42: =$A$5*(-SIN(RADIANS(D$32))) + $A$6*COS(RADIANS(D$32)) + $A$7+ $A$8*COS(RADIANS($A42)) + $A$9*(1/TAN(RADIANS($A42)))- ($B$5*(-SIN(RADIANS(D$32))) + $B$6*COS(RADIANS(D$32)) + $B$7+ $B$8*COS(RADIANS($A42)) + $B$9*(1/TAN(RADIANS($A42)))) -> 0.074321897 | E42: =$A$5*(-SIN(RADIANS(E$32))) + $A$6*COS(RADIANS(E$32)) + $A$7+ $A$8*COS(RADIANS($A42)) + $A$9*(1/TAN(RADIANS($A42)))- ($B$5*(-SIN(RADIANS(E$32))) + $B$6*COS(RADIANS(E$32)) + $B$7+ $B$8*COS(RADIANS($A42)) + $B$9*(1/TAN(RADIANS($A42)))) -> 0.086746019 | F42: =$A$5*(-SIN(RADIANS(F$32))) + $A$6*COS(RADIANS(F$32)) + $A$7+ $A$8*COS(RADIANS($A42)) + $A$9*(1/TAN(RADIANS($A42)))- ($B$5*(-SIN(RADIANS(F$32))) + $B$6*COS(RADIANS(F$32)) + $B$7+ $B$8*COS(RADIANS($A42)) + $B$9*(1/TAN(RADIANS($A42)))) -> 0.10006677 | G42: =$A$5*(-SIN(RADIANS(G$32))) + $A$6*COS(RADIANS(G$32)) + $A$7+ $A$8*COS(RADIANS($A42)) + $A$9*(1/TAN(RADIANS($A42)))- ($B$5*(-SIN(RADIANS(G$32))) + $B$6*COS(RADIANS(G$32)) + $B$7+ $B$8*COS(RADIANS($A42)) + $B$9*(1/TAN(RADIANS($A42)))) -> 0.11337637 | H42: =$A$5*(-SIN(RADIANS(H$32))) + $A$6*COS(RADIANS(H$32)) + $A$7+ $A$8*COS(RADIANS($A42)) + $A$9*(1/TAN(RADIANS($A42)))- ($B$5*(-SIN(RADIANS(H$32))) + $B$6*COS(RADIANS(H$32)) + $B$7+ $B$8*COS(RADIANS($A42)) + $B$9*(1/TAN(RADIANS($A42)))) -> 0.12576779 | I42: =$A$5*(-SIN(RADIANS(I$32))) + $A$6*COS(RADIANS(I$32)) + $A$7+ $A$8*COS(RADIANS($A42)) + $A$9*(1/TAN(RADIANS($A42)))- ($B$5*(-SIN(RADIANS(I$32))) + $B$6*COS(RADIANS(I$32)) + $B$7+ $B$8*COS(RADIANS($A42)) + $B$9*(1/TAN(RADIANS($A42)))) -> 0.13639657 | ... Z42: =$A$5*(-SIN(RADIANS(Z$32))) + $A$6*COS(RADIANS(Z$32)) + $A$7+ $A$8*COS(RADIANS($A42)) + $A$9*(1/TAN(RADIANS($A42)))- ($B$5*(-SIN(RADIANS(Z$32))) + $B$6*COS(RADIANS(Z$32)) + $B$7+ $B$8*COS(RADIANS($A42)) + $B$9*(1/TAN(RADIANS($A42)))) -> 0.05543148
A43: 55 | B43: =$A$5*(-SIN(RADIANS(B$32))) + $A$6*COS(RADIANS(B$32)) + $A$7+ $A$8*COS(RADIANS($A43)) + $A$9*(1/TAN(RADIANS($A43)))- ($B$5*(-SIN(RADIANS(B$32))) + $B$6*COS(RADIANS(B$32)) + $B$7+ $B$8*COS(RADIANS($A43)) + $B$9*(1/TAN(RADIANS($A43)))) -> 0.06871102 | C43: =$A$5*(-SIN(RADIANS(C$32))) + $A$6*COS(RADIANS(C$32)) + $A$7+ $A$8*COS(RADIANS($A43)) + $A$9*(1/TAN(RADIANS($A43)))- ($B$5*(-SIN(RADIANS(C$32))) + $B$6*COS(RADIANS(C$32)) + $B$7+ $B$8*COS(RADIANS($A43)) + $B$9*(1/TAN(RADIANS($A43)))) -> 0.076920632 | D43: =$A$5*(-SIN(RADIANS(D$32))) + $A$6*COS(RADIANS(D$32)) + $A$7+ $A$8*COS(RADIANS($A43)) + $A$9*(1/TAN(RADIANS($A43)))- ($B$5*(-SIN(RADIANS(D$32))) + $B$6*COS(RADIANS(D$32)) + $B$7+ $B$8*COS(RADIANS($A43)) + $B$9*(1/TAN(RADIANS($A43)))) -> 0.087601438 | E43: =$A$5*(-SIN(RADIANS(E$32))) + $A$6*COS(RADIANS(E$32)) + $A$7+ $A$8*COS(RADIANS($A43)) + $A$9*(1/TAN(RADIANS($A43)))- ($B$5*(-SIN(RADIANS(E$32))) + $B$6*COS(RADIANS(E$32)) + $B$7+ $B$8*COS(RADIANS($A43)) + $B$9*(1/TAN(RADIANS($A43)))) -> 0.10002556 | F43: =$A$5*(-SIN(RADIANS(F$32))) + $A$6*COS(RADIANS(F$32)) + $A$7+ $A$8*COS(RADIANS($A43)) + $A$9*(1/TAN(RADIANS($A43)))- ($B$5*(-SIN(RADIANS(F$32))) + $B$6*COS(RADIANS(F$32)) + $B$7+ $B$8*COS(RADIANS($A43)) + $B$9*(1/TAN(RADIANS($A43)))) -> 0.11334631 | G43: =$A$5*(-SIN(RADIANS(G$32))) + $A$6*COS(RADIANS(G$32)) + $A$7+ $A$8*COS(RADIANS($A43)) + $A$9*(1/TAN(RADIANS($A43)))- ($B$5*(-SIN(RADIANS(G$32))) + $B$6*COS(RADIANS(G$32)) + $B$7+ $B$8*COS(RADIANS($A43)) + $B$9*(1/TAN(RADIANS($A43)))) -> 0.12665591 | H43: =$A$5*(-SIN(RADIANS(H$32))) + $A$6*COS(RADIANS(H$32)) + $A$7+ $A$8*COS(RADIANS($A43)) + $A$9*(1/TAN(RADIANS($A43)))- ($B$5*(-SIN(RADIANS(H$32))) + $B$6*COS(RADIANS(H$32)) + $B$7+ $B$8*COS(RADIANS($A43)) + $B$9*(1/TAN(RADIANS($A43)))) -> 0.13904733 | I43: =$A$5*(-SIN(RADIANS(I$32))) + $A$6*COS(RADIANS(I$32)) + $A$7+ $A$8*COS(RADIANS($A43)) + $A$9*(1/TAN(RADIANS($A43)))- ($B$5*(-SIN(RADIANS(I$32))) + $B$6*COS(RADIANS(I$32)) + $B$7+ $B$8*COS(RADIANS($A43)) + $B$9*(1/TAN(RADIANS($A43)))) -> 0.14967611 | ... Z43: =$A$5*(-SIN(RADIANS(Z$32))) + $A$6*COS(RADIANS(Z$32)) + $A$7+ $A$8*COS(RADIANS($A43)) + $A$9*(1/TAN(RADIANS($A43)))- ($B$5*(-SIN(RADIANS(Z$32))) + $B$6*COS(RADIANS(Z$32)) + $B$7+ $B$8*COS(RADIANS($A43)) + $B$9*(1/TAN(RADIANS($A43)))) -> 0.06871102
A44: 60 | B44: =$A$5*(-SIN(RADIANS(B$32))) + $A$6*COS(RADIANS(B$32)) + $A$7+ $A$8*COS(RADIANS($A44)) + $A$9*(1/TAN(RADIANS($A44)))- ($B$5*(-SIN(RADIANS(B$32))) + $B$6*COS(RADIANS(B$32)) + $B$7+ $B$8*COS(RADIANS($A44)) + $B$9*(1/TAN(RADIANS($A44)))) -> 0.082623263 | C44: =$A$5*(-SIN(RADIANS(C$32))) + $A$6*COS(RADIANS(C$32)) + $A$7+ $A$8*COS(RADIANS($A44)) + $A$9*(1/TAN(RADIANS($A44)))- ($B$5*(-SIN(RADIANS(C$32))) + $B$6*COS(RADIANS(C$32)) + $B$7+ $B$8*COS(RADIANS($A44)) + $B$9*(1/TAN(RADIANS($A44)))) -> 0.090832874 | D44: =$A$5*(-SIN(RADIANS(D$32))) + $A$6*COS(RADIANS(D$32)) + $A$7+ $A$8*COS(RADIANS($A44)) + $A$9*(1/TAN(RADIANS($A44)))- ($B$5*(-SIN(RADIANS(D$32))) + $B$6*COS(RADIANS(D$32)) + $B$7+ $B$8*COS(RADIANS($A44)) + $B$9*(1/TAN(RADIANS($A44)))) -> 0.10151368 | E44: =$A$5*(-SIN(RADIANS(E$32))) + $A$6*COS(RADIANS(E$32)) + $A$7+ $A$8*COS(RADIANS($A44)) + $A$9*(1/TAN(RADIANS($A44)))- ($B$5*(-SIN(RADIANS(E$32))) + $B$6*COS(RADIANS(E$32)) + $B$7+ $B$8*COS(RADIANS($A44)) + $B$9*(1/TAN(RADIANS($A44)))) -> 0.1139378 | F44: =$A$5*(-SIN(RADIANS(F$32))) + $A$6*COS(RADIANS(F$32)) + $A$7+ $A$8*COS(RADIANS($A44)) + $A$9*(1/TAN(RADIANS($A44)))- ($B$5*(-SIN(RADIANS(F$32))) + $B$6*COS(RADIANS(F$32)) + $B$7+ $B$8*COS(RADIANS($A44)) + $B$9*(1/TAN(RADIANS($A44)))) -> 0.12725856 | G44: =$A$5*(-SIN(RADIANS(G$32))) + $A$6*COS(RADIANS(G$32)) + $A$7+ $A$8*COS(RADIANS($A44)) + $A$9*(1/TAN(RADIANS($A44)))- ($B$5*(-SIN(RADIANS(G$32))) + $B$6*COS(RADIANS(G$32)) + $B$7+ $B$8*COS(RADIANS($A44)) + $B$9*(1/TAN(RADIANS($A44)))) -> 0.14056815 | H44: =$A$5*(-SIN(RADIANS(H$32))) + $A$6*COS(RADIANS(H$32)) + $A$7+ $A$8*COS(RADIANS($A44)) + $A$9*(1/TAN(RADIANS($A44)))- ($B$5*(-SIN(RADIANS(H$32))) + $B$6*COS(RADIANS(H$32)) + $B$7+ $B$8*COS(RADIANS($A44)) + $B$9*(1/TAN(RADIANS($A44)))) -> 0.15295957 | I44: =$A$5*(-SIN(RADIANS(I$32))) + $A$6*COS(RADIANS(I$32)) + $A$7+ $A$8*COS(RADIANS($A44)) + $A$9*(1/TAN(RADIANS($A44)))- ($B$5*(-SIN(RADIANS(I$32))) + $B$6*COS(RADIANS(I$32)) + $B$7+ $B$8*COS(RADIANS($A44)) + $B$9*(1/TAN(RADIANS($A44)))) -> 0.16358835 | ... Z44: =$A$5*(-SIN(RADIANS(Z$32))) + $A$6*COS(RADIANS(Z$32)) + $A$7+ $A$8*COS(RADIANS($A44)) + $A$9*(1/TAN(RADIANS($A44)))- ($B$5*(-SIN(RADIANS(Z$32))) + $B$6*COS(RADIANS(Z$32)) + $B$7+ $B$8*COS(RADIANS($A44)) + $B$9*(1/TAN(RADIANS($A44)))) -> 0.082623263
... A49: 85 | B49: =$A$5*(-SIN(RADIANS(B$32))) + $A$6*COS(RADIANS(B$32)) + $A$7+ $A$8*COS(RADIANS($A49)) + $A$9*(1/TAN(RADIANS($A49)))- ($B$5*(-SIN(RADIANS(B$32))) + $B$6*COS(RADIANS(B$32)) + $B$7+ $B$8*COS(RADIANS($A49)) + $B$9*(1/TAN(RADIANS($A49)))) -> 0.15903783 | C49: =$A$5*(-SIN(RADIANS(C$32))) + $A$6*COS(RADIANS(C$32)) + $A$7+ $A$8*COS(RADIANS($A49)) + $A$9*(1/TAN(RADIANS($A49)))- ($B$5*(-SIN(RADIANS(C$32))) + $B$6*COS(RADIANS(C$32)) + $B$7+ $B$8*COS(RADIANS($A49)) + $B$9*(1/TAN(RADIANS($A49)))) -> 0.16724745 | D49: =$A$5*(-SIN(RADIANS(D$32))) + $A$6*COS(RADIANS(D$32)) + $A$7+ $A$8*COS(RADIANS($A49)) + $A$9*(1/TAN(RADIANS($A49)))- ($B$5*(-SIN(RADIANS(D$32))) + $B$6*COS(RADIANS(D$32)) + $B$7+ $B$8*COS(RADIANS($A49)) + $B$9*(1/TAN(RADIANS($A49)))) -> 0.17792825 | E49: =$A$5*(-SIN(RADIANS(E$32))) + $A$6*COS(RADIANS(E$32)) + $A$7+ $A$8*COS(RADIANS($A49)) + $A$9*(1/TAN(RADIANS($A49)))- ($B$5*(-SIN(RADIANS(E$32))) + $B$6*COS(RADIANS(E$32)) + $B$7+ $B$8*COS(RADIANS($A49)) + $B$9*(1/TAN(RADIANS($A49)))) -> 0.19035237 | F49: =$A$5*(-SIN(RADIANS(F$32))) + $A$6*COS(RADIANS(F$32)) + $A$7+ $A$8*COS(RADIANS($A49)) + $A$9*(1/TAN(RADIANS($A49)))- ($B$5*(-SIN(RADIANS(F$32))) + $B$6*COS(RADIANS(F$32)) + $B$7+ $B$8*COS(RADIANS($A49)) + $B$9*(1/TAN(RADIANS($A49)))) -> 0.20367313 | G49: =$A$5*(-SIN(RADIANS(G$32))) + $A$6*COS(RADIANS(G$32)) + $A$7+ $A$8*COS(RADIANS($A49)) + $A$9*(1/TAN(RADIANS($A49)))- ($B$5*(-SIN(RADIANS(G$32))) + $B$6*COS(RADIANS(G$32)) + $B$7+ $B$8*COS(RADIANS($A49)) + $B$9*(1/TAN(RADIANS($A49)))) -> 0.21698273 | H49: =$A$5*(-SIN(RADIANS(H$32))) + $A$6*COS(RADIANS(H$32)) + $A$7+ $A$8*COS(RADIANS($A49)) + $A$9*(1/TAN(RADIANS($A49)))- ($B$5*(-SIN(RADIANS(H$32))) + $B$6*COS(RADIANS(H$32)) + $B$7+ $B$8*COS(RADIANS($A49)) + $B$9*(1/TAN(RADIANS($A49)))) -> 0.22937414 | I49: =$A$5*(-SIN(RADIANS(I$32))) + $A$6*COS(RADIANS(I$32)) + $A$7+ $A$8*COS(RADIANS($A49)) + $A$9*(1/TAN(RADIANS($A49)))- ($B$5*(-SIN(RADIANS(I$32))) + $B$6*COS(RADIANS(I$32)) + $B$7+ $B$8*COS(RADIANS($A49)) + $B$9*(1/TAN(RADIANS($A49)))) -> 0.24000292 | ... Z49: =$A$5*(-SIN(RADIANS(Z$32))) + $A$6*COS(RADIANS(Z$32)) + $A$7+ $A$8*COS(RADIANS($A49)) + $A$9*(1/TAN(RADIANS($A49)))- ($B$5*(-SIN(RADIANS(Z$32))) + $B$6*COS(RADIANS(Z$32)) + $B$7+ $B$8*COS(RADIANS($A49)) + $B$9*(1/TAN(RADIANS($A49)))) -> 0.15903783
A51: Az/El | B51: 0 | C51: 15 | D51: 30 | E51: 45 | F51: 60 | G51: 75 | H51: 90 | I51: 105 | J51: 120 | K51: 135 | L51: 150 | M51: 165 | N51: 180 | O51: 195 | P51: 210 | Q51: 225 | R51: 240 | S51: 255 | T51: 270 | U51: 285 | V51: 300 | W51: 315 | X51: 330 | Y51: 345 | Z51: 360
A52: 5 | B52: =SQRT((B12^2)+(B33^2)) -> 0.12908003 | C52: =SQRT((C12^2)+(C33^2)) -> 0.12389514 | D52: =SQRT((D12^2)+(D33^2)) -> 0.11729595 | E52: =SQRT((E12^2)+(E33^2)) -> 0.11011857 | F52: =SQRT((F12^2)+(F33^2)) -> 0.10324703 | G52: =SQRT((G12^2)+(G33^2)) -> 0.097437796 | H52: =SQRT((H12^2)+(H33^2)) -> 0.093124034 | I52: =SQRT((I12^2)+(I33^2)) -> 0.090295072 | ... Z52: =SQRT((Z12^2)+(Z33^2)) -> 0.12908003
A53: 10 | B53: =SQRT((B13^2)+(B34^2)) -> 0.084637709 | C53: =SQRT((C13^2)+(C34^2)) -> 0.082282862 | D53: =SQRT((D13^2)+(D34^2)) -> 0.079507118 | E53: =SQRT((E13^2)+(E34^2)) -> 0.077297343 | F53: =SQRT((F13^2)+(F34^2)) -> 0.076471157 | G53: =SQRT((G13^2)+(G34^2)) -> 0.077346326 | H53: =SQRT((H13^2)+(H34^2)) -> 0.07958884 | I53: =SQRT((I13^2)+(I34^2)) -> 0.082372237 | ... Z53: =SQRT((Z13^2)+(Z34^2)) -> 0.084637709
A54: 15 | B54: =SQRT((B14^2)+(B35^2)) -> 0.061463477 | C54: =SQRT((C14^2)+(C35^2)) -> 0.061229331 | D54: =SQRT((D14^2)+(D35^2)) -> 0.061273839 | E54: =SQRT((E14^2)+(E35^2)) -> 0.062584977 | F54: =SQRT((F14^2)+(F35^2)) -> 0.065687687 | G54: =SQRT((G14^2)+(G35^2)) -> 0.07038185 | H54: =SQRT((H14^2)+(H35^2)) -> 0.075866417 | I54: =SQRT((I14^2)+(I35^2)) -> 0.081090478 | ... Z54: =SQRT((Z14^2)+(Z35^2)) -> 0.061463477
A55: 20 | B55: =SQRT((B15^2)+(B36^2)) -> 0.042609503 | C55: =SQRT((C15^2)+(C36^2)) -> 0.044601992 | D55: =SQRT((D15^2)+(D36^2)) -> 0.047638176 | E55: =SQRT((E15^2)+(E36^2)) -> 0.052470904 | F55: =SQRT((F15^2)+(F36^2)) -> 0.059098905 | G55: =SQRT((G15^2)+(G36^2)) -> 0.066843041 | H55: =SQRT((H15^2)+(H36^2)) -> 0.074703695 | I55: =SQRT((I15^2)+(I36^2)) -> 0.08166275 | ... Z55: =SQRT((Z15^2)+(Z36^2)) -> 0.042609503
A56: 25 | B56: =SQRT((B16^2)+(B37^2)) -> 0.026208545 | C56: =SQRT((C16^2)+(C37^2)) -> 0.031370626 | D56: =SQRT((D16^2)+(D37^2)) -> 0.038253528 | E56: =SQRT((E16^2)+(E37^2)) -> 0.046907171 | F56: =SQRT((F16^2)+(F37^2)) -> 0.056777916 | G56: =SQRT((G16^2)+(G37^2)) -> 0.06702491 | H56: =SQRT((H16^2)+(H37^2)) -> 0.076745438 | I56: =SQRT((I16^2)+(I37^2)) -> 0.085094451 | ... Z56: =SQRT((Z16^2)+(Z37^2)) -> 0.026208545
A57: 30 | B57: =SQRT((B17^2)+(B38^2)) -> 0.015264103 | C57: =SQRT((C17^2)+(C38^2)) -> 0.024632675 | D57: =SQRT((D17^2)+(D38^2)) -> 0.035319872 | E57: =SQRT((E17^2)+(E38^2)) -> 0.047015786 | F57: =SQRT((F17^2)+(F38^2)) -> 0.059179695 | G57: =SQRT((G17^2)+(G38^2)) -> 0.071138282 | H57: =SQRT((H17^2)+(H38^2)) -> 0.082172618 | I57: =SQRT((I17^2)+(I38^2)) -> 0.091591251 | ... Z57: =SQRT((Z17^2)+(Z38^2)) -> 0.015264103
A58: 35 | B58: =SQRT((B18^2)+(B39^2)) -> 0.019655173 | C58: =SQRT((C18^2)+(C39^2)) -> 0.028424227 | D58: =SQRT((D18^2)+(D39^2)) -> 0.039894945 | E58: =SQRT((E18^2)+(E39^2)) -> 0.052654409 | F58: =SQRT((F18^2)+(F39^2)) -> 0.065837889 | G58: =SQRT((G18^2)+(G39^2)) -> 0.078706903 | H58: =SQRT((H18^2)+(H39^2)) -> 0.090563977 | I58: =SQRT((I18^2)+(I39^2)) -> 0.10076542 | ... Z58: =SQRT((Z18^2)+(Z39^2)) -> 0.019655173
A59: 40 | B59: =SQRT((B19^2)+(B40^2)) -> 0.033257742 | C59: =SQRT((C19^2)+(C40^2)) -> 0.039497698 | D59: =SQRT((D19^2)+(D40^2)) -> 0.049802996 | E59: =SQRT((E19^2)+(E40^2)) -> 0.062302647 | F59: =SQRT((F19^2)+(F40^2)) -> 0.075662721 | G59: =SQRT((G19^2)+(G40^2)) -> 0.088908388 | H59: =SQRT((H19^2)+(H40^2)) -> 0.10124894 | I59: =SQRT((I19^2)+(I40^2)) -> 0.11201658 | ... Z59: =SQRT((Z19^2)+(Z40^2)) -> 0.033257742
A60: 45 | B60: =SQRT((B20^2)+(B41^2)) -> 0.048591949 | C60: =SQRT((C20^2)+(C41^2)) -> 0.053321653 | D60: =SQRT((D20^2)+(D41^2)) -> 0.062473017 | E60: =SQRT((E20^2)+(E41^2)) -> 0.074390776 | F60: =SQRT((F20^2)+(F41^2)) -> 0.087598237 | G60: =SQRT((G20^2)+(G41^2)) -> 0.10095919 | H60: =SQRT((H20^2)+(H41^2)) -> 0.11358737 | I60: =SQRT((I20^2)+(I41^2)) -> 0.12477225 | ... Z60: =SQRT((Z20^2)+(Z41^2)) -> 0.048591949
A61: 50 | B61: =SQRT((B21^2)+(B42^2)) -> 0.064225779 | C61: =SQRT((C21^2)+(C42^2)) -> 0.068121485 | D61: =SQRT((D21^2)+(D42^2)) -> 0.076484714 | E61: =SQRT((E21^2)+(E42^2)) -> 0.087893043 | F61: =SQRT((F21^2)+(F42^2)) -> 0.10088755 | G61: =SQRT((G21^2)+(G42^2)) -> 0.11426442 | H61: =SQRT((H21^2)+(H42^2)) -> 0.12707576 | I61: =SQRT((I21^2)+(I42^2)) -> 0.13857496 | ... Z61: =SQRT((Z21^2)+(Z42^2)) -> 0.064225779
A62: 55 | B62: =SQRT((B22^2)+(B43^2)) -> 0.07983309 | C62: =SQRT((C22^2)+(C43^2)) -> 0.08328821 | D62: =SQRT((D22^2)+(D43^2)) -> 0.091173457 | E62: =SQRT((E22^2)+(E43^2)) -> 0.1022253 | F62: =SQRT((F22^2)+(F43^2)) -> 0.11504406 | G62: =SQRT((G22^2)+(G43^2)) -> 0.12841165 | H62: =SQRT((H22^2)+(H43^2)) -> 0.14134901 | I62: =SQRT((I22^2)+(I43^2)) -> 0.15308569 | ... Z62: =SQRT((Z22^2)+(Z43^2)) -> 0.07983309
A63: 60 | B63: =SQRT((B23^2)+(B44^2)) -> 0.095311274 | C63: =SQRT((C23^2)+(C44^2)) -> 0.098581189 | D63: =SQRT((D23^2)+(D44^2)) -> 0.10621741 | E63: =SQRT((E23^2)+(E44^2)) -> 0.1170569 | F63: =SQRT((F23^2)+(F44^2)) -> 0.12976094 | G63: =SQRT((G23^2)+(G44^2)) -> 0.14312179 | H63: =SQRT((H23^2)+(H44^2)) -> 0.15614936 | I63: =SQRT((I23^2)+(I44^2)) -> 0.16806007 | ... Z63: =SQRT((Z23^2)+(Z44^2)) -> 0.095311274
... A68: 85 | B68: =SQRT((B28^2)+(B49^2)) -> 0.17009358 | C68: =SQRT((C28^2)+(C49^2)) -> 0.17448549 | D68: =SQRT((D28^2)+(D49^2)) -> 0.18273193 | E68: =SQRT((E28^2)+(E49^2)) -> 0.19382825 | F68: =SQRT((F28^2)+(F49^2)) -> 0.20663124 | G68: =SQRT((G28^2)+(G49^2)) -> 0.22005237 | H68: =SQRT((H28^2)+(H49^2)) -> 0.23314929 | I68: =SQRT((I28^2)+(I49^2)) -> 0.24514867 | ... Z68: =SQRT((Z28^2)+(Z49^2)) -> 0.17009358
A79: Refraction correction
A80: 5 | B80: =(0.0019279+1.02/TAN(RADIANS((A80+10.3/(A80+5.1)))))/60 -> 0.16124036
A81: 10 | B81: =(0.0019279+1.02/TAN(RADIANS((A81+10.3/(A81+5.1)))))/60 -> 0.090156246
A82: 15 | B82: =(0.0019279+1.02/TAN(RADIANS((A82+10.3/(A82+5.1)))))/60 -> 0.061280518
A83: 20 | B83: =(0.0019279+1.02/TAN(RADIANS((A83+10.3/(A83+5.1)))))/60 -> 0.045718471
A84: 25 | B84: =(0.0019279+1.02/TAN(RADIANS((A84+10.3/(A84+5.1)))))/60 -> 0.035927471
A85: 30 | B85: =(0.0019279+1.02/TAN(RADIANS((A85+10.3/(A85+5.1)))))/60 -> 0.029131784
A86: 35 | B86: =(0.0019279+1.02/TAN(RADIANS((A86+10.3/(A86+5.1)))))/60 -> 0.024080468
A87: 40 | B87: =(0.0019279+1.02/TAN(RADIANS((A87+10.3/(A87+5.1)))))/60 -> 0.020128714
A88: 45 | B88: =(0.0019279+1.02/TAN(RADIANS((A88+10.3/(A88+5.1)))))/60 -> 0.016910568
A89: 50 | B89: =(0.0019279+1.02/TAN(RADIANS((A89+10.3/(A89+5.1)))))/60 -> 0.014202567
A90: 55 | B90: =(0.0019279+1.02/TAN(RADIANS((A90+10.3/(A90+5.1)))))/60 -> 0.011860037
A91: 60 | B91: =(0.0019279+1.02/TAN(RADIANS((A91+10.3/(A91+5.1)))))/60 -> 0.0097845934
... A96: 85 | B96: =(0.0019279+1.02/TAN(RADIANS((A96+10.3/(A96+5.1)))))/60 -> 0.0014852666

Sheet 6 component model corrections
A1: Solution
A2: ='Model fitting'!E10 -> 0.056212392 | B2: -0.36
A3: ='Model fitting'!E11 -> -0.45620522 | B3: 0
A4: ='Model fitting'!E12 -> -0.07193319 | B4: 0
A5: ='Model fitting'!E13 -> 0.0007 | B5: 0.0007
A6: ='Model fitting'!E14 -> 0.0082 | B6: 0.0082
A7: ='Model fitting'!E15 -> -0.11049985 | B7: -0.176
A8: ='Model fitting'!E16 -> 0.017675107 | B8: 0
A9: ='Model fitting'!E17 -> -0.0074092674 | B9: 0
A10: Az corrections (old - new)
A11: Az/El | B11: 0 | C11: 15 | D11: 30 | E11: 45 | F11: 60 | G11: 75 | H11: 90 | I11: 105 | J11: 120 | K11: 135 | L11: 150 | M11: 165 | N11: 180 | O11: 195 | P11: 210 | Q11: 225 | R11: 240 | S11: 255 | T11: 270 | U11: 285 | V11: 300 | W11: 315 | X11: 330 | Y11: 345 | Z11: 360
A12: 5 | B12: =$A$2 + $A$3*(COS(RADIANS($A12))) + $A$4*SIN(RADIANS($A12)) + $A$5*SIN(RADIANS($A12))*COS(RADIANS(B$11)) + $A$6*SIN(RADIANS($A12))*SIN(RADIANS(B$11)) - ($B$2 + $B$3*(COS(RADIANS($A12))) + $B$4*SIN(RADIANS($A12)) + $B$5*SIN(RADIANS($A12))*COS(RADIANS(B$11)) + $B$6*SIN(RADIANS($A12))*SIN(RADIANS(B$11))) -> -0.044526217 | C12: =$A$2 + $A$3*(COS(RADIANS($A12))) + $A$4*SIN(RADIANS($A12)) + $A$5*SIN(RADIANS($A12))*COS(RADIANS(C$11)) + $A$6*SIN(RADIANS($A12))*SIN(RADIANS(C$11)) - ($B$2 + $B$3*(COS(RADIANS($A12))) + $B$4*SIN(RADIANS($A12)) + $B$5*SIN(RADIANS($A12))*COS(RADIANS(C$11)) + $B$6*SIN(RADIANS($A12))*SIN(RADIANS(C$11))) -> -0.044526217 | D12: =$A$2 + $A$3*(COS(RADIANS($A12))) + $A$4*SIN(RADIANS($A12)) + $A$5*SIN(RADIANS($A12))*COS(RADIANS(D$11)) + $A$6*SIN(RADIANS($A12))*SIN(RADIANS(D$11)) - ($B$2 + $B$3*(COS(RADIANS($A12))) + $B$4*SIN(RADIANS($A12)) + $B$5*SIN(RADIANS($A12))*COS(RADIANS(D$11)) + $B$6*SIN(RADIANS($A12))*SIN(RADIANS(D$11))) -> -0.044526217 | E12: =$A$2 + $A$3*(COS(RADIANS($A12))) + $A$4*SIN(RADIANS($A12)) + $A$5*SIN(RADIANS($A12))*COS(RADIANS(E$11)) + $A$6*SIN(RADIANS($A12))*SIN(RADIANS(E$11)) - ($B$2 + $B$3*(COS(RADIANS($A12))) + $B$4*SIN(RADIANS($A12)) + $B$5*SIN(RADIANS($A12))*COS(RADIANS(E$11)) + $B$6*SIN(RADIANS($A12))*SIN(RADIANS(E$11))) -> -0.044526217 | F12: =$A$2 + $A$3*(COS(RADIANS($A12))) + $A$4*SIN(RADIANS($A12)) + $A$5*SIN(RADIANS($A12))*COS(RADIANS(F$11)) + $A$6*SIN(RADIANS($A12))*SIN(RADIANS(F$11)) - ($B$2 + $B$3*(COS(RADIANS($A12))) + $B$4*SIN(RADIANS($A12)) + $B$5*SIN(RADIANS($A12))*COS(RADIANS(F$11)) + $B$6*SIN(RADIANS($A12))*SIN(RADIANS(F$11))) -> -0.044526217 | G12: =$A$2 + $A$3*(COS(RADIANS($A12))) + $A$4*SIN(RADIANS($A12)) + $A$5*SIN(RADIANS($A12))*COS(RADIANS(G$11)) + $A$6*SIN(RADIANS($A12))*SIN(RADIANS(G$11)) - ($B$2 + $B$3*(COS(RADIANS($A12))) + $B$4*SIN(RADIANS($A12)) + $B$5*SIN(RADIANS($A12))*COS(RADIANS(G$11)) + $B$6*SIN(RADIANS($A12))*SIN(RADIANS(G$11))) -> -0.044526217 | H12: =$A$2 + $A$3*(COS(RADIANS($A12))) + $A$4*SIN(RADIANS($A12)) + $A$5*SIN(RADIANS($A12))*COS(RADIANS(H$11)) + $A$6*SIN(RADIANS($A12))*SIN(RADIANS(H$11)) - ($B$2 + $B$3*(COS(RADIANS($A12))) + $B$4*SIN(RADIANS($A12)) + $B$5*SIN(RADIANS($A12))*COS(RADIANS(H$11)) + $B$6*SIN(RADIANS($A12))*SIN(RADIANS(H$11))) -> -0.044526217 | I12: =$A$2 + $A$3*(COS(RADIANS($A12))) + $A$4*SIN(RADIANS($A12)) + $A$5*SIN(RADIANS($A12))*COS(RADIANS(I$11)) + $A$6*SIN(RADIANS($A12))*SIN(RADIANS(I$11)) - ($B$2 + $B$3*(COS(RADIANS($A12))) + $B$4*SIN(RADIANS($A12)) + $B$5*SIN(RADIANS($A12))*COS(RADIANS(I$11)) + $B$6*SIN(RADIANS($A12))*SIN(RADIANS(I$11))) -> -0.044526217 | ... Z12: =$A$2 + $A$3*(COS(RADIANS($A12))) + $A$4*SIN(RADIANS($A12)) + $A$5*SIN(RADIANS($A12))*COS(RADIANS(Z$11)) + $A$6*SIN(RADIANS($A12))*SIN(RADIANS(Z$11)) - ($B$2 + $B$3*(COS(RADIANS($A12))) + $B$4*SIN(RADIANS($A12)) + $B$5*SIN(RADIANS($A12))*COS(RADIANS(Z$11)) + $B$6*SIN(RADIANS($A12))*SIN(RADIANS(Z$11))) -> -0.044526217
A13: 10 | B13: =$A$2 + $A$3*(COS(RADIANS($A13))) + $A$4*SIN(RADIANS($A13)) + $A$5*SIN(RADIANS($A13))*COS(RADIANS(B$11)) + $A$6*SIN(RADIANS($A13))*SIN(RADIANS(B$11)) - ($B$2 + $B$3*(COS(RADIANS($A13))) + $B$4*SIN(RADIANS($A13)) + $B$5*SIN(RADIANS($A13))*COS(RADIANS(B$11)) + $B$6*SIN(RADIANS($A13))*SIN(RADIANS(B$11))) -> -0.04555311 | C13: =$A$2 + $A$3*(COS(RADIANS($A13))) + $A$4*SIN(RADIANS($A13)) + $A$5*SIN(RADIANS($A13))*COS(RADIANS(C$11)) + $A$6*SIN(RADIANS($A13))*SIN(RADIANS(C$11)) - ($B$2 + $B$3*(COS(RADIANS($A13))) + $B$4*SIN(RADIANS($A13)) + $B$5*SIN(RADIANS($A13))*COS(RADIANS(C$11)) + $B$6*SIN(RADIANS($A13))*SIN(RADIANS(C$11))) -> -0.04555311 | D13: =$A$2 + $A$3*(COS(RADIANS($A13))) + $A$4*SIN(RADIANS($A13)) + $A$5*SIN(RADIANS($A13))*COS(RADIANS(D$11)) + $A$6*SIN(RADIANS($A13))*SIN(RADIANS(D$11)) - ($B$2 + $B$3*(COS(RADIANS($A13))) + $B$4*SIN(RADIANS($A13)) + $B$5*SIN(RADIANS($A13))*COS(RADIANS(D$11)) + $B$6*SIN(RADIANS($A13))*SIN(RADIANS(D$11))) -> -0.04555311 | E13: =$A$2 + $A$3*(COS(RADIANS($A13))) + $A$4*SIN(RADIANS($A13)) + $A$5*SIN(RADIANS($A13))*COS(RADIANS(E$11)) + $A$6*SIN(RADIANS($A13))*SIN(RADIANS(E$11)) - ($B$2 + $B$3*(COS(RADIANS($A13))) + $B$4*SIN(RADIANS($A13)) + $B$5*SIN(RADIANS($A13))*COS(RADIANS(E$11)) + $B$6*SIN(RADIANS($A13))*SIN(RADIANS(E$11))) -> -0.04555311 | F13: =$A$2 + $A$3*(COS(RADIANS($A13))) + $A$4*SIN(RADIANS($A13)) + $A$5*SIN(RADIANS($A13))*COS(RADIANS(F$11)) + $A$6*SIN(RADIANS($A13))*SIN(RADIANS(F$11)) - ($B$2 + $B$3*(COS(RADIANS($A13))) + $B$4*SIN(RADIANS($A13)) + $B$5*SIN(RADIANS($A13))*COS(RADIANS(F$11)) + $B$6*SIN(RADIANS($A13))*SIN(RADIANS(F$11))) -> -0.04555311 | G13: =$A$2 + $A$3*(COS(RADIANS($A13))) + $A$4*SIN(RADIANS($A13)) + $A$5*SIN(RADIANS($A13))*COS(RADIANS(G$11)) + $A$6*SIN(RADIANS($A13))*SIN(RADIANS(G$11)) - ($B$2 + $B$3*(COS(RADIANS($A13))) + $B$4*SIN(RADIANS($A13)) + $B$5*SIN(RADIANS($A13))*COS(RADIANS(G$11)) + $B$6*SIN(RADIANS($A13))*SIN(RADIANS(G$11))) -> -0.04555311 | H13: =$A$2 + $A$3*(COS(RADIANS($A13))) + $A$4*SIN(RADIANS($A13)) + $A$5*SIN(RADIANS($A13))*COS(RADIANS(H$11)) + $A$6*SIN(RADIANS($A13))*SIN(RADIANS(H$11)) - ($B$2 + $B$3*(COS(RADIANS($A13))) + $B$4*SIN(RADIANS($A13)) + $B$5*SIN(RADIANS($A13))*COS(RADIANS(H$11)) + $B$6*SIN(RADIANS($A13))*SIN(RADIANS(H$11))) -> -0.04555311 | I13: =$A$2 + $A$3*(COS(RADIANS($A13))) + $A$4*SIN(RADIANS($A13)) + $A$5*SIN(RADIANS($A13))*COS(RADIANS(I$11)) + $A$6*SIN(RADIANS($A13))*SIN(RADIANS(I$11)) - ($B$2 + $B$3*(COS(RADIANS($A13))) + $B$4*SIN(RADIANS($A13)) + $B$5*SIN(RADIANS($A13))*COS(RADIANS(I$11)) + $B$6*SIN(RADIANS($A13))*SIN(RADIANS(I$11))) -> -0.04555311 | ... Z13: =$A$2 + $A$3*(COS(RADIANS($A13))) + $A$4*SIN(RADIANS($A13)) + $A$5*SIN(RADIANS($A13))*COS(RADIANS(Z$11)) + $A$6*SIN(RADIANS($A13))*SIN(RADIANS(Z$11)) - ($B$2 + $B$3*(COS(RADIANS($A13))) + $B$4*SIN(RADIANS($A13)) + $B$5*SIN(RADIANS($A13))*COS(RADIANS(Z$11)) + $B$6*SIN(RADIANS($A13))*SIN(RADIANS(Z$11))) -> -0.04555311
A14: 15 | B14: =$A$2 + $A$3*(COS(RADIANS($A14))) + $A$4*SIN(RADIANS($A14)) + $A$5*SIN(RADIANS($A14))*COS(RADIANS(B$11)) + $A$6*SIN(RADIANS($A14))*SIN(RADIANS(B$11)) - ($B$2 + $B$3*(COS(RADIANS($A14))) + $B$4*SIN(RADIANS($A14)) + $B$5*SIN(RADIANS($A14))*COS(RADIANS(B$11)) + $B$6*SIN(RADIANS($A14))*SIN(RADIANS(B$11))) -> -0.043065689 | C14: =$A$2 + $A$3*(COS(RADIANS($A14))) + $A$4*SIN(RADIANS($A14)) + $A$5*SIN(RADIANS($A14))*COS(RADIANS(C$11)) + $A$6*SIN(RADIANS($A14))*SIN(RADIANS(C$11)) - ($B$2 + $B$3*(COS(RADIANS($A14))) + $B$4*SIN(RADIANS($A14)) + $B$5*SIN(RADIANS($A14))*COS(RADIANS(C$11)) + $B$6*SIN(RADIANS($A14))*SIN(RADIANS(C$11))) -> -0.043065689 | D14: =$A$2 + $A$3*(COS(RADIANS($A14))) + $A$4*SIN(RADIANS($A14)) + $A$5*SIN(RADIANS($A14))*COS(RADIANS(D$11)) + $A$6*SIN(RADIANS($A14))*SIN(RADIANS(D$11)) - ($B$2 + $B$3*(COS(RADIANS($A14))) + $B$4*SIN(RADIANS($A14)) + $B$5*SIN(RADIANS($A14))*COS(RADIANS(D$11)) + $B$6*SIN(RADIANS($A14))*SIN(RADIANS(D$11))) -> -0.043065689 | E14: =$A$2 + $A$3*(COS(RADIANS($A14))) + $A$4*SIN(RADIANS($A14)) + $A$5*SIN(RADIANS($A14))*COS(RADIANS(E$11)) + $A$6*SIN(RADIANS($A14))*SIN(RADIANS(E$11)) - ($B$2 + $B$3*(COS(RADIANS($A14))) + $B$4*SIN(RADIANS($A14)) + $B$5*SIN(RADIANS($A14))*COS(RADIANS(E$11)) + $B$6*SIN(RADIANS($A14))*SIN(RADIANS(E$11))) -> -0.043065689 | F14: =$A$2 + $A$3*(COS(RADIANS($A14))) + $A$4*SIN(RADIANS($A14)) + $A$5*SIN(RADIANS($A14))*COS(RADIANS(F$11)) + $A$6*SIN(RADIANS($A14))*SIN(RADIANS(F$11)) - ($B$2 + $B$3*(COS(RADIANS($A14))) + $B$4*SIN(RADIANS($A14)) + $B$5*SIN(RADIANS($A14))*COS(RADIANS(F$11)) + $B$6*SIN(RADIANS($A14))*SIN(RADIANS(F$11))) -> -0.043065689 | G14: =$A$2 + $A$3*(COS(RADIANS($A14))) + $A$4*SIN(RADIANS($A14)) + $A$5*SIN(RADIANS($A14))*COS(RADIANS(G$11)) + $A$6*SIN(RADIANS($A14))*SIN(RADIANS(G$11)) - ($B$2 + $B$3*(COS(RADIANS($A14))) + $B$4*SIN(RADIANS($A14)) + $B$5*SIN(RADIANS($A14))*COS(RADIANS(G$11)) + $B$6*SIN(RADIANS($A14))*SIN(RADIANS(G$11))) -> -0.043065689 | H14: =$A$2 + $A$3*(COS(RADIANS($A14))) + $A$4*SIN(RADIANS($A14)) + $A$5*SIN(RADIANS($A14))*COS(RADIANS(H$11)) + $A$6*SIN(RADIANS($A14))*SIN(RADIANS(H$11)) - ($B$2 + $B$3*(COS(RADIANS($A14))) + $B$4*SIN(RADIANS($A14)) + $B$5*SIN(RADIANS($A14))*COS(RADIANS(H$11)) + $B$6*SIN(RADIANS($A14))*SIN(RADIANS(H$11))) -> -0.043065689 | I14: =$A$2 + $A$3*(COS(RADIANS($A14))) + $A$4*SIN(RADIANS($A14)) + $A$5*SIN(RADIANS($A14))*COS(RADIANS(I$11)) + $A$6*SIN(RADIANS($A14))*SIN(RADIANS(I$11)) - ($B$2 + $B$3*(COS(RADIANS($A14))) + $B$4*SIN(RADIANS($A14)) + $B$5*SIN(RADIANS($A14))*COS(RADIANS(I$11)) + $B$6*SIN(RADIANS($A14))*SIN(RADIANS(I$11))) -> -0.043065689 | ... Z14: =$A$2 + $A$3*(COS(RADIANS($A14))) + $A$4*SIN(RADIANS($A14)) + $A$5*SIN(RADIANS($A14))*COS(RADIANS(Z$11)) + $A$6*SIN(RADIANS($A14))*SIN(RADIANS(Z$11)) - ($B$2 + $B$3*(COS(RADIANS($A14))) + $B$4*SIN(RADIANS($A14)) + $B$5*SIN(RADIANS($A14))*COS(RADIANS(Z$11)) + $B$6*SIN(RADIANS($A14))*SIN(RADIANS(Z$11))) -> -0.043065689
A15: 20 | B15: =$A$2 + $A$3*(COS(RADIANS($A15))) + $A$4*SIN(RADIANS($A15)) + $A$5*SIN(RADIANS($A15))*COS(RADIANS(B$11)) + $A$6*SIN(RADIANS($A15))*SIN(RADIANS(B$11)) - ($B$2 + $B$3*(COS(RADIANS($A15))) + $B$4*SIN(RADIANS($A15)) + $B$5*SIN(RADIANS($A15))*COS(RADIANS(B$11)) + $B$6*SIN(RADIANS($A15))*SIN(RADIANS(B$11))) -> -0.037082884 | C15: =$A$2 + $A$3*(COS(RADIANS($A15))) + $A$4*SIN(RADIANS($A15)) + $A$5*SIN(RADIANS($A15))*COS(RADIANS(C$11)) + $A$6*SIN(RADIANS($A15))*SIN(RADIANS(C$11)) - ($B$2 + $B$3*(COS(RADIANS($A15))) + $B$4*SIN(RADIANS($A15)) + $B$5*SIN(RADIANS($A15))*COS(RADIANS(C$11)) + $B$6*SIN(RADIANS($A15))*SIN(RADIANS(C$11))) -> -0.037082884 | D15: =$A$2 + $A$3*(COS(RADIANS($A15))) + $A$4*SIN(RADIANS($A15)) + $A$5*SIN(RADIANS($A15))*COS(RADIANS(D$11)) + $A$6*SIN(RADIANS($A15))*SIN(RADIANS(D$11)) - ($B$2 + $B$3*(COS(RADIANS($A15))) + $B$4*SIN(RADIANS($A15)) + $B$5*SIN(RADIANS($A15))*COS(RADIANS(D$11)) + $B$6*SIN(RADIANS($A15))*SIN(RADIANS(D$11))) -> -0.037082884 | E15: =$A$2 + $A$3*(COS(RADIANS($A15))) + $A$4*SIN(RADIANS($A15)) + $A$5*SIN(RADIANS($A15))*COS(RADIANS(E$11)) + $A$6*SIN(RADIANS($A15))*SIN(RADIANS(E$11)) - ($B$2 + $B$3*(COS(RADIANS($A15))) + $B$4*SIN(RADIANS($A15)) + $B$5*SIN(RADIANS($A15))*COS(RADIANS(E$11)) + $B$6*SIN(RADIANS($A15))*SIN(RADIANS(E$11))) -> -0.037082884 | F15: =$A$2 + $A$3*(COS(RADIANS($A15))) + $A$4*SIN(RADIANS($A15)) + $A$5*SIN(RADIANS($A15))*COS(RADIANS(F$11)) + $A$6*SIN(RADIANS($A15))*SIN(RADIANS(F$11)) - ($B$2 + $B$3*(COS(RADIANS($A15))) + $B$4*SIN(RADIANS($A15)) + $B$5*SIN(RADIANS($A15))*COS(RADIANS(F$11)) + $B$6*SIN(RADIANS($A15))*SIN(RADIANS(F$11))) -> -0.037082884 | G15: =$A$2 + $A$3*(COS(RADIANS($A15))) + $A$4*SIN(RADIANS($A15)) + $A$5*SIN(RADIANS($A15))*COS(RADIANS(G$11)) + $A$6*SIN(RADIANS($A15))*SIN(RADIANS(G$11)) - ($B$2 + $B$3*(COS(RADIANS($A15))) + $B$4*SIN(RADIANS($A15)) + $B$5*SIN(RADIANS($A15))*COS(RADIANS(G$11)) + $B$6*SIN(RADIANS($A15))*SIN(RADIANS(G$11))) -> -0.037082884 | H15: =$A$2 + $A$3*(COS(RADIANS($A15))) + $A$4*SIN(RADIANS($A15)) + $A$5*SIN(RADIANS($A15))*COS(RADIANS(H$11)) + $A$6*SIN(RADIANS($A15))*SIN(RADIANS(H$11)) - ($B$2 + $B$3*(COS(RADIANS($A15))) + $B$4*SIN(RADIANS($A15)) + $B$5*SIN(RADIANS($A15))*COS(RADIANS(H$11)) + $B$6*SIN(RADIANS($A15))*SIN(RADIANS(H$11))) -> -0.037082884 | I15: =$A$2 + $A$3*(COS(RADIANS($A15))) + $A$4*SIN(RADIANS($A15)) + $A$5*SIN(RADIANS($A15))*COS(RADIANS(I$11)) + $A$6*SIN(RADIANS($A15))*SIN(RADIANS(I$11)) - ($B$2 + $B$3*(COS(RADIANS($A15))) + $B$4*SIN(RADIANS($A15)) + $B$5*SIN(RADIANS($A15))*COS(RADIANS(I$11)) + $B$6*SIN(RADIANS($A15))*SIN(RADIANS(I$11))) -> -0.037082884 | ... Z15: =$A$2 + $A$3*(COS(RADIANS($A15))) + $A$4*SIN(RADIANS($A15)) + $A$5*SIN(RADIANS($A15))*COS(RADIANS(Z$11)) + $A$6*SIN(RADIANS($A15))*SIN(RADIANS(Z$11)) - ($B$2 + $B$3*(COS(RADIANS($A15))) + $B$4*SIN(RADIANS($A15)) + $B$5*SIN(RADIANS($A15))*COS(RADIANS(Z$11)) + $B$6*SIN(RADIANS($A15))*SIN(RADIANS(Z$11))) -> -0.037082884
A16: 25 | B16: =$A$2 + $A$3*(COS(RADIANS($A16))) + $A$4*SIN(RADIANS($A16)) + $A$5*SIN(RADIANS($A16))*COS(RADIANS(B$11)) + $A$6*SIN(RADIANS($A16))*SIN(RADIANS(B$11)) - ($B$2 + $B$3*(COS(RADIANS($A16))) + $B$4*SIN(RADIANS($A16)) + $B$5*SIN(RADIANS($A16))*COS(RADIANS(B$11)) + $B$6*SIN(RADIANS($A16))*SIN(RADIANS(B$11))) -> -0.027650228 | C16: =$A$2 + $A$3*(COS(RADIANS($A16))) + $A$4*SIN(RADIANS($A16)) + $A$5*SIN(RADIANS($A16))*COS(RADIANS(C$11)) + $A$6*SIN(RADIANS($A16))*SIN(RADIANS(C$11)) - ($B$2 + $B$3*(COS(RADIANS($A16))) + $B$4*SIN(RADIANS($A16)) + $B$5*SIN(RADIANS($A16))*COS(RADIANS(C$11)) + $B$6*SIN(RADIANS($A16))*SIN(RADIANS(C$11))) -> -0.027650228 | D16: =$A$2 + $A$3*(COS(RADIANS($A16))) + $A$4*SIN(RADIANS($A16)) + $A$5*SIN(RADIANS($A16))*COS(RADIANS(D$11)) + $A$6*SIN(RADIANS($A16))*SIN(RADIANS(D$11)) - ($B$2 + $B$3*(COS(RADIANS($A16))) + $B$4*SIN(RADIANS($A16)) + $B$5*SIN(RADIANS($A16))*COS(RADIANS(D$11)) + $B$6*SIN(RADIANS($A16))*SIN(RADIANS(D$11))) -> -0.027650228 | E16: =$A$2 + $A$3*(COS(RADIANS($A16))) + $A$4*SIN(RADIANS($A16)) + $A$5*SIN(RADIANS($A16))*COS(RADIANS(E$11)) + $A$6*SIN(RADIANS($A16))*SIN(RADIANS(E$11)) - ($B$2 + $B$3*(COS(RADIANS($A16))) + $B$4*SIN(RADIANS($A16)) + $B$5*SIN(RADIANS($A16))*COS(RADIANS(E$11)) + $B$6*SIN(RADIANS($A16))*SIN(RADIANS(E$11))) -> -0.027650228 | F16: =$A$2 + $A$3*(COS(RADIANS($A16))) + $A$4*SIN(RADIANS($A16)) + $A$5*SIN(RADIANS($A16))*COS(RADIANS(F$11)) + $A$6*SIN(RADIANS($A16))*SIN(RADIANS(F$11)) - ($B$2 + $B$3*(COS(RADIANS($A16))) + $B$4*SIN(RADIANS($A16)) + $B$5*SIN(RADIANS($A16))*COS(RADIANS(F$11)) + $B$6*SIN(RADIANS($A16))*SIN(RADIANS(F$11))) -> -0.027650228 | G16: =$A$2 + $A$3*(COS(RADIANS($A16))) + $A$4*SIN(RADIANS($A16)) + $A$5*SIN(RADIANS($A16))*COS(RADIANS(G$11)) + $A$6*SIN(RADIANS($A16))*SIN(RADIANS(G$11)) - ($B$2 + $B$3*(COS(RADIANS($A16))) + $B$4*SIN(RADIANS($A16)) + $B$5*SIN(RADIANS($A16))*COS(RADIANS(G$11)) + $B$6*SIN(RADIANS($A16))*SIN(RADIANS(G$11))) -> -0.027650228 | H16: =$A$2 + $A$3*(COS(RADIANS($A16))) + $A$4*SIN(RADIANS($A16)) + $A$5*SIN(RADIANS($A16))*COS(RADIANS(H$11)) + $A$6*SIN(RADIANS($A16))*SIN(RADIANS(H$11)) - ($B$2 + $B$3*(COS(RADIANS($A16))) + $B$4*SIN(RADIANS($A16)) + $B$5*SIN(RADIANS($A16))*COS(RADIANS(H$11)) + $B$6*SIN(RADIANS($A16))*SIN(RADIANS(H$11))) -> -0.027650228 | I16: =$A$2 + $A$3*(COS(RADIANS($A16))) + $A$4*SIN(RADIANS($A16)) + $A$5*SIN(RADIANS($A16))*COS(RADIANS(I$11)) + $A$6*SIN(RADIANS($A16))*SIN(RADIANS(I$11)) - ($B$2 + $B$3*(COS(RADIANS($A16))) + $B$4*SIN(RADIANS($A16)) + $B$5*SIN(RADIANS($A16))*COS(RADIANS(I$11)) + $B$6*SIN(RADIANS($A16))*SIN(RADIANS(I$11))) -> -0.027650228 | ... Z16: =$A$2 + $A$3*(COS(RADIANS($A16))) + $A$4*SIN(RADIANS($A16)) + $A$5*SIN(RADIANS($A16))*COS(RADIANS(Z$11)) + $A$6*SIN(RADIANS($A16))*SIN(RADIANS(Z$11)) - ($B$2 + $B$3*(COS(RADIANS($A16))) + $B$4*SIN(RADIANS($A16)) + $B$5*SIN(RADIANS($A16))*COS(RADIANS(Z$11)) + $B$6*SIN(RADIANS($A16))*SIN(RADIANS(Z$11))) -> -0.027650228
A17: 30 | B17: =$A$2 + $A$3*(COS(RADIANS($A17))) + $A$4*SIN(RADIANS($A17)) + $A$5*SIN(RADIANS($A17))*COS(RADIANS(B$11)) + $A$6*SIN(RADIANS($A17))*SIN(RADIANS(B$11)) - ($B$2 + $B$3*(COS(RADIANS($A17))) + $B$4*SIN(RADIANS($A17)) + $B$5*SIN(RADIANS($A17))*COS(RADIANS(B$11)) + $B$6*SIN(RADIANS($A17))*SIN(RADIANS(B$11))) -> -0.01483951 | C17: =$A$2 + $A$3*(COS(RADIANS($A17))) + $A$4*SIN(RADIANS($A17)) + $A$5*SIN(RADIANS($A17))*COS(RADIANS(C$11)) + $A$6*SIN(RADIANS($A17))*SIN(RADIANS(C$11)) - ($B$2 + $B$3*(COS(RADIANS($A17))) + $B$4*SIN(RADIANS($A17)) + $B$5*SIN(RADIANS($A17))*COS(RADIANS(C$11)) + $B$6*SIN(RADIANS($A17))*SIN(RADIANS(C$11))) -> -0.01483951 | D17: =$A$2 + $A$3*(COS(RADIANS($A17))) + $A$4*SIN(RADIANS($A17)) + $A$5*SIN(RADIANS($A17))*COS(RADIANS(D$11)) + $A$6*SIN(RADIANS($A17))*SIN(RADIANS(D$11)) - ($B$2 + $B$3*(COS(RADIANS($A17))) + $B$4*SIN(RADIANS($A17)) + $B$5*SIN(RADIANS($A17))*COS(RADIANS(D$11)) + $B$6*SIN(RADIANS($A17))*SIN(RADIANS(D$11))) -> -0.01483951 | E17: =$A$2 + $A$3*(COS(RADIANS($A17))) + $A$4*SIN(RADIANS($A17)) + $A$5*SIN(RADIANS($A17))*COS(RADIANS(E$11)) + $A$6*SIN(RADIANS($A17))*SIN(RADIANS(E$11)) - ($B$2 + $B$3*(COS(RADIANS($A17))) + $B$4*SIN(RADIANS($A17)) + $B$5*SIN(RADIANS($A17))*COS(RADIANS(E$11)) + $B$6*SIN(RADIANS($A17))*SIN(RADIANS(E$11))) -> -0.01483951 | F17: =$A$2 + $A$3*(COS(RADIANS($A17))) + $A$4*SIN(RADIANS($A17)) + $A$5*SIN(RADIANS($A17))*COS(RADIANS(F$11)) + $A$6*SIN(RADIANS($A17))*SIN(RADIANS(F$11)) - ($B$2 + $B$3*(COS(RADIANS($A17))) + $B$4*SIN(RADIANS($A17)) + $B$5*SIN(RADIANS($A17))*COS(RADIANS(F$11)) + $B$6*SIN(RADIANS($A17))*SIN(RADIANS(F$11))) -> -0.01483951 | G17: =$A$2 + $A$3*(COS(RADIANS($A17))) + $A$4*SIN(RADIANS($A17)) + $A$5*SIN(RADIANS($A17))*COS(RADIANS(G$11)) + $A$6*SIN(RADIANS($A17))*SIN(RADIANS(G$11)) - ($B$2 + $B$3*(COS(RADIANS($A17))) + $B$4*SIN(RADIANS($A17)) + $B$5*SIN(RADIANS($A17))*COS(RADIANS(G$11)) + $B$6*SIN(RADIANS($A17))*SIN(RADIANS(G$11))) -> -0.01483951 | H17: =$A$2 + $A$3*(COS(RADIANS($A17))) + $A$4*SIN(RADIANS($A17)) + $A$5*SIN(RADIANS($A17))*COS(RADIANS(H$11)) + $A$6*SIN(RADIANS($A17))*SIN(RADIANS(H$11)) - ($B$2 + $B$3*(COS(RADIANS($A17))) + $B$4*SIN(RADIANS($A17)) + $B$5*SIN(RADIANS($A17))*COS(RADIANS(H$11)) + $B$6*SIN(RADIANS($A17))*SIN(RADIANS(H$11))) -> -0.01483951 | I17: =$A$2 + $A$3*(COS(RADIANS($A17))) + $A$4*SIN(RADIANS($A17)) + $A$5*SIN(RADIANS($A17))*COS(RADIANS(I$11)) + $A$6*SIN(RADIANS($A17))*SIN(RADIANS(I$11)) - ($B$2 + $B$3*(COS(RADIANS($A17))) + $B$4*SIN(RADIANS($A17)) + $B$5*SIN(RADIANS($A17))*COS(RADIANS(I$11)) + $B$6*SIN(RADIANS($A17))*SIN(RADIANS(I$11))) -> -0.01483951 | ... Z17: =$A$2 + $A$3*(COS(RADIANS($A17))) + $A$4*SIN(RADIANS($A17)) + $A$5*SIN(RADIANS($A17))*COS(RADIANS(Z$11)) + $A$6*SIN(RADIANS($A17))*SIN(RADIANS(Z$11)) - ($B$2 + $B$3*(COS(RADIANS($A17))) + $B$4*SIN(RADIANS($A17)) + $B$5*SIN(RADIANS($A17))*COS(RADIANS(Z$11)) + $B$6*SIN(RADIANS($A17))*SIN(RADIANS(Z$11))) -> -0.01483951
A18: 35 | B18: =$A$2 + $A$3*(COS(RADIANS($A18))) + $A$4*SIN(RADIANS($A18)) + $A$5*SIN(RADIANS($A18))*COS(RADIANS(B$11)) + $A$6*SIN(RADIANS($A18))*SIN(RADIANS(B$11)) - ($B$2 + $B$3*(COS(RADIANS($A18))) + $B$4*SIN(RADIANS($A18)) + $B$5*SIN(RADIANS($A18))*COS(RADIANS(B$11)) + $B$6*SIN(RADIANS($A18))*SIN(RADIANS(B$11))) -> 0.0012517732 | C18: =$A$2 + $A$3*(COS(RADIANS($A18))) + $A$4*SIN(RADIANS($A18)) + $A$5*SIN(RADIANS($A18))*COS(RADIANS(C$11)) + $A$6*SIN(RADIANS($A18))*SIN(RADIANS(C$11)) - ($B$2 + $B$3*(COS(RADIANS($A18))) + $B$4*SIN(RADIANS($A18)) + $B$5*SIN(RADIANS($A18))*COS(RADIANS(C$11)) + $B$6*SIN(RADIANS($A18))*SIN(RADIANS(C$11))) -> 0.0012517732 | D18: =$A$2 + $A$3*(COS(RADIANS($A18))) + $A$4*SIN(RADIANS($A18)) + $A$5*SIN(RADIANS($A18))*COS(RADIANS(D$11)) + $A$6*SIN(RADIANS($A18))*SIN(RADIANS(D$11)) - ($B$2 + $B$3*(COS(RADIANS($A18))) + $B$4*SIN(RADIANS($A18)) + $B$5*SIN(RADIANS($A18))*COS(RADIANS(D$11)) + $B$6*SIN(RADIANS($A18))*SIN(RADIANS(D$11))) -> 0.0012517732 | E18: =$A$2 + $A$3*(COS(RADIANS($A18))) + $A$4*SIN(RADIANS($A18)) + $A$5*SIN(RADIANS($A18))*COS(RADIANS(E$11)) + $A$6*SIN(RADIANS($A18))*SIN(RADIANS(E$11)) - ($B$2 + $B$3*(COS(RADIANS($A18))) + $B$4*SIN(RADIANS($A18)) + $B$5*SIN(RADIANS($A18))*COS(RADIANS(E$11)) + $B$6*SIN(RADIANS($A18))*SIN(RADIANS(E$11))) -> 0.0012517732 | F18: =$A$2 + $A$3*(COS(RADIANS($A18))) + $A$4*SIN(RADIANS($A18)) + $A$5*SIN(RADIANS($A18))*COS(RADIANS(F$11)) + $A$6*SIN(RADIANS($A18))*SIN(RADIANS(F$11)) - ($B$2 + $B$3*(COS(RADIANS($A18))) + $B$4*SIN(RADIANS($A18)) + $B$5*SIN(RADIANS($A18))*COS(RADIANS(F$11)) + $B$6*SIN(RADIANS($A18))*SIN(RADIANS(F$11))) -> 0.0012517732 | G18: =$A$2 + $A$3*(COS(RADIANS($A18))) + $A$4*SIN(RADIANS($A18)) + $A$5*SIN(RADIANS($A18))*COS(RADIANS(G$11)) + $A$6*SIN(RADIANS($A18))*SIN(RADIANS(G$11)) - ($B$2 + $B$3*(COS(RADIANS($A18))) + $B$4*SIN(RADIANS($A18)) + $B$5*SIN(RADIANS($A18))*COS(RADIANS(G$11)) + $B$6*SIN(RADIANS($A18))*SIN(RADIANS(G$11))) -> 0.0012517732 | H18: =$A$2 + $A$3*(COS(RADIANS($A18))) + $A$4*SIN(RADIANS($A18)) + $A$5*SIN(RADIANS($A18))*COS(RADIANS(H$11)) + $A$6*SIN(RADIANS($A18))*SIN(RADIANS(H$11)) - ($B$2 + $B$3*(COS(RADIANS($A18))) + $B$4*SIN(RADIANS($A18)) + $B$5*SIN(RADIANS($A18))*COS(RADIANS(H$11)) + $B$6*SIN(RADIANS($A18))*SIN(RADIANS(H$11))) -> 0.0012517732 | I18: =$A$2 + $A$3*(COS(RADIANS($A18))) + $A$4*SIN(RADIANS($A18)) + $A$5*SIN(RADIANS($A18))*COS(RADIANS(I$11)) + $A$6*SIN(RADIANS($A18))*SIN(RADIANS(I$11)) - ($B$2 + $B$3*(COS(RADIANS($A18))) + $B$4*SIN(RADIANS($A18)) + $B$5*SIN(RADIANS($A18))*COS(RADIANS(I$11)) + $B$6*SIN(RADIANS($A18))*SIN(RADIANS(I$11))) -> 0.0012517732 | ... Z18: =$A$2 + $A$3*(COS(RADIANS($A18))) + $A$4*SIN(RADIANS($A18)) + $A$5*SIN(RADIANS($A18))*COS(RADIANS(Z$11)) + $A$6*SIN(RADIANS($A18))*SIN(RADIANS(Z$11)) - ($B$2 + $B$3*(COS(RADIANS($A18))) + $B$4*SIN(RADIANS($A18)) + $B$5*SIN(RADIANS($A18))*COS(RADIANS(Z$11)) + $B$6*SIN(RADIANS($A18))*SIN(RADIANS(Z$11))) -> 0.0012517732
A19: 40 | B19: =$A$2 + $A$3*(COS(RADIANS($A19))) + $A$4*SIN(RADIANS($A19)) + $A$5*SIN(RADIANS($A19))*COS(RADIANS(B$11)) + $A$6*SIN(RADIANS($A19))*SIN(RADIANS(B$11)) - ($B$2 + $B$3*(COS(RADIANS($A19))) + $B$4*SIN(RADIANS($A19)) + $B$5*SIN(RADIANS($A19))*COS(RADIANS(B$11)) + $B$6*SIN(RADIANS($A19))*SIN(RADIANS(B$11))) -> 0.020501157 | C19: =$A$2 + $A$3*(COS(RADIANS($A19))) + $A$4*SIN(RADIANS($A19)) + $A$5*SIN(RADIANS($A19))*COS(RADIANS(C$11)) + $A$6*SIN(RADIANS($A19))*SIN(RADIANS(C$11)) - ($B$2 + $B$3*(COS(RADIANS($A19))) + $B$4*SIN(RADIANS($A19)) + $B$5*SIN(RADIANS($A19))*COS(RADIANS(C$11)) + $B$6*SIN(RADIANS($A19))*SIN(RADIANS(C$11))) -> 0.020501157 | D19: =$A$2 + $A$3*(COS(RADIANS($A19))) + $A$4*SIN(RADIANS($A19)) + $A$5*SIN(RADIANS($A19))*COS(RADIANS(D$11)) + $A$6*SIN(RADIANS($A19))*SIN(RADIANS(D$11)) - ($B$2 + $B$3*(COS(RADIANS($A19))) + $B$4*SIN(RADIANS($A19)) + $B$5*SIN(RADIANS($A19))*COS(RADIANS(D$11)) + $B$6*SIN(RADIANS($A19))*SIN(RADIANS(D$11))) -> 0.020501157 | E19: =$A$2 + $A$3*(COS(RADIANS($A19))) + $A$4*SIN(RADIANS($A19)) + $A$5*SIN(RADIANS($A19))*COS(RADIANS(E$11)) + $A$6*SIN(RADIANS($A19))*SIN(RADIANS(E$11)) - ($B$2 + $B$3*(COS(RADIANS($A19))) + $B$4*SIN(RADIANS($A19)) + $B$5*SIN(RADIANS($A19))*COS(RADIANS(E$11)) + $B$6*SIN(RADIANS($A19))*SIN(RADIANS(E$11))) -> 0.020501157 | F19: =$A$2 + $A$3*(COS(RADIANS($A19))) + $A$4*SIN(RADIANS($A19)) + $A$5*SIN(RADIANS($A19))*COS(RADIANS(F$11)) + $A$6*SIN(RADIANS($A19))*SIN(RADIANS(F$11)) - ($B$2 + $B$3*(COS(RADIANS($A19))) + $B$4*SIN(RADIANS($A19)) + $B$5*SIN(RADIANS($A19))*COS(RADIANS(F$11)) + $B$6*SIN(RADIANS($A19))*SIN(RADIANS(F$11))) -> 0.020501157 | G19: =$A$2 + $A$3*(COS(RADIANS($A19))) + $A$4*SIN(RADIANS($A19)) + $A$5*SIN(RADIANS($A19))*COS(RADIANS(G$11)) + $A$6*SIN(RADIANS($A19))*SIN(RADIANS(G$11)) - ($B$2 + $B$3*(COS(RADIANS($A19))) + $B$4*SIN(RADIANS($A19)) + $B$5*SIN(RADIANS($A19))*COS(RADIANS(G$11)) + $B$6*SIN(RADIANS($A19))*SIN(RADIANS(G$11))) -> 0.020501157 | H19: =$A$2 + $A$3*(COS(RADIANS($A19))) + $A$4*SIN(RADIANS($A19)) + $A$5*SIN(RADIANS($A19))*COS(RADIANS(H$11)) + $A$6*SIN(RADIANS($A19))*SIN(RADIANS(H$11)) - ($B$2 + $B$3*(COS(RADIANS($A19))) + $B$4*SIN(RADIANS($A19)) + $B$5*SIN(RADIANS($A19))*COS(RADIANS(H$11)) + $B$6*SIN(RADIANS($A19))*SIN(RADIANS(H$11))) -> 0.020501157 | I19: =$A$2 + $A$3*(COS(RADIANS($A19))) + $A$4*SIN(RADIANS($A19)) + $A$5*SIN(RADIANS($A19))*COS(RADIANS(I$11)) + $A$6*SIN(RADIANS($A19))*SIN(RADIANS(I$11)) - ($B$2 + $B$3*(COS(RADIANS($A19))) + $B$4*SIN(RADIANS($A19)) + $B$5*SIN(RADIANS($A19))*COS(RADIANS(I$11)) + $B$6*SIN(RADIANS($A19))*SIN(RADIANS(I$11))) -> 0.020501157 | ... Z19: =$A$2 + $A$3*(COS(RADIANS($A19))) + $A$4*SIN(RADIANS($A19)) + $A$5*SIN(RADIANS($A19))*COS(RADIANS(Z$11)) + $A$6*SIN(RADIANS($A19))*SIN(RADIANS(Z$11)) - ($B$2 + $B$3*(COS(RADIANS($A19))) + $B$4*SIN(RADIANS($A19)) + $B$5*SIN(RADIANS($A19))*COS(RADIANS(Z$11)) + $B$6*SIN(RADIANS($A19))*SIN(RADIANS(Z$11))) -> 0.020501157
A20: 45 | B20: =$A$2 + $A$3*(COS(RADIANS($A20))) + $A$4*SIN(RADIANS($A20)) + $A$5*SIN(RADIANS($A20))*COS(RADIANS(B$11)) + $A$6*SIN(RADIANS($A20))*SIN(RADIANS(B$11)) - ($B$2 + $B$3*(COS(RADIANS($A20))) + $B$4*SIN(RADIANS($A20)) + $B$5*SIN(RADIANS($A20))*COS(RADIANS(B$11)) + $B$6*SIN(RADIANS($A20))*SIN(RADIANS(B$11))) -> 0.042762143 | C20: =$A$2 + $A$3*(COS(RADIANS($A20))) + $A$4*SIN(RADIANS($A20)) + $A$5*SIN(RADIANS($A20))*COS(RADIANS(C$11)) + $A$6*SIN(RADIANS($A20))*SIN(RADIANS(C$11)) - ($B$2 + $B$3*(COS(RADIANS($A20))) + $B$4*SIN(RADIANS($A20)) + $B$5*SIN(RADIANS($A20))*COS(RADIANS(C$11)) + $B$6*SIN(RADIANS($A20))*SIN(RADIANS(C$11))) -> 0.042762143 | D20: =$A$2 + $A$3*(COS(RADIANS($A20))) + $A$4*SIN(RADIANS($A20)) + $A$5*SIN(RADIANS($A20))*COS(RADIANS(D$11)) + $A$6*SIN(RADIANS($A20))*SIN(RADIANS(D$11)) - ($B$2 + $B$3*(COS(RADIANS($A20))) + $B$4*SIN(RADIANS($A20)) + $B$5*SIN(RADIANS($A20))*COS(RADIANS(D$11)) + $B$6*SIN(RADIANS($A20))*SIN(RADIANS(D$11))) -> 0.042762143 | E20: =$A$2 + $A$3*(COS(RADIANS($A20))) + $A$4*SIN(RADIANS($A20)) + $A$5*SIN(RADIANS($A20))*COS(RADIANS(E$11)) + $A$6*SIN(RADIANS($A20))*SIN(RADIANS(E$11)) - ($B$2 + $B$3*(COS(RADIANS($A20))) + $B$4*SIN(RADIANS($A20)) + $B$5*SIN(RADIANS($A20))*COS(RADIANS(E$11)) + $B$6*SIN(RADIANS($A20))*SIN(RADIANS(E$11))) -> 0.042762143 | F20: =$A$2 + $A$3*(COS(RADIANS($A20))) + $A$4*SIN(RADIANS($A20)) + $A$5*SIN(RADIANS($A20))*COS(RADIANS(F$11)) + $A$6*SIN(RADIANS($A20))*SIN(RADIANS(F$11)) - ($B$2 + $B$3*(COS(RADIANS($A20))) + $B$4*SIN(RADIANS($A20)) + $B$5*SIN(RADIANS($A20))*COS(RADIANS(F$11)) + $B$6*SIN(RADIANS($A20))*SIN(RADIANS(F$11))) -> 0.042762143 | G20: =$A$2 + $A$3*(COS(RADIANS($A20))) + $A$4*SIN(RADIANS($A20)) + $A$5*SIN(RADIANS($A20))*COS(RADIANS(G$11)) + $A$6*SIN(RADIANS($A20))*SIN(RADIANS(G$11)) - ($B$2 + $B$3*(COS(RADIANS($A20))) + $B$4*SIN(RADIANS($A20)) + $B$5*SIN(RADIANS($A20))*COS(RADIANS(G$11)) + $B$6*SIN(RADIANS($A20))*SIN(RADIANS(G$11))) -> 0.042762143 | H20: =$A$2 + $A$3*(COS(RADIANS($A20))) + $A$4*SIN(RADIANS($A20)) + $A$5*SIN(RADIANS($A20))*COS(RADIANS(H$11)) + $A$6*SIN(RADIANS($A20))*SIN(RADIANS(H$11)) - ($B$2 + $B$3*(COS(RADIANS($A20))) + $B$4*SIN(RADIANS($A20)) + $B$5*SIN(RADIANS($A20))*COS(RADIANS(H$11)) + $B$6*SIN(RADIANS($A20))*SIN(RADIANS(H$11))) -> 0.042762143 | I20: =$A$2 + $A$3*(COS(RADIANS($A20))) + $A$4*SIN(RADIANS($A20)) + $A$5*SIN(RADIANS($A20))*COS(RADIANS(I$11)) + $A$6*SIN(RADIANS($A20))*SIN(RADIANS(I$11)) - ($B$2 + $B$3*(COS(RADIANS($A20))) + $B$4*SIN(RADIANS($A20)) + $B$5*SIN(RADIANS($A20))*COS(RADIANS(I$11)) + $B$6*SIN(RADIANS($A20))*SIN(RADIANS(I$11))) -> 0.042762143 | ... Z20: =$A$2 + $A$3*(COS(RADIANS($A20))) + $A$4*SIN(RADIANS($A20)) + $A$5*SIN(RADIANS($A20))*COS(RADIANS(Z$11)) + $A$6*SIN(RADIANS($A20))*SIN(RADIANS(Z$11)) - ($B$2 + $B$3*(COS(RADIANS($A20))) + $B$4*SIN(RADIANS($A20)) + $B$5*SIN(RADIANS($A20))*COS(RADIANS(Z$11)) + $B$6*SIN(RADIANS($A20))*SIN(RADIANS(Z$11))) -> 0.042762143
A21: 50 | B21: =$A$2 + $A$3*(COS(RADIANS($A21))) + $A$4*SIN(RADIANS($A21)) + $A$5*SIN(RADIANS($A21))*COS(RADIANS(B$11)) + $A$6*SIN(RADIANS($A21))*SIN(RADIANS(B$11)) - ($B$2 + $B$3*(COS(RADIANS($A21))) + $B$4*SIN(RADIANS($A21)) + $B$5*SIN(RADIANS($A21))*COS(RADIANS(B$11)) + $B$6*SIN(RADIANS($A21))*SIN(RADIANS(B$11))) -> 0.067865311 | C21: =$A$2 + $A$3*(COS(RADIANS($A21))) + $A$4*SIN(RADIANS($A21)) + $A$5*SIN(RADIANS($A21))*COS(RADIANS(C$11)) + $A$6*SIN(RADIANS($A21))*SIN(RADIANS(C$11)) - ($B$2 + $B$3*(COS(RADIANS($A21))) + $B$4*SIN(RADIANS($A21)) + $B$5*SIN(RADIANS($A21))*COS(RADIANS(C$11)) + $B$6*SIN(RADIANS($A21))*SIN(RADIANS(C$11))) -> 0.067865311 | D21: =$A$2 + $A$3*(COS(RADIANS($A21))) + $A$4*SIN(RADIANS($A21)) + $A$5*SIN(RADIANS($A21))*COS(RADIANS(D$11)) + $A$6*SIN(RADIANS($A21))*SIN(RADIANS(D$11)) - ($B$2 + $B$3*(COS(RADIANS($A21))) + $B$4*SIN(RADIANS($A21)) + $B$5*SIN(RADIANS($A21))*COS(RADIANS(D$11)) + $B$6*SIN(RADIANS($A21))*SIN(RADIANS(D$11))) -> 0.067865311 | E21: =$A$2 + $A$3*(COS(RADIANS($A21))) + $A$4*SIN(RADIANS($A21)) + $A$5*SIN(RADIANS($A21))*COS(RADIANS(E$11)) + $A$6*SIN(RADIANS($A21))*SIN(RADIANS(E$11)) - ($B$2 + $B$3*(COS(RADIANS($A21))) + $B$4*SIN(RADIANS($A21)) + $B$5*SIN(RADIANS($A21))*COS(RADIANS(E$11)) + $B$6*SIN(RADIANS($A21))*SIN(RADIANS(E$11))) -> 0.067865311 | F21: =$A$2 + $A$3*(COS(RADIANS($A21))) + $A$4*SIN(RADIANS($A21)) + $A$5*SIN(RADIANS($A21))*COS(RADIANS(F$11)) + $A$6*SIN(RADIANS($A21))*SIN(RADIANS(F$11)) - ($B$2 + $B$3*(COS(RADIANS($A21))) + $B$4*SIN(RADIANS($A21)) + $B$5*SIN(RADIANS($A21))*COS(RADIANS(F$11)) + $B$6*SIN(RADIANS($A21))*SIN(RADIANS(F$11))) -> 0.067865311 | G21: =$A$2 + $A$3*(COS(RADIANS($A21))) + $A$4*SIN(RADIANS($A21)) + $A$5*SIN(RADIANS($A21))*COS(RADIANS(G$11)) + $A$6*SIN(RADIANS($A21))*SIN(RADIANS(G$11)) - ($B$2 + $B$3*(COS(RADIANS($A21))) + $B$4*SIN(RADIANS($A21)) + $B$5*SIN(RADIANS($A21))*COS(RADIANS(G$11)) + $B$6*SIN(RADIANS($A21))*SIN(RADIANS(G$11))) -> 0.067865311 | H21: =$A$2 + $A$3*(COS(RADIANS($A21))) + $A$4*SIN(RADIANS($A21)) + $A$5*SIN(RADIANS($A21))*COS(RADIANS(H$11)) + $A$6*SIN(RADIANS($A21))*SIN(RADIANS(H$11)) - ($B$2 + $B$3*(COS(RADIANS($A21))) + $B$4*SIN(RADIANS($A21)) + $B$5*SIN(RADIANS($A21))*COS(RADIANS(H$11)) + $B$6*SIN(RADIANS($A21))*SIN(RADIANS(H$11))) -> 0.067865311 | I21: =$A$2 + $A$3*(COS(RADIANS($A21))) + $A$4*SIN(RADIANS($A21)) + $A$5*SIN(RADIANS($A21))*COS(RADIANS(I$11)) + $A$6*SIN(RADIANS($A21))*SIN(RADIANS(I$11)) - ($B$2 + $B$3*(COS(RADIANS($A21))) + $B$4*SIN(RADIANS($A21)) + $B$5*SIN(RADIANS($A21))*COS(RADIANS(I$11)) + $B$6*SIN(RADIANS($A21))*SIN(RADIANS(I$11))) -> 0.067865311 | ... Z21: =$A$2 + $A$3*(COS(RADIANS($A21))) + $A$4*SIN(RADIANS($A21)) + $A$5*SIN(RADIANS($A21))*COS(RADIANS(Z$11)) + $A$6*SIN(RADIANS($A21))*SIN(RADIANS(Z$11)) - ($B$2 + $B$3*(COS(RADIANS($A21))) + $B$4*SIN(RADIANS($A21)) + $B$5*SIN(RADIANS($A21))*COS(RADIANS(Z$11)) + $B$6*SIN(RADIANS($A21))*SIN(RADIANS(Z$11))) -> 0.067865311
A22: 55 | B22: =$A$2 + $A$3*(COS(RADIANS($A22))) + $A$4*SIN(RADIANS($A22)) + $A$5*SIN(RADIANS($A22))*COS(RADIANS(B$11)) + $A$6*SIN(RADIANS($A22))*SIN(RADIANS(B$11)) - ($B$2 + $B$3*(COS(RADIANS($A22))) + $B$4*SIN(RADIANS($A22)) + $B$5*SIN(RADIANS($A22))*COS(RADIANS(B$11)) + $B$6*SIN(RADIANS($A22))*SIN(RADIANS(B$11))) -> 0.09561961 | C22: =$A$2 + $A$3*(COS(RADIANS($A22))) + $A$4*SIN(RADIANS($A22)) + $A$5*SIN(RADIANS($A22))*COS(RADIANS(C$11)) + $A$6*SIN(RADIANS($A22))*SIN(RADIANS(C$11)) - ($B$2 + $B$3*(COS(RADIANS($A22))) + $B$4*SIN(RADIANS($A22)) + $B$5*SIN(RADIANS($A22))*COS(RADIANS(C$11)) + $B$6*SIN(RADIANS($A22))*SIN(RADIANS(C$11))) -> 0.09561961 | D22: =$A$2 + $A$3*(COS(RADIANS($A22))) + $A$4*SIN(RADIANS($A22)) + $A$5*SIN(RADIANS($A22))*COS(RADIANS(D$11)) + $A$6*SIN(RADIANS($A22))*SIN(RADIANS(D$11)) - ($B$2 + $B$3*(COS(RADIANS($A22))) + $B$4*SIN(RADIANS($A22)) + $B$5*SIN(RADIANS($A22))*COS(RADIANS(D$11)) + $B$6*SIN(RADIANS($A22))*SIN(RADIANS(D$11))) -> 0.09561961 | E22: =$A$2 + $A$3*(COS(RADIANS($A22))) + $A$4*SIN(RADIANS($A22)) + $A$5*SIN(RADIANS($A22))*COS(RADIANS(E$11)) + $A$6*SIN(RADIANS($A22))*SIN(RADIANS(E$11)) - ($B$2 + $B$3*(COS(RADIANS($A22))) + $B$4*SIN(RADIANS($A22)) + $B$5*SIN(RADIANS($A22))*COS(RADIANS(E$11)) + $B$6*SIN(RADIANS($A22))*SIN(RADIANS(E$11))) -> 0.09561961 | F22: =$A$2 + $A$3*(COS(RADIANS($A22))) + $A$4*SIN(RADIANS($A22)) + $A$5*SIN(RADIANS($A22))*COS(RADIANS(F$11)) + $A$6*SIN(RADIANS($A22))*SIN(RADIANS(F$11)) - ($B$2 + $B$3*(COS(RADIANS($A22))) + $B$4*SIN(RADIANS($A22)) + $B$5*SIN(RADIANS($A22))*COS(RADIANS(F$11)) + $B$6*SIN(RADIANS($A22))*SIN(RADIANS(F$11))) -> 0.09561961 | G22: =$A$2 + $A$3*(COS(RADIANS($A22))) + $A$4*SIN(RADIANS($A22)) + $A$5*SIN(RADIANS($A22))*COS(RADIANS(G$11)) + $A$6*SIN(RADIANS($A22))*SIN(RADIANS(G$11)) - ($B$2 + $B$3*(COS(RADIANS($A22))) + $B$4*SIN(RADIANS($A22)) + $B$5*SIN(RADIANS($A22))*COS(RADIANS(G$11)) + $B$6*SIN(RADIANS($A22))*SIN(RADIANS(G$11))) -> 0.09561961 | H22: =$A$2 + $A$3*(COS(RADIANS($A22))) + $A$4*SIN(RADIANS($A22)) + $A$5*SIN(RADIANS($A22))*COS(RADIANS(H$11)) + $A$6*SIN(RADIANS($A22))*SIN(RADIANS(H$11)) - ($B$2 + $B$3*(COS(RADIANS($A22))) + $B$4*SIN(RADIANS($A22)) + $B$5*SIN(RADIANS($A22))*COS(RADIANS(H$11)) + $B$6*SIN(RADIANS($A22))*SIN(RADIANS(H$11))) -> 0.09561961 | I22: =$A$2 + $A$3*(COS(RADIANS($A22))) + $A$4*SIN(RADIANS($A22)) + $A$5*SIN(RADIANS($A22))*COS(RADIANS(I$11)) + $A$6*SIN(RADIANS($A22))*SIN(RADIANS(I$11)) - ($B$2 + $B$3*(COS(RADIANS($A22))) + $B$4*SIN(RADIANS($A22)) + $B$5*SIN(RADIANS($A22))*COS(RADIANS(I$11)) + $B$6*SIN(RADIANS($A22))*SIN(RADIANS(I$11))) -> 0.09561961 | ... Z22: =$A$2 + $A$3*(COS(RADIANS($A22))) + $A$4*SIN(RADIANS($A22)) + $A$5*SIN(RADIANS($A22))*COS(RADIANS(Z$11)) + $A$6*SIN(RADIANS($A22))*SIN(RADIANS(Z$11)) - ($B$2 + $B$3*(COS(RADIANS($A22))) + $B$4*SIN(RADIANS($A22)) + $B$5*SIN(RADIANS($A22))*COS(RADIANS(Z$11)) + $B$6*SIN(RADIANS($A22))*SIN(RADIANS(Z$11))) -> 0.09561961
A23: 60 | B23: =$A$2 + $A$3*(COS(RADIANS($A23))) + $A$4*SIN(RADIANS($A23)) + $A$5*SIN(RADIANS($A23))*COS(RADIANS(B$11)) + $A$6*SIN(RADIANS($A23))*SIN(RADIANS(B$11)) - ($B$2 + $B$3*(COS(RADIANS($A23))) + $B$4*SIN(RADIANS($A23)) + $B$5*SIN(RADIANS($A23))*COS(RADIANS(B$11)) + $B$6*SIN(RADIANS($A23))*SIN(RADIANS(B$11))) -> 0.12581381 | C23: =$A$2 + $A$3*(COS(RADIANS($A23))) + $A$4*SIN(RADIANS($A23)) + $A$5*SIN(RADIANS($A23))*COS(RADIANS(C$11)) + $A$6*SIN(RADIANS($A23))*SIN(RADIANS(C$11)) - ($B$2 + $B$3*(COS(RADIANS($A23))) + $B$4*SIN(RADIANS($A23)) + $B$5*SIN(RADIANS($A23))*COS(RADIANS(C$11)) + $B$6*SIN(RADIANS($A23))*SIN(RADIANS(C$11))) -> 0.12581381 | D23: =$A$2 + $A$3*(COS(RADIANS($A23))) + $A$4*SIN(RADIANS($A23)) + $A$5*SIN(RADIANS($A23))*COS(RADIANS(D$11)) + $A$6*SIN(RADIANS($A23))*SIN(RADIANS(D$11)) - ($B$2 + $B$3*(COS(RADIANS($A23))) + $B$4*SIN(RADIANS($A23)) + $B$5*SIN(RADIANS($A23))*COS(RADIANS(D$11)) + $B$6*SIN(RADIANS($A23))*SIN(RADIANS(D$11))) -> 0.12581381 | E23: =$A$2 + $A$3*(COS(RADIANS($A23))) + $A$4*SIN(RADIANS($A23)) + $A$5*SIN(RADIANS($A23))*COS(RADIANS(E$11)) + $A$6*SIN(RADIANS($A23))*SIN(RADIANS(E$11)) - ($B$2 + $B$3*(COS(RADIANS($A23))) + $B$4*SIN(RADIANS($A23)) + $B$5*SIN(RADIANS($A23))*COS(RADIANS(E$11)) + $B$6*SIN(RADIANS($A23))*SIN(RADIANS(E$11))) -> 0.12581381 | F23: =$A$2 + $A$3*(COS(RADIANS($A23))) + $A$4*SIN(RADIANS($A23)) + $A$5*SIN(RADIANS($A23))*COS(RADIANS(F$11)) + $A$6*SIN(RADIANS($A23))*SIN(RADIANS(F$11)) - ($B$2 + $B$3*(COS(RADIANS($A23))) + $B$4*SIN(RADIANS($A23)) + $B$5*SIN(RADIANS($A23))*COS(RADIANS(F$11)) + $B$6*SIN(RADIANS($A23))*SIN(RADIANS(F$11))) -> 0.12581381 | G23: =$A$2 + $A$3*(COS(RADIANS($A23))) + $A$4*SIN(RADIANS($A23)) + $A$5*SIN(RADIANS($A23))*COS(RADIANS(G$11)) + $A$6*SIN(RADIANS($A23))*SIN(RADIANS(G$11)) - ($B$2 + $B$3*(COS(RADIANS($A23))) + $B$4*SIN(RADIANS($A23)) + $B$5*SIN(RADIANS($A23))*COS(RADIANS(G$11)) + $B$6*SIN(RADIANS($A23))*SIN(RADIANS(G$11))) -> 0.12581381 | H23: =$A$2 + $A$3*(COS(RADIANS($A23))) + $A$4*SIN(RADIANS($A23)) + $A$5*SIN(RADIANS($A23))*COS(RADIANS(H$11)) + $A$6*SIN(RADIANS($A23))*SIN(RADIANS(H$11)) - ($B$2 + $B$3*(COS(RADIANS($A23))) + $B$4*SIN(RADIANS($A23)) + $B$5*SIN(RADIANS($A23))*COS(RADIANS(H$11)) + $B$6*SIN(RADIANS($A23))*SIN(RADIANS(H$11))) -> 0.12581381 | I23: =$A$2 + $A$3*(COS(RADIANS($A23))) + $A$4*SIN(RADIANS($A23)) + $A$5*SIN(RADIANS($A23))*COS(RADIANS(I$11)) + $A$6*SIN(RADIANS($A23))*SIN(RADIANS(I$11)) - ($B$2 + $B$3*(COS(RADIANS($A23))) + $B$4*SIN(RADIANS($A23)) + $B$5*SIN(RADIANS($A23))*COS(RADIANS(I$11)) + $B$6*SIN(RADIANS($A23))*SIN(RADIANS(I$11))) -> 0.12581381 | ... Z23: =$A$2 + $A$3*(COS(RADIANS($A23))) + $A$4*SIN(RADIANS($A23)) + $A$5*SIN(RADIANS($A23))*COS(RADIANS(Z$11)) + $A$6*SIN(RADIANS($A23))*SIN(RADIANS(Z$11)) - ($B$2 + $B$3*(COS(RADIANS($A23))) + $B$4*SIN(RADIANS($A23)) + $B$5*SIN(RADIANS($A23))*COS(RADIANS(Z$11)) + $B$6*SIN(RADIANS($A23))*SIN(RADIANS(Z$11))) -> 0.12581381
... A28: 85 | B28: =$A$2 + $A$3*(COS(RADIANS($A28))) + $A$4*SIN(RADIANS($A28)) + $A$5*SIN(RADIANS($A28))*COS(RADIANS(B$11)) + $A$6*SIN(RADIANS($A28))*SIN(RADIANS(B$11)) - ($B$2 + $B$3*(COS(RADIANS($A28))) + $B$4*SIN(RADIANS($A28)) + $B$5*SIN(RADIANS($A28))*COS(RADIANS(B$11)) + $B$6*SIN(RADIANS($A28))*SIN(RADIANS(B$11))) -> 0.30479203 | C28: =$A$2 + $A$3*(COS(RADIANS($A28))) + $A$4*SIN(RADIANS($A28)) + $A$5*SIN(RADIANS($A28))*COS(RADIANS(C$11)) + $A$6*SIN(RADIANS($A28))*SIN(RADIANS(C$11)) - ($B$2 + $B$3*(COS(RADIANS($A28))) + $B$4*SIN(RADIANS($A28)) + $B$5*SIN(RADIANS($A28))*COS(RADIANS(C$11)) + $B$6*SIN(RADIANS($A28))*SIN(RADIANS(C$11))) -> 0.30479203 | D28: =$A$2 + $A$3*(COS(RADIANS($A28))) + $A$4*SIN(RADIANS($A28)) + $A$5*SIN(RADIANS($A28))*COS(RADIANS(D$11)) + $A$6*SIN(RADIANS($A28))*SIN(RADIANS(D$11)) - ($B$2 + $B$3*(COS(RADIANS($A28))) + $B$4*SIN(RADIANS($A28)) + $B$5*SIN(RADIANS($A28))*COS(RADIANS(D$11)) + $B$6*SIN(RADIANS($A28))*SIN(RADIANS(D$11))) -> 0.30479203 | E28: =$A$2 + $A$3*(COS(RADIANS($A28))) + $A$4*SIN(RADIANS($A28)) + $A$5*SIN(RADIANS($A28))*COS(RADIANS(E$11)) + $A$6*SIN(RADIANS($A28))*SIN(RADIANS(E$11)) - ($B$2 + $B$3*(COS(RADIANS($A28))) + $B$4*SIN(RADIANS($A28)) + $B$5*SIN(RADIANS($A28))*COS(RADIANS(E$11)) + $B$6*SIN(RADIANS($A28))*SIN(RADIANS(E$11))) -> 0.30479203 | F28: =$A$2 + $A$3*(COS(RADIANS($A28))) + $A$4*SIN(RADIANS($A28)) + $A$5*SIN(RADIANS($A28))*COS(RADIANS(F$11)) + $A$6*SIN(RADIANS($A28))*SIN(RADIANS(F$11)) - ($B$2 + $B$3*(COS(RADIANS($A28))) + $B$4*SIN(RADIANS($A28)) + $B$5*SIN(RADIANS($A28))*COS(RADIANS(F$11)) + $B$6*SIN(RADIANS($A28))*SIN(RADIANS(F$11))) -> 0.30479203 | G28: =$A$2 + $A$3*(COS(RADIANS($A28))) + $A$4*SIN(RADIANS($A28)) + $A$5*SIN(RADIANS($A28))*COS(RADIANS(G$11)) + $A$6*SIN(RADIANS($A28))*SIN(RADIANS(G$11)) - ($B$2 + $B$3*(COS(RADIANS($A28))) + $B$4*SIN(RADIANS($A28)) + $B$5*SIN(RADIANS($A28))*COS(RADIANS(G$11)) + $B$6*SIN(RADIANS($A28))*SIN(RADIANS(G$11))) -> 0.30479203 | H28: =$A$2 + $A$3*(COS(RADIANS($A28))) + $A$4*SIN(RADIANS($A28)) + $A$5*SIN(RADIANS($A28))*COS(RADIANS(H$11)) + $A$6*SIN(RADIANS($A28))*SIN(RADIANS(H$11)) - ($B$2 + $B$3*(COS(RADIANS($A28))) + $B$4*SIN(RADIANS($A28)) + $B$5*SIN(RADIANS($A28))*COS(RADIANS(H$11)) + $B$6*SIN(RADIANS($A28))*SIN(RADIANS(H$11))) -> 0.30479203 | I28: =$A$2 + $A$3*(COS(RADIANS($A28))) + $A$4*SIN(RADIANS($A28)) + $A$5*SIN(RADIANS($A28))*COS(RADIANS(I$11)) + $A$6*SIN(RADIANS($A28))*SIN(RADIANS(I$11)) - ($B$2 + $B$3*(COS(RADIANS($A28))) + $B$4*SIN(RADIANS($A28)) + $B$5*SIN(RADIANS($A28))*COS(RADIANS(I$11)) + $B$6*SIN(RADIANS($A28))*SIN(RADIANS(I$11))) -> 0.30479203 | ... Z28: =$A$2 + $A$3*(COS(RADIANS($A28))) + $A$4*SIN(RADIANS($A28)) + $A$5*SIN(RADIANS($A28))*COS(RADIANS(Z$11)) + $A$6*SIN(RADIANS($A28))*SIN(RADIANS(Z$11)) - ($B$2 + $B$3*(COS(RADIANS($A28))) + $B$4*SIN(RADIANS($A28)) + $B$5*SIN(RADIANS($A28))*COS(RADIANS(Z$11)) + $B$6*SIN(RADIANS($A28))*SIN(RADIANS(Z$11))) -> 0.30479203
A30: El corrections (old-new)
A32: Az/El | B32: 0 | C32: 15 | D32: 30 | E32: 45 | F32: 60 | G32: 75 | H32: 90 | I32: 105 | J32: 120 | K32: 135 | L32: 150 | M32: 165 | N32: 180 | O32: 195 | P32: 210 | Q32: 225 | R32: 240 | S32: 255 | T32: 270 | U32: 285 | V32: 300 | W32: 315 | X32: 330 | Y32: 345 | Z32: 360
A33: 5 | B33: =$A$5*(-SIN(RADIANS(B$32))) + $A$6*COS(RADIANS(B$32)) + $A$7+ $A$8*COS(RADIANS($A33)) + $A$9*(1/TAN(RADIANS($A33)))- ($B$5*(-SIN(RADIANS(B$32))) + $B$6*COS(RADIANS(B$32)) + $B$7+ $B$8*COS(RADIANS($A33)) + $B$9*(1/TAN(RADIANS($A33)))) -> -0.0015803154 | C33: =$A$5*(-SIN(RADIANS(C$32))) + $A$6*COS(RADIANS(C$32)) + $A$7+ $A$8*COS(RADIANS($A33)) + $A$9*(1/TAN(RADIANS($A33)))- ($B$5*(-SIN(RADIANS(C$32))) + $B$6*COS(RADIANS(C$32)) + $B$7+ $B$8*COS(RADIANS($A33)) + $B$9*(1/TAN(RADIANS($A33)))) -> -0.0015803154 | D33: =$A$5*(-SIN(RADIANS(D$32))) + $A$6*COS(RADIANS(D$32)) + $A$7+ $A$8*COS(RADIANS($A33)) + $A$9*(1/TAN(RADIANS($A33)))- ($B$5*(-SIN(RADIANS(D$32))) + $B$6*COS(RADIANS(D$32)) + $B$7+ $B$8*COS(RADIANS($A33)) + $B$9*(1/TAN(RADIANS($A33)))) -> -0.0015803154 | E33: =$A$5*(-SIN(RADIANS(E$32))) + $A$6*COS(RADIANS(E$32)) + $A$7+ $A$8*COS(RADIANS($A33)) + $A$9*(1/TAN(RADIANS($A33)))- ($B$5*(-SIN(RADIANS(E$32))) + $B$6*COS(RADIANS(E$32)) + $B$7+ $B$8*COS(RADIANS($A33)) + $B$9*(1/TAN(RADIANS($A33)))) -> -0.0015803154 | F33: =$A$5*(-SIN(RADIANS(F$32))) + $A$6*COS(RADIANS(F$32)) + $A$7+ $A$8*COS(RADIANS($A33)) + $A$9*(1/TAN(RADIANS($A33)))- ($B$5*(-SIN(RADIANS(F$32))) + $B$6*COS(RADIANS(F$32)) + $B$7+ $B$8*COS(RADIANS($A33)) + $B$9*(1/TAN(RADIANS($A33)))) -> -0.0015803154 | G33: =$A$5*(-SIN(RADIANS(G$32))) + $A$6*COS(RADIANS(G$32)) + $A$7+ $A$8*COS(RADIANS($A33)) + $A$9*(1/TAN(RADIANS($A33)))- ($B$5*(-SIN(RADIANS(G$32))) + $B$6*COS(RADIANS(G$32)) + $B$7+ $B$8*COS(RADIANS($A33)) + $B$9*(1/TAN(RADIANS($A33)))) -> -0.0015803154 | H33: =$A$5*(-SIN(RADIANS(H$32))) + $A$6*COS(RADIANS(H$32)) + $A$7+ $A$8*COS(RADIANS($A33)) + $A$9*(1/TAN(RADIANS($A33)))- ($B$5*(-SIN(RADIANS(H$32))) + $B$6*COS(RADIANS(H$32)) + $B$7+ $B$8*COS(RADIANS($A33)) + $B$9*(1/TAN(RADIANS($A33)))) -> -0.0015803154 | I33: =$A$5*(-SIN(RADIANS(I$32))) + $A$6*COS(RADIANS(I$32)) + $A$7+ $A$8*COS(RADIANS($A33)) + $A$9*(1/TAN(RADIANS($A33)))- ($B$5*(-SIN(RADIANS(I$32))) + $B$6*COS(RADIANS(I$32)) + $B$7+ $B$8*COS(RADIANS($A33)) + $B$9*(1/TAN(RADIANS($A33)))) -> -0.0015803154 | ... Z33: =$A$5*(-SIN(RADIANS(Z$32))) + $A$6*COS(RADIANS(Z$32)) + $A$7+ $A$8*COS(RADIANS($A33)) + $A$9*(1/TAN(RADIANS($A33)))- ($B$5*(-SIN(RADIANS(Z$32))) + $B$6*COS(RADIANS(Z$32)) + $B$7+ $B$8*COS(RADIANS($A33)) + $B$9*(1/TAN(RADIANS($A33)))) -> -0.0015803154
A34: 10 | B34: =$A$5*(-SIN(RADIANS(B$32))) + $A$6*COS(RADIANS(B$32)) + $A$7+ $A$8*COS(RADIANS($A34)) + $A$9*(1/TAN(RADIANS($A34)))- ($B$5*(-SIN(RADIANS(B$32))) + $B$6*COS(RADIANS(B$32)) + $B$7+ $B$8*COS(RADIANS($A34)) + $B$9*(1/TAN(RADIANS($A34)))) -> 0.04088669 | C34: =$A$5*(-SIN(RADIANS(C$32))) + $A$6*COS(RADIANS(C$32)) + $A$7+ $A$8*COS(RADIANS($A34)) + $A$9*(1/TAN(RADIANS($A34)))- ($B$5*(-SIN(RADIANS(C$32))) + $B$6*COS(RADIANS(C$32)) + $B$7+ $B$8*COS(RADIANS($A34)) + $B$9*(1/TAN(RADIANS($A34)))) -> 0.04088669 | D34: =$A$5*(-SIN(RADIANS(D$32))) + $A$6*COS(RADIANS(D$32)) + $A$7+ $A$8*COS(RADIANS($A34)) + $A$9*(1/TAN(RADIANS($A34)))- ($B$5*(-SIN(RADIANS(D$32))) + $B$6*COS(RADIANS(D$32)) + $B$7+ $B$8*COS(RADIANS($A34)) + $B$9*(1/TAN(RADIANS($A34)))) -> 0.04088669 | E34: =$A$5*(-SIN(RADIANS(E$32))) + $A$6*COS(RADIANS(E$32)) + $A$7+ $A$8*COS(RADIANS($A34)) + $A$9*(1/TAN(RADIANS($A34)))- ($B$5*(-SIN(RADIANS(E$32))) + $B$6*COS(RADIANS(E$32)) + $B$7+ $B$8*COS(RADIANS($A34)) + $B$9*(1/TAN(RADIANS($A34)))) -> 0.04088669 | F34: =$A$5*(-SIN(RADIANS(F$32))) + $A$6*COS(RADIANS(F$32)) + $A$7+ $A$8*COS(RADIANS($A34)) + $A$9*(1/TAN(RADIANS($A34)))- ($B$5*(-SIN(RADIANS(F$32))) + $B$6*COS(RADIANS(F$32)) + $B$7+ $B$8*COS(RADIANS($A34)) + $B$9*(1/TAN(RADIANS($A34)))) -> 0.04088669 | G34: =$A$5*(-SIN(RADIANS(G$32))) + $A$6*COS(RADIANS(G$32)) + $A$7+ $A$8*COS(RADIANS($A34)) + $A$9*(1/TAN(RADIANS($A34)))- ($B$5*(-SIN(RADIANS(G$32))) + $B$6*COS(RADIANS(G$32)) + $B$7+ $B$8*COS(RADIANS($A34)) + $B$9*(1/TAN(RADIANS($A34)))) -> 0.04088669 | H34: =$A$5*(-SIN(RADIANS(H$32))) + $A$6*COS(RADIANS(H$32)) + $A$7+ $A$8*COS(RADIANS($A34)) + $A$9*(1/TAN(RADIANS($A34)))- ($B$5*(-SIN(RADIANS(H$32))) + $B$6*COS(RADIANS(H$32)) + $B$7+ $B$8*COS(RADIANS($A34)) + $B$9*(1/TAN(RADIANS($A34)))) -> 0.04088669 | I34: =$A$5*(-SIN(RADIANS(I$32))) + $A$6*COS(RADIANS(I$32)) + $A$7+ $A$8*COS(RADIANS($A34)) + $A$9*(1/TAN(RADIANS($A34)))- ($B$5*(-SIN(RADIANS(I$32))) + $B$6*COS(RADIANS(I$32)) + $B$7+ $B$8*COS(RADIANS($A34)) + $B$9*(1/TAN(RADIANS($A34)))) -> 0.04088669 | ... Z34: =$A$5*(-SIN(RADIANS(Z$32))) + $A$6*COS(RADIANS(Z$32)) + $A$7+ $A$8*COS(RADIANS($A34)) + $A$9*(1/TAN(RADIANS($A34)))- ($B$5*(-SIN(RADIANS(Z$32))) + $B$6*COS(RADIANS(Z$32)) + $B$7+ $B$8*COS(RADIANS($A34)) + $B$9*(1/TAN(RADIANS($A34)))) -> 0.04088669
A35: 15 | B35: =$A$5*(-SIN(RADIANS(B$32))) + $A$6*COS(RADIANS(B$32)) + $A$7+ $A$8*COS(RADIANS($A35)) + $A$9*(1/TAN(RADIANS($A35)))- ($B$5*(-SIN(RADIANS(B$32))) + $B$6*COS(RADIANS(B$32)) + $B$7+ $B$8*COS(RADIANS($A35)) + $B$9*(1/TAN(RADIANS($A35)))) -> 0.054921231 | C35: =$A$5*(-SIN(RADIANS(C$32))) + $A$6*COS(RADIANS(C$32)) + $A$7+ $A$8*COS(RADIANS($A35)) + $A$9*(1/TAN(RADIANS($A35)))- ($B$5*(-SIN(RADIANS(C$32))) + $B$6*COS(RADIANS(C$32)) + $B$7+ $B$8*COS(RADIANS($A35)) + $B$9*(1/TAN(RADIANS($A35)))) -> 0.054921231 | D35: =$A$5*(-SIN(RADIANS(D$32))) + $A$6*COS(RADIANS(D$32)) + $A$7+ $A$8*COS(RADIANS($A35)) + $A$9*(1/TAN(RADIANS($A35)))- ($B$5*(-SIN(RADIANS(D$32))) + $B$6*COS(RADIANS(D$32)) + $B$7+ $B$8*COS(RADIANS($A35)) + $B$9*(1/TAN(RADIANS($A35)))) -> 0.054921231 | E35: =$A$5*(-SIN(RADIANS(E$32))) + $A$6*COS(RADIANS(E$32)) + $A$7+ $A$8*COS(RADIANS($A35)) + $A$9*(1/TAN(RADIANS($A35)))- ($B$5*(-SIN(RADIANS(E$32))) + $B$6*COS(RADIANS(E$32)) + $B$7+ $B$8*COS(RADIANS($A35)) + $B$9*(1/TAN(RADIANS($A35)))) -> 0.054921231 | F35: =$A$5*(-SIN(RADIANS(F$32))) + $A$6*COS(RADIANS(F$32)) + $A$7+ $A$8*COS(RADIANS($A35)) + $A$9*(1/TAN(RADIANS($A35)))- ($B$5*(-SIN(RADIANS(F$32))) + $B$6*COS(RADIANS(F$32)) + $B$7+ $B$8*COS(RADIANS($A35)) + $B$9*(1/TAN(RADIANS($A35)))) -> 0.054921231 | G35: =$A$5*(-SIN(RADIANS(G$32))) + $A$6*COS(RADIANS(G$32)) + $A$7+ $A$8*COS(RADIANS($A35)) + $A$9*(1/TAN(RADIANS($A35)))- ($B$5*(-SIN(RADIANS(G$32))) + $B$6*COS(RADIANS(G$32)) + $B$7+ $B$8*COS(RADIANS($A35)) + $B$9*(1/TAN(RADIANS($A35)))) -> 0.054921231 | H35: =$A$5*(-SIN(RADIANS(H$32))) + $A$6*COS(RADIANS(H$32)) + $A$7+ $A$8*COS(RADIANS($A35)) + $A$9*(1/TAN(RADIANS($A35)))- ($B$5*(-SIN(RADIANS(H$32))) + $B$6*COS(RADIANS(H$32)) + $B$7+ $B$8*COS(RADIANS($A35)) + $B$9*(1/TAN(RADIANS($A35)))) -> 0.054921231 | I35: =$A$5*(-SIN(RADIANS(I$32))) + $A$6*COS(RADIANS(I$32)) + $A$7+ $A$8*COS(RADIANS($A35)) + $A$9*(1/TAN(RADIANS($A35)))- ($B$5*(-SIN(RADIANS(I$32))) + $B$6*COS(RADIANS(I$32)) + $B$7+ $B$8*COS(RADIANS($A35)) + $B$9*(1/TAN(RADIANS($A35)))) -> 0.054921231 | ... Z35: =$A$5*(-SIN(RADIANS(Z$32))) + $A$6*COS(RADIANS(Z$32)) + $A$7+ $A$8*COS(RADIANS($A35)) + $A$9*(1/TAN(RADIANS($A35)))- ($B$5*(-SIN(RADIANS(Z$32))) + $B$6*COS(RADIANS(Z$32)) + $B$7+ $B$8*COS(RADIANS($A35)) + $B$9*(1/TAN(RADIANS($A35)))) -> 0.054921231
A36: 20 | B36: =$A$5*(-SIN(RADIANS(B$32))) + $A$6*COS(RADIANS(B$32)) + $A$7+ $A$8*COS(RADIANS($A36)) + $A$9*(1/TAN(RADIANS($A36)))- ($B$5*(-SIN(RADIANS(B$32))) + $B$6*COS(RADIANS(B$32)) + $B$7+ $B$8*COS(RADIANS($A36)) + $B$9*(1/TAN(RADIANS($A36)))) -> 0.061752524 | C36: =$A$5*(-SIN(RADIANS(C$32))) + $A$6*COS(RADIANS(C$32)) + $A$7+ $A$8*COS(RADIANS($A36)) + $A$9*(1/TAN(RADIANS($A36)))- ($B$5*(-SIN(RADIANS(C$32))) + $B$6*COS(RADIANS(C$32)) + $B$7+ $B$8*COS(RADIANS($A36)) + $B$9*(1/TAN(RADIANS($A36)))) -> 0.061752524 | D36: =$A$5*(-SIN(RADIANS(D$32))) + $A$6*COS(RADIANS(D$32)) + $A$7+ $A$8*COS(RADIANS($A36)) + $A$9*(1/TAN(RADIANS($A36)))- ($B$5*(-SIN(RADIANS(D$32))) + $B$6*COS(RADIANS(D$32)) + $B$7+ $B$8*COS(RADIANS($A36)) + $B$9*(1/TAN(RADIANS($A36)))) -> 0.061752524 | E36: =$A$5*(-SIN(RADIANS(E$32))) + $A$6*COS(RADIANS(E$32)) + $A$7+ $A$8*COS(RADIANS($A36)) + $A$9*(1/TAN(RADIANS($A36)))- ($B$5*(-SIN(RADIANS(E$32))) + $B$6*COS(RADIANS(E$32)) + $B$7+ $B$8*COS(RADIANS($A36)) + $B$9*(1/TAN(RADIANS($A36)))) -> 0.061752524 | F36: =$A$5*(-SIN(RADIANS(F$32))) + $A$6*COS(RADIANS(F$32)) + $A$7+ $A$8*COS(RADIANS($A36)) + $A$9*(1/TAN(RADIANS($A36)))- ($B$5*(-SIN(RADIANS(F$32))) + $B$6*COS(RADIANS(F$32)) + $B$7+ $B$8*COS(RADIANS($A36)) + $B$9*(1/TAN(RADIANS($A36)))) -> 0.061752524 | G36: =$A$5*(-SIN(RADIANS(G$32))) + $A$6*COS(RADIANS(G$32)) + $A$7+ $A$8*COS(RADIANS($A36)) + $A$9*(1/TAN(RADIANS($A36)))- ($B$5*(-SIN(RADIANS(G$32))) + $B$6*COS(RADIANS(G$32)) + $B$7+ $B$8*COS(RADIANS($A36)) + $B$9*(1/TAN(RADIANS($A36)))) -> 0.061752524 | H36: =$A$5*(-SIN(RADIANS(H$32))) + $A$6*COS(RADIANS(H$32)) + $A$7+ $A$8*COS(RADIANS($A36)) + $A$9*(1/TAN(RADIANS($A36)))- ($B$5*(-SIN(RADIANS(H$32))) + $B$6*COS(RADIANS(H$32)) + $B$7+ $B$8*COS(RADIANS($A36)) + $B$9*(1/TAN(RADIANS($A36)))) -> 0.061752524 | I36: =$A$5*(-SIN(RADIANS(I$32))) + $A$6*COS(RADIANS(I$32)) + $A$7+ $A$8*COS(RADIANS($A36)) + $A$9*(1/TAN(RADIANS($A36)))- ($B$5*(-SIN(RADIANS(I$32))) + $B$6*COS(RADIANS(I$32)) + $B$7+ $B$8*COS(RADIANS($A36)) + $B$9*(1/TAN(RADIANS($A36)))) -> 0.061752524 | ... Z36: =$A$5*(-SIN(RADIANS(Z$32))) + $A$6*COS(RADIANS(Z$32)) + $A$7+ $A$8*COS(RADIANS($A36)) + $A$9*(1/TAN(RADIANS($A36)))- ($B$5*(-SIN(RADIANS(Z$32))) + $B$6*COS(RADIANS(Z$32)) + $B$7+ $B$8*COS(RADIANS($A36)) + $B$9*(1/TAN(RADIANS($A36)))) -> 0.061752524
A37: 25 | B37: =$A$5*(-SIN(RADIANS(B$32))) + $A$6*COS(RADIANS(B$32)) + $A$7+ $A$8*COS(RADIANS($A37)) + $A$9*(1/TAN(RADIANS($A37)))- ($B$5*(-SIN(RADIANS(B$32))) + $B$6*COS(RADIANS(B$32)) + $B$7+ $B$8*COS(RADIANS($A37)) + $B$9*(1/TAN(RADIANS($A37)))) -> 0.065630013 | C37: =$A$5*(-SIN(RADIANS(C$32))) + $A$6*COS(RADIANS(C$32)) + $A$7+ $A$8*COS(RADIANS($A37)) + $A$9*(1/TAN(RADIANS($A37)))- ($B$5*(-SIN(RADIANS(C$32))) + $B$6*COS(RADIANS(C$32)) + $B$7+ $B$8*COS(RADIANS($A37)) + $B$9*(1/TAN(RADIANS($A37)))) -> 0.065630013 | D37: =$A$5*(-SIN(RADIANS(D$32))) + $A$6*COS(RADIANS(D$32)) + $A$7+ $A$8*COS(RADIANS($A37)) + $A$9*(1/TAN(RADIANS($A37)))- ($B$5*(-SIN(RADIANS(D$32))) + $B$6*COS(RADIANS(D$32)) + $B$7+ $B$8*COS(RADIANS($A37)) + $B$9*(1/TAN(RADIANS($A37)))) -> 0.065630013 | E37: =$A$5*(-SIN(RADIANS(E$32))) + $A$6*COS(RADIANS(E$32)) + $A$7+ $A$8*COS(RADIANS($A37)) + $A$9*(1/TAN(RADIANS($A37)))- ($B$5*(-SIN(RADIANS(E$32))) + $B$6*COS(RADIANS(E$32)) + $B$7+ $B$8*COS(RADIANS($A37)) + $B$9*(1/TAN(RADIANS($A37)))) -> 0.065630013 | F37: =$A$5*(-SIN(RADIANS(F$32))) + $A$6*COS(RADIANS(F$32)) + $A$7+ $A$8*COS(RADIANS($A37)) + $A$9*(1/TAN(RADIANS($A37)))- ($B$5*(-SIN(RADIANS(F$32))) + $B$6*COS(RADIANS(F$32)) + $B$7+ $B$8*COS(RADIANS($A37)) + $B$9*(1/TAN(RADIANS($A37)))) -> 0.065630013 | G37: =$A$5*(-SIN(RADIANS(G$32))) + $A$6*COS(RADIANS(G$32)) + $A$7+ $A$8*COS(RADIANS($A37)) + $A$9*(1/TAN(RADIANS($A37)))- ($B$5*(-SIN(RADIANS(G$32))) + $B$6*COS(RADIANS(G$32)) + $B$7+ $B$8*COS(RADIANS($A37)) + $B$9*(1/TAN(RADIANS($A37)))) -> 0.065630013 | H37: =$A$5*(-SIN(RADIANS(H$32))) + $A$6*COS(RADIANS(H$32)) + $A$7+ $A$8*COS(RADIANS($A37)) + $A$9*(1/TAN(RADIANS($A37)))- ($B$5*(-SIN(RADIANS(H$32))) + $B$6*COS(RADIANS(H$32)) + $B$7+ $B$8*COS(RADIANS($A37)) + $B$9*(1/TAN(RADIANS($A37)))) -> 0.065630013 | I37: =$A$5*(-SIN(RADIANS(I$32))) + $A$6*COS(RADIANS(I$32)) + $A$7+ $A$8*COS(RADIANS($A37)) + $A$9*(1/TAN(RADIANS($A37)))- ($B$5*(-SIN(RADIANS(I$32))) + $B$6*COS(RADIANS(I$32)) + $B$7+ $B$8*COS(RADIANS($A37)) + $B$9*(1/TAN(RADIANS($A37)))) -> 0.065630013 | ... Z37: =$A$5*(-SIN(RADIANS(Z$32))) + $A$6*COS(RADIANS(Z$32)) + $A$7+ $A$8*COS(RADIANS($A37)) + $A$9*(1/TAN(RADIANS($A37)))- ($B$5*(-SIN(RADIANS(Z$32))) + $B$6*COS(RADIANS(Z$32)) + $B$7+ $B$8*COS(RADIANS($A37)) + $B$9*(1/TAN(RADIANS($A37)))) -> 0.065630013
A38: 30 | B38: =$A$5*(-SIN(RADIANS(B$32))) + $A$6*COS(RADIANS(B$32)) + $A$7+ $A$8*COS(RADIANS($A38)) + $A$9*(1/TAN(RADIANS($A38)))- ($B$5*(-SIN(RADIANS(B$32))) + $B$6*COS(RADIANS(B$32)) + $B$7+ $B$8*COS(RADIANS($A38)) + $B$9*(1/TAN(RADIANS($A38)))) -> 0.067974015 | C38: =$A$5*(-SIN(RADIANS(C$32))) + $A$6*COS(RADIANS(C$32)) + $A$7+ $A$8*COS(RADIANS($A38)) + $A$9*(1/TAN(RADIANS($A38)))- ($B$5*(-SIN(RADIANS(C$32))) + $B$6*COS(RADIANS(C$32)) + $B$7+ $B$8*COS(RADIANS($A38)) + $B$9*(1/TAN(RADIANS($A38)))) -> 0.067974015 | D38: =$A$5*(-SIN(RADIANS(D$32))) + $A$6*COS(RADIANS(D$32)) + $A$7+ $A$8*COS(RADIANS($A38)) + $A$9*(1/TAN(RADIANS($A38)))- ($B$5*(-SIN(RADIANS(D$32))) + $B$6*COS(RADIANS(D$32)) + $B$7+ $B$8*COS(RADIANS($A38)) + $B$9*(1/TAN(RADIANS($A38)))) -> 0.067974015 | E38: =$A$5*(-SIN(RADIANS(E$32))) + $A$6*COS(RADIANS(E$32)) + $A$7+ $A$8*COS(RADIANS($A38)) + $A$9*(1/TAN(RADIANS($A38)))- ($B$5*(-SIN(RADIANS(E$32))) + $B$6*COS(RADIANS(E$32)) + $B$7+ $B$8*COS(RADIANS($A38)) + $B$9*(1/TAN(RADIANS($A38)))) -> 0.067974015 | F38: =$A$5*(-SIN(RADIANS(F$32))) + $A$6*COS(RADIANS(F$32)) + $A$7+ $A$8*COS(RADIANS($A38)) + $A$9*(1/TAN(RADIANS($A38)))- ($B$5*(-SIN(RADIANS(F$32))) + $B$6*COS(RADIANS(F$32)) + $B$7+ $B$8*COS(RADIANS($A38)) + $B$9*(1/TAN(RADIANS($A38)))) -> 0.067974015 | G38: =$A$5*(-SIN(RADIANS(G$32))) + $A$6*COS(RADIANS(G$32)) + $A$7+ $A$8*COS(RADIANS($A38)) + $A$9*(1/TAN(RADIANS($A38)))- ($B$5*(-SIN(RADIANS(G$32))) + $B$6*COS(RADIANS(G$32)) + $B$7+ $B$8*COS(RADIANS($A38)) + $B$9*(1/TAN(RADIANS($A38)))) -> 0.067974015 | H38: =$A$5*(-SIN(RADIANS(H$32))) + $A$6*COS(RADIANS(H$32)) + $A$7+ $A$8*COS(RADIANS($A38)) + $A$9*(1/TAN(RADIANS($A38)))- ($B$5*(-SIN(RADIANS(H$32))) + $B$6*COS(RADIANS(H$32)) + $B$7+ $B$8*COS(RADIANS($A38)) + $B$9*(1/TAN(RADIANS($A38)))) -> 0.067974015 | I38: =$A$5*(-SIN(RADIANS(I$32))) + $A$6*COS(RADIANS(I$32)) + $A$7+ $A$8*COS(RADIANS($A38)) + $A$9*(1/TAN(RADIANS($A38)))- ($B$5*(-SIN(RADIANS(I$32))) + $B$6*COS(RADIANS(I$32)) + $B$7+ $B$8*COS(RADIANS($A38)) + $B$9*(1/TAN(RADIANS($A38)))) -> 0.067974015 | ... Z38: =$A$5*(-SIN(RADIANS(Z$32))) + $A$6*COS(RADIANS(Z$32)) + $A$7+ $A$8*COS(RADIANS($A38)) + $A$9*(1/TAN(RADIANS($A38)))- ($B$5*(-SIN(RADIANS(Z$32))) + $B$6*COS(RADIANS(Z$32)) + $B$7+ $B$8*COS(RADIANS($A38)) + $B$9*(1/TAN(RADIANS($A38)))) -> 0.067974015
A39: 35 | B39: =$A$5*(-SIN(RADIANS(B$32))) + $A$6*COS(RADIANS(B$32)) + $A$7+ $A$8*COS(RADIANS($A39)) + $A$9*(1/TAN(RADIANS($A39)))- ($B$5*(-SIN(RADIANS(B$32))) + $B$6*COS(RADIANS(B$32)) + $B$7+ $B$8*COS(RADIANS($A39)) + $B$9*(1/TAN(RADIANS($A39)))) -> 0.069397221 | C39: =$A$5*(-SIN(RADIANS(C$32))) + $A$6*COS(RADIANS(C$32)) + $A$7+ $A$8*COS(RADIANS($A39)) + $A$9*(1/TAN(RADIANS($A39)))- ($B$5*(-SIN(RADIANS(C$32))) + $B$6*COS(RADIANS(C$32)) + $B$7+ $B$8*COS(RADIANS($A39)) + $B$9*(1/TAN(RADIANS($A39)))) -> 0.069397221 | D39: =$A$5*(-SIN(RADIANS(D$32))) + $A$6*COS(RADIANS(D$32)) + $A$7+ $A$8*COS(RADIANS($A39)) + $A$9*(1/TAN(RADIANS($A39)))- ($B$5*(-SIN(RADIANS(D$32))) + $B$6*COS(RADIANS(D$32)) + $B$7+ $B$8*COS(RADIANS($A39)) + $B$9*(1/TAN(RADIANS($A39)))) -> 0.069397221 | E39: =$A$5*(-SIN(RADIANS(E$32))) + $A$6*COS(RADIANS(E$32)) + $A$7+ $A$8*COS(RADIANS($A39)) + $A$9*(1/TAN(RADIANS($A39)))- ($B$5*(-SIN(RADIANS(E$32))) + $B$6*COS(RADIANS(E$32)) + $B$7+ $B$8*COS(RADIANS($A39)) + $B$9*(1/TAN(RADIANS($A39)))) -> 0.069397221 | F39: =$A$5*(-SIN(RADIANS(F$32))) + $A$6*COS(RADIANS(F$32)) + $A$7+ $A$8*COS(RADIANS($A39)) + $A$9*(1/TAN(RADIANS($A39)))- ($B$5*(-SIN(RADIANS(F$32))) + $B$6*COS(RADIANS(F$32)) + $B$7+ $B$8*COS(RADIANS($A39)) + $B$9*(1/TAN(RADIANS($A39)))) -> 0.069397221 | G39: =$A$5*(-SIN(RADIANS(G$32))) + $A$6*COS(RADIANS(G$32)) + $A$7+ $A$8*COS(RADIANS($A39)) + $A$9*(1/TAN(RADIANS($A39)))- ($B$5*(-SIN(RADIANS(G$32))) + $B$6*COS(RADIANS(G$32)) + $B$7+ $B$8*COS(RADIANS($A39)) + $B$9*(1/TAN(RADIANS($A39)))) -> 0.069397221 | H39: =$A$5*(-SIN(RADIANS(H$32))) + $A$6*COS(RADIANS(H$32)) + $A$7+ $A$8*COS(RADIANS($A39)) + $A$9*(1/TAN(RADIANS($A39)))- ($B$5*(-SIN(RADIANS(H$32))) + $B$6*COS(RADIANS(H$32)) + $B$7+ $B$8*COS(RADIANS($A39)) + $B$9*(1/TAN(RADIANS($A39)))) -> 0.069397221 | I39: =$A$5*(-SIN(RADIANS(I$32))) + $A$6*COS(RADIANS(I$32)) + $A$7+ $A$8*COS(RADIANS($A39)) + $A$9*(1/TAN(RADIANS($A39)))- ($B$5*(-SIN(RADIANS(I$32))) + $B$6*COS(RADIANS(I$32)) + $B$7+ $B$8*COS(RADIANS($A39)) + $B$9*(1/TAN(RADIANS($A39)))) -> 0.069397221 | ... Z39: =$A$5*(-SIN(RADIANS(Z$32))) + $A$6*COS(RADIANS(Z$32)) + $A$7+ $A$8*COS(RADIANS($A39)) + $A$9*(1/TAN(RADIANS($A39)))- ($B$5*(-SIN(RADIANS(Z$32))) + $B$6*COS(RADIANS(Z$32)) + $B$7+ $B$8*COS(RADIANS($A39)) + $B$9*(1/TAN(RADIANS($A39)))) -> 0.069397221
A40: 40 | B40: =$A$5*(-SIN(RADIANS(B$32))) + $A$6*COS(RADIANS(B$32)) + $A$7+ $A$8*COS(RADIANS($A40)) + $A$9*(1/TAN(RADIANS($A40)))- ($B$5*(-SIN(RADIANS(B$32))) + $B$6*COS(RADIANS(B$32)) + $B$7+ $B$8*COS(RADIANS($A40)) + $B$9*(1/TAN(RADIANS($A40)))) -> 0.070210048 | C40: =$A$5*(-SIN(RADIANS(C$32))) + $A$6*COS(RADIANS(C$32)) + $A$7+ $A$8*COS(RADIANS($A40)) + $A$9*(1/TAN(RADIANS($A40)))- ($B$5*(-SIN(RADIANS(C$32))) + $B$6*COS(RADIANS(C$32)) + $B$7+ $B$8*COS(RADIANS($A40)) + $B$9*(1/TAN(RADIANS($A40)))) -> 0.070210048 | D40: =$A$5*(-SIN(RADIANS(D$32))) + $A$6*COS(RADIANS(D$32)) + $A$7+ $A$8*COS(RADIANS($A40)) + $A$9*(1/TAN(RADIANS($A40)))- ($B$5*(-SIN(RADIANS(D$32))) + $B$6*COS(RADIANS(D$32)) + $B$7+ $B$8*COS(RADIANS($A40)) + $B$9*(1/TAN(RADIANS($A40)))) -> 0.070210048 | E40: =$A$5*(-SIN(RADIANS(E$32))) + $A$6*COS(RADIANS(E$32)) + $A$7+ $A$8*COS(RADIANS($A40)) + $A$9*(1/TAN(RADIANS($A40)))- ($B$5*(-SIN(RADIANS(E$32))) + $B$6*COS(RADIANS(E$32)) + $B$7+ $B$8*COS(RADIANS($A40)) + $B$9*(1/TAN(RADIANS($A40)))) -> 0.070210048 | F40: =$A$5*(-SIN(RADIANS(F$32))) + $A$6*COS(RADIANS(F$32)) + $A$7+ $A$8*COS(RADIANS($A40)) + $A$9*(1/TAN(RADIANS($A40)))- ($B$5*(-SIN(RADIANS(F$32))) + $B$6*COS(RADIANS(F$32)) + $B$7+ $B$8*COS(RADIANS($A40)) + $B$9*(1/TAN(RADIANS($A40)))) -> 0.070210048 | G40: =$A$5*(-SIN(RADIANS(G$32))) + $A$6*COS(RADIANS(G$32)) + $A$7+ $A$8*COS(RADIANS($A40)) + $A$9*(1/TAN(RADIANS($A40)))- ($B$5*(-SIN(RADIANS(G$32))) + $B$6*COS(RADIANS(G$32)) + $B$7+ $B$8*COS(RADIANS($A40)) + $B$9*(1/TAN(RADIANS($A40)))) -> 0.070210048 | H40: =$A$5*(-SIN(RADIANS(H$32))) + $A$6*COS(RADIANS(H$32)) + $A$7+ $A$8*COS(RADIANS($A40)) + $A$9*(1/TAN(RADIANS($A40)))- ($B$5*(-SIN(RADIANS(H$32))) + $B$6*COS(RADIANS(H$32)) + $B$7+ $B$8*COS(RADIANS($A40)) + $B$9*(1/TAN(RADIANS($A40)))) -> 0.070210048 | I40: =$A$5*(-SIN(RADIANS(I$32))) + $A$6*COS(RADIANS(I$32)) + $A$7+ $A$8*COS(RADIANS($A40)) + $A$9*(1/TAN(RADIANS($A40)))- ($B$5*(-SIN(RADIANS(I$32))) + $B$6*COS(RADIANS(I$32)) + $B$7+ $B$8*COS(RADIANS($A40)) + $B$9*(1/TAN(RADIANS($A40)))) -> 0.070210048 | ... Z40: =$A$5*(-SIN(RADIANS(Z$32))) + $A$6*COS(RADIANS(Z$32)) + $A$7+ $A$8*COS(RADIANS($A40)) + $A$9*(1/TAN(RADIANS($A40)))- ($B$5*(-SIN(RADIANS(Z$32))) + $B$6*COS(RADIANS(Z$32)) + $B$7+ $B$8*COS(RADIANS($A40)) + $B$9*(1/TAN(RADIANS($A40)))) -> 0.070210048
A41: 45 | B41: =$A$5*(-SIN(RADIANS(B$32))) + $A$6*COS(RADIANS(B$32)) + $A$7+ $A$8*COS(RADIANS($A41)) + $A$9*(1/TAN(RADIANS($A41)))- ($B$5*(-SIN(RADIANS(B$32))) + $B$6*COS(RADIANS(B$32)) + $B$7+ $B$8*COS(RADIANS($A41)) + $B$9*(1/TAN(RADIANS($A41)))) -> 0.070589072 | C41: =$A$5*(-SIN(RADIANS(C$32))) + $A$6*COS(RADIANS(C$32)) + $A$7+ $A$8*COS(RADIANS($A41)) + $A$9*(1/TAN(RADIANS($A41)))- ($B$5*(-SIN(RADIANS(C$32))) + $B$6*COS(RADIANS(C$32)) + $B$7+ $B$8*COS(RADIANS($A41)) + $B$9*(1/TAN(RADIANS($A41)))) -> 0.070589072 | D41: =$A$5*(-SIN(RADIANS(D$32))) + $A$6*COS(RADIANS(D$32)) + $A$7+ $A$8*COS(RADIANS($A41)) + $A$9*(1/TAN(RADIANS($A41)))- ($B$5*(-SIN(RADIANS(D$32))) + $B$6*COS(RADIANS(D$32)) + $B$7+ $B$8*COS(RADIANS($A41)) + $B$9*(1/TAN(RADIANS($A41)))) -> 0.070589072 | E41: =$A$5*(-SIN(RADIANS(E$32))) + $A$6*COS(RADIANS(E$32)) + $A$7+ $A$8*COS(RADIANS($A41)) + $A$9*(1/TAN(RADIANS($A41)))- ($B$5*(-SIN(RADIANS(E$32))) + $B$6*COS(RADIANS(E$32)) + $B$7+ $B$8*COS(RADIANS($A41)) + $B$9*(1/TAN(RADIANS($A41)))) -> 0.070589072 | F41: =$A$5*(-SIN(RADIANS(F$32))) + $A$6*COS(RADIANS(F$32)) + $A$7+ $A$8*COS(RADIANS($A41)) + $A$9*(1/TAN(RADIANS($A41)))- ($B$5*(-SIN(RADIANS(F$32))) + $B$6*COS(RADIANS(F$32)) + $B$7+ $B$8*COS(RADIANS($A41)) + $B$9*(1/TAN(RADIANS($A41)))) -> 0.070589072 | G41: =$A$5*(-SIN(RADIANS(G$32))) + $A$6*COS(RADIANS(G$32)) + $A$7+ $A$8*COS(RADIANS($A41)) + $A$9*(1/TAN(RADIANS($A41)))- ($B$5*(-SIN(RADIANS(G$32))) + $B$6*COS(RADIANS(G$32)) + $B$7+ $B$8*COS(RADIANS($A41)) + $B$9*(1/TAN(RADIANS($A41)))) -> 0.070589072 | H41: =$A$5*(-SIN(RADIANS(H$32))) + $A$6*COS(RADIANS(H$32)) + $A$7+ $A$8*COS(RADIANS($A41)) + $A$9*(1/TAN(RADIANS($A41)))- ($B$5*(-SIN(RADIANS(H$32))) + $B$6*COS(RADIANS(H$32)) + $B$7+ $B$8*COS(RADIANS($A41)) + $B$9*(1/TAN(RADIANS($A41)))) -> 0.070589072 | I41: =$A$5*(-SIN(RADIANS(I$32))) + $A$6*COS(RADIANS(I$32)) + $A$7+ $A$8*COS(RADIANS($A41)) + $A$9*(1/TAN(RADIANS($A41)))- ($B$5*(-SIN(RADIANS(I$32))) + $B$6*COS(RADIANS(I$32)) + $B$7+ $B$8*COS(RADIANS($A41)) + $B$9*(1/TAN(RADIANS($A41)))) -> 0.070589072 | ... Z41: =$A$5*(-SIN(RADIANS(Z$32))) + $A$6*COS(RADIANS(Z$32)) + $A$7+ $A$8*COS(RADIANS($A41)) + $A$9*(1/TAN(RADIANS($A41)))- ($B$5*(-SIN(RADIANS(Z$32))) + $B$6*COS(RADIANS(Z$32)) + $B$7+ $B$8*COS(RADIANS($A41)) + $B$9*(1/TAN(RADIANS($A41)))) -> 0.070589072
A42: 50 | B42: =$A$5*(-SIN(RADIANS(B$32))) + $A$6*COS(RADIANS(B$32)) + $A$7+ $A$8*COS(RADIANS($A42)) + $A$9*(1/TAN(RADIANS($A42)))- ($B$5*(-SIN(RADIANS(B$32))) + $B$6*COS(RADIANS(B$32)) + $B$7+ $B$8*COS(RADIANS($A42)) + $B$9*(1/TAN(RADIANS($A42)))) -> 0.070644377 | C42: =$A$5*(-SIN(RADIANS(C$32))) + $A$6*COS(RADIANS(C$32)) + $A$7+ $A$8*COS(RADIANS($A42)) + $A$9*(1/TAN(RADIANS($A42)))- ($B$5*(-SIN(RADIANS(C$32))) + $B$6*COS(RADIANS(C$32)) + $B$7+ $B$8*COS(RADIANS($A42)) + $B$9*(1/TAN(RADIANS($A42)))) -> 0.070644377 | D42: =$A$5*(-SIN(RADIANS(D$32))) + $A$6*COS(RADIANS(D$32)) + $A$7+ $A$8*COS(RADIANS($A42)) + $A$9*(1/TAN(RADIANS($A42)))- ($B$5*(-SIN(RADIANS(D$32))) + $B$6*COS(RADIANS(D$32)) + $B$7+ $B$8*COS(RADIANS($A42)) + $B$9*(1/TAN(RADIANS($A42)))) -> 0.070644377 | E42: =$A$5*(-SIN(RADIANS(E$32))) + $A$6*COS(RADIANS(E$32)) + $A$7+ $A$8*COS(RADIANS($A42)) + $A$9*(1/TAN(RADIANS($A42)))- ($B$5*(-SIN(RADIANS(E$32))) + $B$6*COS(RADIANS(E$32)) + $B$7+ $B$8*COS(RADIANS($A42)) + $B$9*(1/TAN(RADIANS($A42)))) -> 0.070644377 | F42: =$A$5*(-SIN(RADIANS(F$32))) + $A$6*COS(RADIANS(F$32)) + $A$7+ $A$8*COS(RADIANS($A42)) + $A$9*(1/TAN(RADIANS($A42)))- ($B$5*(-SIN(RADIANS(F$32))) + $B$6*COS(RADIANS(F$32)) + $B$7+ $B$8*COS(RADIANS($A42)) + $B$9*(1/TAN(RADIANS($A42)))) -> 0.070644377 | G42: =$A$5*(-SIN(RADIANS(G$32))) + $A$6*COS(RADIANS(G$32)) + $A$7+ $A$8*COS(RADIANS($A42)) + $A$9*(1/TAN(RADIANS($A42)))- ($B$5*(-SIN(RADIANS(G$32))) + $B$6*COS(RADIANS(G$32)) + $B$7+ $B$8*COS(RADIANS($A42)) + $B$9*(1/TAN(RADIANS($A42)))) -> 0.070644377 | H42: =$A$5*(-SIN(RADIANS(H$32))) + $A$6*COS(RADIANS(H$32)) + $A$7+ $A$8*COS(RADIANS($A42)) + $A$9*(1/TAN(RADIANS($A42)))- ($B$5*(-SIN(RADIANS(H$32))) + $B$6*COS(RADIANS(H$32)) + $B$7+ $B$8*COS(RADIANS($A42)) + $B$9*(1/TAN(RADIANS($A42)))) -> 0.070644377 | I42: =$A$5*(-SIN(RADIANS(I$32))) + $A$6*COS(RADIANS(I$32)) + $A$7+ $A$8*COS(RADIANS($A42)) + $A$9*(1/TAN(RADIANS($A42)))- ($B$5*(-SIN(RADIANS(I$32))) + $B$6*COS(RADIANS(I$32)) + $B$7+ $B$8*COS(RADIANS($A42)) + $B$9*(1/TAN(RADIANS($A42)))) -> 0.070644377 | ... Z42: =$A$5*(-SIN(RADIANS(Z$32))) + $A$6*COS(RADIANS(Z$32)) + $A$7+ $A$8*COS(RADIANS($A42)) + $A$9*(1/TAN(RADIANS($A42)))- ($B$5*(-SIN(RADIANS(Z$32))) + $B$6*COS(RADIANS(Z$32)) + $B$7+ $B$8*COS(RADIANS($A42)) + $B$9*(1/TAN(RADIANS($A42)))) -> 0.070644377
A43: 55 | B43: =$A$5*(-SIN(RADIANS(B$32))) + $A$6*COS(RADIANS(B$32)) + $A$7+ $A$8*COS(RADIANS($A43)) + $A$9*(1/TAN(RADIANS($A43)))- ($B$5*(-SIN(RADIANS(B$32))) + $B$6*COS(RADIANS(B$32)) + $B$7+ $B$8*COS(RADIANS($A43)) + $B$9*(1/TAN(RADIANS($A43)))) -> 0.070450151 | C43: =$A$5*(-SIN(RADIANS(C$32))) + $A$6*COS(RADIANS(C$32)) + $A$7+ $A$8*COS(RADIANS($A43)) + $A$9*(1/TAN(RADIANS($A43)))- ($B$5*(-SIN(RADIANS(C$32))) + $B$6*COS(RADIANS(C$32)) + $B$7+ $B$8*COS(RADIANS($A43)) + $B$9*(1/TAN(RADIANS($A43)))) -> 0.070450151 | D43: =$A$5*(-SIN(RADIANS(D$32))) + $A$6*COS(RADIANS(D$32)) + $A$7+ $A$8*COS(RADIANS($A43)) + $A$9*(1/TAN(RADIANS($A43)))- ($B$5*(-SIN(RADIANS(D$32))) + $B$6*COS(RADIANS(D$32)) + $B$7+ $B$8*COS(RADIANS($A43)) + $B$9*(1/TAN(RADIANS($A43)))) -> 0.070450151 | E43: =$A$5*(-SIN(RADIANS(E$32))) + $A$6*COS(RADIANS(E$32)) + $A$7+ $A$8*COS(RADIANS($A43)) + $A$9*(1/TAN(RADIANS($A43)))- ($B$5*(-SIN(RADIANS(E$32))) + $B$6*COS(RADIANS(E$32)) + $B$7+ $B$8*COS(RADIANS($A43)) + $B$9*(1/TAN(RADIANS($A43)))) -> 0.070450151 | F43: =$A$5*(-SIN(RADIANS(F$32))) + $A$6*COS(RADIANS(F$32)) + $A$7+ $A$8*COS(RADIANS($A43)) + $A$9*(1/TAN(RADIANS($A43)))- ($B$5*(-SIN(RADIANS(F$32))) + $B$6*COS(RADIANS(F$32)) + $B$7+ $B$8*COS(RADIANS($A43)) + $B$9*(1/TAN(RADIANS($A43)))) -> 0.070450151 | G43: =$A$5*(-SIN(RADIANS(G$32))) + $A$6*COS(RADIANS(G$32)) + $A$7+ $A$8*COS(RADIANS($A43)) + $A$9*(1/TAN(RADIANS($A43)))- ($B$5*(-SIN(RADIANS(G$32))) + $B$6*COS(RADIANS(G$32)) + $B$7+ $B$8*COS(RADIANS($A43)) + $B$9*(1/TAN(RADIANS($A43)))) -> 0.070450151 | H43: =$A$5*(-SIN(RADIANS(H$32))) + $A$6*COS(RADIANS(H$32)) + $A$7+ $A$8*COS(RADIANS($A43)) + $A$9*(1/TAN(RADIANS($A43)))- ($B$5*(-SIN(RADIANS(H$32))) + $B$6*COS(RADIANS(H$32)) + $B$7+ $B$8*COS(RADIANS($A43)) + $B$9*(1/TAN(RADIANS($A43)))) -> 0.070450151 | I43: =$A$5*(-SIN(RADIANS(I$32))) + $A$6*COS(RADIANS(I$32)) + $A$7+ $A$8*COS(RADIANS($A43)) + $A$9*(1/TAN(RADIANS($A43)))- ($B$5*(-SIN(RADIANS(I$32))) + $B$6*COS(RADIANS(I$32)) + $B$7+ $B$8*COS(RADIANS($A43)) + $B$9*(1/TAN(RADIANS($A43)))) -> 0.070450151 | ... Z43: =$A$5*(-SIN(RADIANS(Z$32))) + $A$6*COS(RADIANS(Z$32)) + $A$7+ $A$8*COS(RADIANS($A43)) + $A$9*(1/TAN(RADIANS($A43)))- ($B$5*(-SIN(RADIANS(Z$32))) + $B$6*COS(RADIANS(Z$32)) + $B$7+ $B$8*COS(RADIANS($A43)) + $B$9*(1/TAN(RADIANS($A43)))) -> 0.070450151
A44: 60 | B44: =$A$5*(-SIN(RADIANS(B$32))) + $A$6*COS(RADIANS(B$32)) + $A$7+ $A$8*COS(RADIANS($A44)) + $A$9*(1/TAN(RADIANS($A44)))- ($B$5*(-SIN(RADIANS(B$32))) + $B$6*COS(RADIANS(B$32)) + $B$7+ $B$8*COS(RADIANS($A44)) + $B$9*(1/TAN(RADIANS($A44)))) -> 0.070059962 | C44: =$A$5*(-SIN(RADIANS(C$32))) + $A$6*COS(RADIANS(C$32)) + $A$7+ $A$8*COS(RADIANS($A44)) + $A$9*(1/TAN(RADIANS($A44)))- ($B$5*(-SIN(RADIANS(C$32))) + $B$6*COS(RADIANS(C$32)) + $B$7+ $B$8*COS(RADIANS($A44)) + $B$9*(1/TAN(RADIANS($A44)))) -> 0.070059962 | D44: =$A$5*(-SIN(RADIANS(D$32))) + $A$6*COS(RADIANS(D$32)) + $A$7+ $A$8*COS(RADIANS($A44)) + $A$9*(1/TAN(RADIANS($A44)))- ($B$5*(-SIN(RADIANS(D$32))) + $B$6*COS(RADIANS(D$32)) + $B$7+ $B$8*COS(RADIANS($A44)) + $B$9*(1/TAN(RADIANS($A44)))) -> 0.070059962 | E44: =$A$5*(-SIN(RADIANS(E$32))) + $A$6*COS(RADIANS(E$32)) + $A$7+ $A$8*COS(RADIANS($A44)) + $A$9*(1/TAN(RADIANS($A44)))- ($B$5*(-SIN(RADIANS(E$32))) + $B$6*COS(RADIANS(E$32)) + $B$7+ $B$8*COS(RADIANS($A44)) + $B$9*(1/TAN(RADIANS($A44)))) -> 0.070059962 | F44: =$A$5*(-SIN(RADIANS(F$32))) + $A$6*COS(RADIANS(F$32)) + $A$7+ $A$8*COS(RADIANS($A44)) + $A$9*(1/TAN(RADIANS($A44)))- ($B$5*(-SIN(RADIANS(F$32))) + $B$6*COS(RADIANS(F$32)) + $B$7+ $B$8*COS(RADIANS($A44)) + $B$9*(1/TAN(RADIANS($A44)))) -> 0.070059962 | G44: =$A$5*(-SIN(RADIANS(G$32))) + $A$6*COS(RADIANS(G$32)) + $A$7+ $A$8*COS(RADIANS($A44)) + $A$9*(1/TAN(RADIANS($A44)))- ($B$5*(-SIN(RADIANS(G$32))) + $B$6*COS(RADIANS(G$32)) + $B$7+ $B$8*COS(RADIANS($A44)) + $B$9*(1/TAN(RADIANS($A44)))) -> 0.070059962 | H44: =$A$5*(-SIN(RADIANS(H$32))) + $A$6*COS(RADIANS(H$32)) + $A$7+ $A$8*COS(RADIANS($A44)) + $A$9*(1/TAN(RADIANS($A44)))- ($B$5*(-SIN(RADIANS(H$32))) + $B$6*COS(RADIANS(H$32)) + $B$7+ $B$8*COS(RADIANS($A44)) + $B$9*(1/TAN(RADIANS($A44)))) -> 0.070059962 | I44: =$A$5*(-SIN(RADIANS(I$32))) + $A$6*COS(RADIANS(I$32)) + $A$7+ $A$8*COS(RADIANS($A44)) + $A$9*(1/TAN(RADIANS($A44)))- ($B$5*(-SIN(RADIANS(I$32))) + $B$6*COS(RADIANS(I$32)) + $B$7+ $B$8*COS(RADIANS($A44)) + $B$9*(1/TAN(RADIANS($A44)))) -> 0.070059962 | ... Z44: =$A$5*(-SIN(RADIANS(Z$32))) + $A$6*COS(RADIANS(Z$32)) + $A$7+ $A$8*COS(RADIANS($A44)) + $A$9*(1/TAN(RADIANS($A44)))- ($B$5*(-SIN(RADIANS(Z$32))) + $B$6*COS(RADIANS(Z$32)) + $B$7+ $B$8*COS(RADIANS($A44)) + $B$9*(1/TAN(RADIANS($A44)))) -> 0.070059962
... A49: 85 | B49: =$A$5*(-SIN(RADIANS(B$32))) + $A$6*COS(RADIANS(B$32)) + $A$7+ $A$8*COS(RADIANS($A49)) + $A$9*(1/TAN(RADIANS($A49)))- ($B$5*(-SIN(RADIANS(B$32))) + $B$6*COS(RADIANS(B$32)) + $B$7+ $B$8*COS(RADIANS($A49)) + $B$9*(1/TAN(RADIANS($A49)))) -> 0.066392412 | C49: =$A$5*(-SIN(RADIANS(C$32))) + $A$6*COS(RADIANS(C$32)) + $A$7+ $A$8*COS(RADIANS($A49)) + $A$9*(1/TAN(RADIANS($A49)))- ($B$5*(-SIN(RADIANS(C$32))) + $B$6*COS(RADIANS(C$32)) + $B$7+ $B$8*COS(RADIANS($A49)) + $B$9*(1/TAN(RADIANS($A49)))) -> 0.066392412 | D49: =$A$5*(-SIN(RADIANS(D$32))) + $A$6*COS(RADIANS(D$32)) + $A$7+ $A$8*COS(RADIANS($A49)) + $A$9*(1/TAN(RADIANS($A49)))- ($B$5*(-SIN(RADIANS(D$32))) + $B$6*COS(RADIANS(D$32)) + $B$7+ $B$8*COS(RADIANS($A49)) + $B$9*(1/TAN(RADIANS($A49)))) -> 0.066392412 | E49: =$A$5*(-SIN(RADIANS(E$32))) + $A$6*COS(RADIANS(E$32)) + $A$7+ $A$8*COS(RADIANS($A49)) + $A$9*(1/TAN(RADIANS($A49)))- ($B$5*(-SIN(RADIANS(E$32))) + $B$6*COS(RADIANS(E$32)) + $B$7+ $B$8*COS(RADIANS($A49)) + $B$9*(1/TAN(RADIANS($A49)))) -> 0.066392412 | F49: =$A$5*(-SIN(RADIANS(F$32))) + $A$6*COS(RADIANS(F$32)) + $A$7+ $A$8*COS(RADIANS($A49)) + $A$9*(1/TAN(RADIANS($A49)))- ($B$5*(-SIN(RADIANS(F$32))) + $B$6*COS(RADIANS(F$32)) + $B$7+ $B$8*COS(RADIANS($A49)) + $B$9*(1/TAN(RADIANS($A49)))) -> 0.066392412 | G49: =$A$5*(-SIN(RADIANS(G$32))) + $A$6*COS(RADIANS(G$32)) + $A$7+ $A$8*COS(RADIANS($A49)) + $A$9*(1/TAN(RADIANS($A49)))- ($B$5*(-SIN(RADIANS(G$32))) + $B$6*COS(RADIANS(G$32)) + $B$7+ $B$8*COS(RADIANS($A49)) + $B$9*(1/TAN(RADIANS($A49)))) -> 0.066392412 | H49: =$A$5*(-SIN(RADIANS(H$32))) + $A$6*COS(RADIANS(H$32)) + $A$7+ $A$8*COS(RADIANS($A49)) + $A$9*(1/TAN(RADIANS($A49)))- ($B$5*(-SIN(RADIANS(H$32))) + $B$6*COS(RADIANS(H$32)) + $B$7+ $B$8*COS(RADIANS($A49)) + $B$9*(1/TAN(RADIANS($A49)))) -> 0.066392412 | I49: =$A$5*(-SIN(RADIANS(I$32))) + $A$6*COS(RADIANS(I$32)) + $A$7+ $A$8*COS(RADIANS($A49)) + $A$9*(1/TAN(RADIANS($A49)))- ($B$5*(-SIN(RADIANS(I$32))) + $B$6*COS(RADIANS(I$32)) + $B$7+ $B$8*COS(RADIANS($A49)) + $B$9*(1/TAN(RADIANS($A49)))) -> 0.066392412 | ... Z49: =$A$5*(-SIN(RADIANS(Z$32))) + $A$6*COS(RADIANS(Z$32)) + $A$7+ $A$8*COS(RADIANS($A49)) + $A$9*(1/TAN(RADIANS($A49)))- ($B$5*(-SIN(RADIANS(Z$32))) + $B$6*COS(RADIANS(Z$32)) + $B$7+ $B$8*COS(RADIANS($A49)) + $B$9*(1/TAN(RADIANS($A49)))) -> 0.066392412
A51: Az/El | B51: 0 | C51: 15 | D51: 30 | E51: 45 | F51: 60 | G51: 75 | H51: 90 | I51: 105 | J51: 120 | K51: 135 | L51: 150 | M51: 165 | N51: 180 | O51: 195 | P51: 210 | Q51: 225 | R51: 240 | S51: 255 | T51: 270 | U51: 285 | V51: 300 | W51: 315 | X51: 330 | Y51: 345 | Z51: 360
A52: 5 | B52: =SQRT((B12^2)+(B33^2)) -> 0.044554252 | C52: =SQRT((C12^2)+(C33^2)) -> 0.044554252 | D52: =SQRT((D12^2)+(D33^2)) -> 0.044554252 | E52: =SQRT((E12^2)+(E33^2)) -> 0.044554252 | F52: =SQRT((F12^2)+(F33^2)) -> 0.044554252 | G52: =SQRT((G12^2)+(G33^2)) -> 0.044554252 | H52: =SQRT((H12^2)+(H33^2)) -> 0.044554252 | I52: =SQRT((I12^2)+(I33^2)) -> 0.044554252 | ... Z52: =SQRT((Z12^2)+(Z33^2)) -> 0.044554252
A53: 10 | B53: =SQRT((B13^2)+(B34^2)) -> 0.061211169 | C53: =SQRT((C13^2)+(C34^2)) -> 0.061211169 | D53: =SQRT((D13^2)+(D34^2)) -> 0.061211169 | E53: =SQRT((E13^2)+(E34^2)) -> 0.061211169 | F53: =SQRT((F13^2)+(F34^2)) -> 0.061211169 | G53: =SQRT((G13^2)+(G34^2)) -> 0.061211169 | H53: =SQRT((H13^2)+(H34^2)) -> 0.061211169 | I53: =SQRT((I13^2)+(I34^2)) -> 0.061211169 | ... Z53: =SQRT((Z13^2)+(Z34^2)) -> 0.061211169
A54: 15 | B54: =SQRT((B14^2)+(B35^2)) -> 0.069792515 | C54: =SQRT((C14^2)+(C35^2)) -> 0.069792515 | D54: =SQRT((D14^2)+(D35^2)) -> 0.069792515 | E54: =SQRT((E14^2)+(E35^2)) -> 0.069792515 | F54: =SQRT((F14^2)+(F35^2)) -> 0.069792515 | G54: =SQRT((G14^2)+(G35^2)) -> 0.069792515 | H54: =SQRT((H14^2)+(H35^2)) -> 0.069792515 | I54: =SQRT((I14^2)+(I35^2)) -> 0.069792515 | ... Z54: =SQRT((Z14^2)+(Z35^2)) -> 0.069792515
A55: 20 | B55: =SQRT((B15^2)+(B36^2)) -> 0.072031344 | C55: =SQRT((C15^2)+(C36^2)) -> 0.072031344 | D55: =SQRT((D15^2)+(D36^2)) -> 0.072031344 | E55: =SQRT((E15^2)+(E36^2)) -> 0.072031344 | F55: =SQRT((F15^2)+(F36^2)) -> 0.072031344 | G55: =SQRT((G15^2)+(G36^2)) -> 0.072031344 | H55: =SQRT((H15^2)+(H36^2)) -> 0.072031344 | I55: =SQRT((I15^2)+(I36^2)) -> 0.072031344 | ... Z55: =SQRT((Z15^2)+(Z36^2)) -> 0.072031344
A56: 25 | B56: =SQRT((B16^2)+(B37^2)) -> 0.071216808 | C56: =SQRT((C16^2)+(C37^2)) -> 0.071216808 | D56: =SQRT((D16^2)+(D37^2)) -> 0.071216808 | E56: =SQRT((E16^2)+(E37^2)) -> 0.071216808 | F56: =SQRT((F16^2)+(F37^2)) -> 0.071216808 | G56: =SQRT((G16^2)+(G37^2)) -> 0.071216808 | H56: =SQRT((H16^2)+(H37^2)) -> 0.071216808 | I56: =SQRT((I16^2)+(I37^2)) -> 0.071216808 | ... Z56: =SQRT((Z16^2)+(Z37^2)) -> 0.071216808
A57: 30 | B57: =SQRT((B17^2)+(B38^2)) -> 0.06957498 | C57: =SQRT((C17^2)+(C38^2)) -> 0.06957498 | D57: =SQRT((D17^2)+(D38^2)) -> 0.06957498 | E57: =SQRT((E17^2)+(E38^2)) -> 0.06957498 | F57: =SQRT((F17^2)+(F38^2)) -> 0.06957498 | G57: =SQRT((G17^2)+(G38^2)) -> 0.06957498 | H57: =SQRT((H17^2)+(H38^2)) -> 0.06957498 | I57: =SQRT((I17^2)+(I38^2)) -> 0.06957498 | ... Z57: =SQRT((Z17^2)+(Z38^2)) -> 0.06957498
A58: 35 | B58: =SQRT((B18^2)+(B39^2)) -> 0.069408509 | C58: =SQRT((C18^2)+(C39^2)) -> 0.069408509 | D58: =SQRT((D18^2)+(D39^2)) -> 0.069408509 | E58: =SQRT((E18^2)+(E39^2)) -> 0.069408509 | F58: =SQRT((F18^2)+(F39^2)) -> 0.069408509 | G58: =SQRT((G18^2)+(G39^2)) -> 0.069408509 | H58: =SQRT((H18^2)+(H39^2)) -> 0.069408509 | I58: =SQRT((I18^2)+(I39^2)) -> 0.069408509 | ... Z58: =SQRT((Z18^2)+(Z39^2)) -> 0.069408509
A59: 40 | B59: =SQRT((B19^2)+(B40^2)) -> 0.073141973 | C59: =SQRT((C19^2)+(C40^2)) -> 0.073141973 | D59: =SQRT((D19^2)+(D40^2)) -> 0.073141973 | E59: =SQRT((E19^2)+(E40^2)) -> 0.073141973 | F59: =SQRT((F19^2)+(F40^2)) -> 0.073141973 | G59: =SQRT((G19^2)+(G40^2)) -> 0.073141973 | H59: =SQRT((H19^2)+(H40^2)) -> 0.073141973 | I59: =SQRT((I19^2)+(I40^2)) -> 0.073141973 | ... Z59: =SQRT((Z19^2)+(Z40^2)) -> 0.073141973
A60: 45 | B60: =SQRT((B20^2)+(B41^2)) -> 0.082531315 | C60: =SQRT((C20^2)+(C41^2)) -> 0.082531315 | D60: =SQRT((D20^2)+(D41^2)) -> 0.082531315 | E60: =SQRT((E20^2)+(E41^2)) -> 0.082531315 | F60: =SQRT((F20^2)+(F41^2)) -> 0.082531315 | G60: =SQRT((G20^2)+(G41^2)) -> 0.082531315 | H60: =SQRT((H20^2)+(H41^2)) -> 0.082531315 | I60: =SQRT((I20^2)+(I41^2)) -> 0.082531315 | ... Z60: =SQRT((Z20^2)+(Z41^2)) -> 0.082531315
A61: 50 | B61: =SQRT((B21^2)+(B42^2)) -> 0.097960852 | C61: =SQRT((C21^2)+(C42^2)) -> 0.097960852 | D61: =SQRT((D21^2)+(D42^2)) -> 0.097960852 | E61: =SQRT((E21^2)+(E42^2)) -> 0.097960852 | F61: =SQRT((F21^2)+(F42^2)) -> 0.097960852 | G61: =SQRT((G21^2)+(G42^2)) -> 0.097960852 | H61: =SQRT((H21^2)+(H42^2)) -> 0.097960852 | I61: =SQRT((I21^2)+(I42^2)) -> 0.097960852 | ... Z61: =SQRT((Z21^2)+(Z42^2)) -> 0.097960852
A62: 55 | B62: =SQRT((B22^2)+(B43^2)) -> 0.11877009 | C62: =SQRT((C22^2)+(C43^2)) -> 0.11877009 | D62: =SQRT((D22^2)+(D43^2)) -> 0.11877009 | E62: =SQRT((E22^2)+(E43^2)) -> 0.11877009 | F62: =SQRT((F22^2)+(F43^2)) -> 0.11877009 | G62: =SQRT((G22^2)+(G43^2)) -> 0.11877009 | H62: =SQRT((H22^2)+(H43^2)) -> 0.11877009 | I62: =SQRT((I22^2)+(I43^2)) -> 0.11877009 | ... Z62: =SQRT((Z22^2)+(Z43^2)) -> 0.11877009
A63: 60 | B63: =SQRT((B23^2)+(B44^2)) -> 0.14400526 | C63: =SQRT((C23^2)+(C44^2)) -> 0.14400526 | D63: =SQRT((D23^2)+(D44^2)) -> 0.14400526 | E63: =SQRT((E23^2)+(E44^2)) -> 0.14400526 | F63: =SQRT((F23^2)+(F44^2)) -> 0.14400526 | G63: =SQRT((G23^2)+(G44^2)) -> 0.14400526 | H63: =SQRT((H23^2)+(H44^2)) -> 0.14400526 | I63: =SQRT((I23^2)+(I44^2)) -> 0.14400526 | ... Z63: =SQRT((Z23^2)+(Z44^2)) -> 0.14400526
... A68: 85 | B68: =SQRT((B28^2)+(B49^2)) -> 0.31193931 | C68: =SQRT((C28^2)+(C49^2)) -> 0.31193931 | D68: =SQRT((D28^2)+(D49^2)) -> 0.31193931 | E68: =SQRT((E28^2)+(E49^2)) -> 0.31193931 | F68: =SQRT((F28^2)+(F49^2)) -> 0.31193931 | G68: =SQRT((G28^2)+(G49^2)) -> 0.31193931 | H68: =SQRT((H28^2)+(H49^2)) -> 0.31193931 | I68: =SQRT((I28^2)+(I49^2)) -> 0.31193931 | ... Z68: =SQRT((Z28^2)+(Z49^2)) -> 0.31193931
A79: Refraction correction
A80: 5 | B80: =(0.0019279+1.02/TAN(RADIANS((A80+10.3/(A80+5.1)))))/60 -> 0.16124036
A81: 10 | B81: =(0.0019279+1.02/TAN(RADIANS((A81+10.3/(A81+5.1)))))/60 -> 0.090156246
A82: 15 | B82: =(0.0019279+1.02/TAN(RADIANS((A82+10.3/(A82+5.1)))))/60 -> 0.061280518
A83: 20 | B83: =(0.0019279+1.02/TAN(RADIANS((A83+10.3/(A83+5.1)))))/60 -> 0.045718471
A84: 25 | B84: =(0.0019279+1.02/TAN(RADIANS((A84+10.3/(A84+5.1)))))/60 -> 0.035927471
A85: 30 | B85: =(0.0019279+1.02/TAN(RADIANS((A85+10.3/(A85+5.1)))))/60 -> 0.029131784
A86: 35 | B86: =(0.0019279+1.02/TAN(RADIANS((A86+10.3/(A86+5.1)))))/60 -> 0.024080468
A87: 40 | B87: =(0.0019279+1.02/TAN(RADIANS((A87+10.3/(A87+5.1)))))/60 -> 0.020128714
A88: 45 | B88: =(0.0019279+1.02/TAN(RADIANS((A88+10.3/(A88+5.1)))))/60 -> 0.016910568
