Workbook

Sheet Observations
A1: 12m pointing calibration 18 Feb 2010 | E1: 0.143 | F1: -0.05 | G1: =(E1+F1)/2 -> 0.0465
A2: Controller params:
A3: P1 | B3: -0.36
A4: P2 | B4: 0
A5: P3 | B5: 0
A6: P4 | B6: 0.0007
A7: P5 | B7: 0.0082
A8: P6 | B8: 0
A9: P7 | B9: -0.176
A10: P8 | B10: 0
A11: P9 | B11: 0
A12: Refrac and model switched on
A14: Source | B14: RA | C14: Dec | D14: Az start | E14: El start | F14: x-el ofset | G14: el offset | H14: Az end | I14: El end
A15: Sgra | B15: 266.575 | C15: -29.0122 | D15: -93.1 | E15: 42.5 | F15: 0.11 | G15: 0.05 | H15: -93.48 | I15: 41.94
A16: CenA | B16: 201.52088 | C16: -43.071314 | D16: -143.8 | E16: 8.4 | F16: -0.05 | G16: 0.025 | H16: -144.99 | I16: 7.7
A17: 1921-293 | B17: 291.37125 | C17: -29.221806 | D17: -81.88 | E17: 54 | F17: 0.08 | G17: 0.06 | H17: -82.59 | I17: 53.52
A18: 2145+067 | B18: 327.1472 | C18: 7.007544 | D18: -34.887 | E18: 33.7723 | F18: -0.015 | G18: -0.01 | H18: -36.4 | I18: 33.22
A19: 3c446 | B19: ='Source coordinates'!D7 -> 112.7075 | C19: ='Source coordinates'!E7 -> -11.7104 | D19: -33.75 | E19: 47.304 | F19: 0.05 | G19: 0.045 | H19: -34.9 | I19: 47.06
A20: Sgra | B20: 266.575 | C20: -29.0122 | D20: -114.5 | E20: 16.6 | F20: -0.0025 | G20: 0.0465 | H20: -114.98 | I20: 16.42
A21: 0537-441 | B21: ='Source coordinates'!D8 -> 139.65437 | C21: ='Source coordinates'!E8 -> -12.141822 | D21: 121 | E21: 35.5 | F21: 0 | G21: 0.075 | H21: 119.7 | I21: 35.5
A22: 38792
A23: CenA | D23: -134 | E23: 16.7 | F23: -0.055 | G23: 0.105 | H23: -135 | I23: 16.12
A24: Sgra | D24: -85.5 | E24: 50.26 | F24: 0.08 | G24: 0.0925 | H24: -86.55 | I24: 49.5
A25: 2145+067 | D25: 7.62 | E25: 39.77 | F25: 0 | G25: 0.05 | H25: 5.3 | I25: 39.9 | J25: poor quality
A26: 3c446 | D26: 28.6 | E26: 48.5 | F26: 0.05 | G26: 0.1 | H26: 25 | I26: 49.4 | J26: poor quality
A27: 3c454.3 | D27: 12.9 | E27: 29.87 | F27: -0.035 | G27: 0.085 | H27: 10.22 | I27: 30.28 | J27: good
A28: 0537-441 | D28: 122.8 | E28: 31 | F28: -0.035 | G28: 0.1 | H28: =D28 -> 122.8 | I28: =E28 -> 31

Sheet Source coordinates
A1: RA | B1: 5 | C1: 35 | D1: 10.6 | E1: =15*(B1+(C1/60)+(D1/3600)) -> 83.794167 | G1: 0607-157 | H1: 2 - 5 Jy
A2: Dec | B2: 22 | C2: 1 | D2: 17.8 | E2: =B2+(C2/60)+(D2/60/60) -> 22.021611 | G2: 0727-115 | H2: 3 | I2: J2000
G3: 1334-127 | H3: 4 - 6 Jy
A4: taurus | D4: 83.794167 | E4: 22.021611 | G4: 1749+096 | H4: 2
A5: 0537-441 | D5: 84.79263 | E5: -44.08376 | G5: 1921-293
A6: 0637-752 | D6: 98.876154 | E6: -75.283011 | G6: 2052-474 | H6: 2
A7: 0727-115 | D7: 112.7075 | E7: -11.7104 | G7: 2145+067 | H7: 4 - 8 Jy | I7: 21 | J7: 48 | K7: 5.459 | L7: 6 | M7: 57 | N7: 38.604
A8: hydra | D8: 139.65437 | E8: -12.141822 | G8: 3c446 | H8: 5 | I8: 22 25 47.2592 | J8: -4 | K8: 57 | L8: 1.39
A9: CenA | D9: 201.52088 | E9: -43.071314 | G9: 4c39.25 | H9: 10 | I9: 09 27 03.0139 | J9: 39 02 20.852
A10: 3c353 | D10: 260.2544 | E10: -0.993614
A11: Sgra | D11: 266.575 | E11: -29.0122
A12: 1921-293 | D12: 291.37125 | E12: -29.221806
A13: 2145+067 | D13: 327.14891 | E13: 7.0068917
A14: 3C446 | D14: 336.57888 | E14: -4.8991278
A15: 3c454.3 | D15: 343.61507 | E15: 16.201767

Sheet Model fitting
A8: Coefficient Matrix (used during pointing observations)
D9: Solution | E9: Solution (fixed P4, P5) | I9: pi/180 | J9: =PI()/180 -> 0.017453293
A10: P1 = | B10: -0.36 | D10: =S67 -> -0.49525646 | E10: =L118 -> 0.056212392
A11: P2 = | B11: 0 | D11: =S68 -> 0.030049052 | E11: =L119 -> -0.45620522
A12: P3 = | B12: 0 | D12: =S69 -> 0.2195617 | E12: =L120 -> -0.07193319
A13: P4 = | B13: 0.0007 | D13: =S70 -> -0.025164705 | E13: =B13 -> 0.0007
A14: P5 = | B14: 0.0082 | D14: =S71 -> -0.036271602 | E14: =B14 -> 0.0082
A15: P7 = | B15: -0.176 | D15: =S72 -> 0.043509767 | E15: =L121 -> -0.11049985
A16: P8 = | B16: 0 | D16: =S73 -> -0.17528946 | E16: =L122 -> 0.017675107
A17: P9 = | B17: 0 | D17: =S74 -> -0.008262181 | E17: =L123 -> -0.0074092674
A19: Measurement Data | F19: Actual offsets | G19: Offsets after correction | I19: Matrix Phi | R19: Matrix transposed
G20: Sol1 | H20: Sol 2
A21: Azimuth | B21: Elevation | C21: Refraction correction (El) | D21: RAz | E21: REl | I21: P1 | J21: P2 | K21: P3 | L21: P4 | M21: P5 | N21: P7 | O21: P8 | P21: P9 | S21: 1 | T21: 2 | U21: 3 | V21: 4 | W21: 5 | X21: 6 | Y21: 7 | Z21: 8 | AA21: 9 | AB21: 10 | AC21: 11 | AD21: 12 | AE21: 13 | AF21: 14 | AG21: 15 | AH21: 16 | AI21: 17 | AJ21: 18 | AK21: 19 | AL21: 20 | AM21: 21 | AN21: 22 | AO21: 23 | AP21: 24 | AQ21: 25 | AR21: 26
A22: =360+Observations!H15 -> 266.52 | B22: =Observations!I15 -> 41.94 | C22: =(0.0019279+1.02/TAN(RADIANS((B22+10.3/(B22+5.1)))))/60 -> 0.018807526 | D22: =Observations!F15 -> 0.11 | E22: =Observations!G15 -> 0.05 | F22: =$B$10 + $B$11*COS(RADIANS(B22)) + $B$12*SIN(RADIANS(B22)) + $B$13*SIN(RADIANS(B22))*COS(RADIANS(A22)) + $B$14*SIN(RADIANS(B22))*SIN(RADIANS(A22))+D22 -> -0.25549878 | G22: =$D$10 + $D$11*(COS($J$9*B22)) + $D$12*SIN($J$9*B22) + $D$13*SIN($J$9*B22)*COS($J$9*A22) + $D$14*SIN($J$9*B22)*SIN($J$9*A22)-F22 -> -0.045442933 | H22: =$E$10 + $E$11*(COS($J$9*B22)) + $E$12*SIN($J$9*B22) + $E$13*SIN($J$9*B22)*COS($J$9*A22) + $E$14*SIN($J$9*B22)*SIN($J$9*A22)-F22 -> -0.08121033 | I22: =1 -> 1 | J22: =COS(RADIANS(B22)) -> 0.74384513 | K22: =SIN(RADIANS(B22)) -> 0.66835202 | L22: =SIN(RADIANS(B22))*COS(RADIANS(A22)) -> -0.040569049 | M22: =SIN(RADIANS(B22))*SIN(RADIANS(A22)) -> -0.66711961 | N22: 0 | O22: =0 -> 0 | P22: =0 -> 0 | R22: 1 | S22: {=TRANSPOSE(I22:P47)} -> 1 | T22: 0 | U22: 1 | V22: 0 | W22: 1 | X22: 0 | Y22: 1 | Z22: 0 | AA22: 1 | AB22: 0 | AC22: 1 | AD22: 0 | AE22: 1 | AF22: 0 | AG22: 1 | AH22: 0 | AI22: 1 | AJ22: 0 | AK22: 1 | AL22: 0 | AM22: 1 | AN22: 0 | AO22: 1 | AP22: 0 | AQ22: 1 | AR22: 0
F23: =$B$13*(-SIN(RADIANS(A22))) + $B$14*COS(RADIANS(A22)) + $B$15+ $B$16*COS(RADIANS(B22)) + $B$17*(1/TAN(RADIANS(B22)))+E22 -> -0.12579903 | G23: =$D$10*0 + $D$11*0 + $D$12*0 + $D$13*(-SIN($J$9*A22)) + $D$14*COS($J$9*A22) + $D$15+ $D$16*COS($J$9*B22) + $D$17*(1/TAN($J$9*B22))-F23+C22 -> 0.025616074 | H23: =$E$10*0 + $E$11*0 + $E$12*0 + $E$13*(-SIN($J$9*A22)) + $E$14*COS($J$9*A22) + $E$15+ $E$16*COS($J$9*B22) + $E$17*(1/TAN($J$9*B22))-F23+C22 -> 0.039209045 | I23: =0 -> 0 | J23: 0 | K23: =0 -> 0 | L23: =-SIN(RADIANS(A22)) -> 0.99815605 | M23: =COS(RADIANS(A22)) -> -0.060700121 | N23: 1 | O23: =COS(RADIANS(B22)) -> 0.74384513 | P23: =1/TAN(RADIANS(B22)) -> 1.1129541 | R23: 2 | S23: 0.74384513 | T23: 0 | U23: 0.9909832 | V23: 1 | W23: 0.59454215 | X23: 0 | Y23: 0.83657313 | Z23: 1 | AA23: 0.68123211 | AB23: 0 | AC23: 0.95921536 | AD23: 1 | AE23: 0.81411552 | AF23: 0 | AG23: 0.96068229 | AH23: 1 | AI23: 0.64944805 | AJ23: 0 | AK23: 0.76716515 | AL23: 1 | AM23: 0.65077422 | AN23: 0 | AO23: 0.86357161 | AP23: 1 | AQ23: 0.8571673 | AR23: 0
A24: =Observations!H16 -> -144.99 | B24: =Observations!I16 -> 7.7 | C24: =(0.0019279+1.02/TAN(RADIANS((B24+10.3/(B24+5.1)))))/60 -> 0.11371816 | D24: =Observations!F16 -> -0.05 | E24: =Observations!G16 -> 0.025 | F24: =$B$10 + $B$11*COS(RADIANS(B24)) + $B$12*SIN(RADIANS(B24)) + $B$13*SIN(RADIANS(B24))*COS(RADIANS(A24)) + $B$14*SIN(RADIANS(B24))*SIN(RADIANS(A24))+D24 -> -0.41070716 | G24: =$D$10 + $D$11*(COS($J$9*B24)) + $D$12*SIN($J$9*B24) + $D$13*SIN($J$9*B24)*COS($J$9*A24) + $D$14*SIN($J$9*B24)*SIN($J$9*A24)-F24 -> -0.019803136 | H24: =$E$10 + $E$11*(COS($J$9*B24)) + $E$12*SIN($J$9*B24) + $E$13*SIN($J$9*B24)*COS($J$9*A24) + $E$14*SIN($J$9*B24)*SIN($J$9*A24)-F24 -> 0.0044826326 | I24: =1 -> 1 | J24: =COS(RADIANS(B24)) -> 0.9909832 | K24: =SIN(RADIANS(B24)) -> 0.13398619 | L24: =SIN(RADIANS(B24))*COS(RADIANS(A24)) -> -0.10974164 | M24: =SIN(RADIANS(B24))*SIN(RADIANS(A24)) -> -0.076870473 | N24: 0 | O24: =0 -> 0 | P24: =0 -> 0 | R24: 3 | S24: 0.66835202 | T24: 0 | U24: 0.13398619 | V24: 0 | W24: 0.80406444 | X24: 0 | Y24: 0.54785528 | Z24: 0 | AA24: 0.73206749 | AB24: 0 | AC24: 0.2826763 | AD24: 0 | AE24: 0.58070296 | AF24: 0 | AG24: 0.27765001 | AH24: 0 | AI24: 0.76040597 | AJ24: 0 | AK24: 0.64144963 | AL24: 0 | AM24: 0.75927131 | AN24: 0 | AO24: 0.50422621 | AP24: 0 | AQ24: 0.51503807 | AR24: 0
F25: =$B$13*(-SIN(RADIANS(A24))) + $B$14*COS(RADIANS(A24)) + $B$15+ $B$16*COS(RADIANS(B24)) + $B$17*(1/TAN(RADIANS(B24)))+E24 -> -0.15731462 | G25: =$D$10*0 + $D$11*0 + $D$12*0 + $D$13*(-SIN($J$9*A24)) + $D$14*COS($J$9*A24) + $D$15+ $D$16*COS($J$9*B24) + $D$17*(1/TAN($J$9*B24))-F25+C24 -> 0.094996081 | H25: =$E$10*0 + $E$11*0 + $E$12*0 + $E$13*(-SIN($J$9*A24)) + $E$14*COS($J$9*A24) + $E$15+ $E$16*COS($J$9*B24) + $E$17*(1/TAN($J$9*B24))-F25+C24 -> 0.11693392 | I25: =0 -> 0 | J25: 1 | K25: =0 -> 0 | L25: =-SIN(RADIANS(A24)) -> 0.5737194 | M25: =COS(RADIANS(A24)) -> -0.81905192 | N25: 1 | O25: =COS(RADIANS(B24)) -> 0.9909832 | P25: =1/TAN(RADIANS(B24)) -> 7.3961595 | R25: 4 | S25: -0.040569049 | T25: 0.99815605 | U25: -0.10974164 | V25: 0.5737194 | W25: 0.10369913 | X25: 0.99164867 | Y25: 0.44096531 | Z25: 0.59341889 | AA25: 0.60040652 | AB25: 0.57214587 | AC25: -0.11937473 | AD25: 0.90645525 | AE25: -0.28771431 | AF25: -0.86863151 | AG25: -0.19632821 | AH25: 0.70710678 | AI25: 0.045759314 | AJ25: 0.99818769 | AK25: 0.63870724 | AL25: -0.092370587 | AM25: 0.6881335 | AN25: -0.42261826 | AO25: 0.49622602 | AP25: -0.17742828 | AQ25: -0.27900035 | AR25: -0.8405666
A26: =360+Observations!H17 -> 277.41 | B26: =Observations!I17 -> 53.52 | C26: =(0.0019279+1.02/TAN(RADIANS((B26+10.3/(B26+5.1)))))/60 -> 0.012521834 | D26: =Observations!F17 -> 0.08 | E26: =Observations!G17 -> 0.06 | F26: =$B$10 + $B$11*COS(RADIANS(B26)) + $B$12*SIN(RADIANS(B26)) + $B$13*SIN(RADIANS(B26))*COS(RADIANS(A26)) + $B$14*SIN(RADIANS(B26))*SIN(RADIANS(A26))+D26 -> -0.28646568 | G26: =$D$10 + $D$11*(COS($J$9*B26)) + $D$12*SIN($J$9*B26) + $D$13*SIN($J$9*B26)*COS($J$9*A26) + $D$14*SIN($J$9*B26)*SIN($J$9*A26)-F26 -> 0.011927979 | H26: =$E$10 + $E$11*(COS($J$9*B26)) + $E$12*SIN($J$9*B26) + $E$13*SIN($J$9*B26)*COS($J$9*A26) + $E$14*SIN($J$9*B26)*SIN($J$9*A26)-F26 -> 0.0071402404 | I26: =1 -> 1 | J26: =COS(RADIANS(B26)) -> 0.59454215 | K26: =SIN(RADIANS(B26)) -> 0.80406444 | L26: =SIN(RADIANS(B26))*COS(RADIANS(A26)) -> 0.10369913 | M26: =SIN(RADIANS(B26))*SIN(RADIANS(A26)) -> -0.79734944 | N26: 0 | O26: =0 -> 0 | P26: =0 -> 0 | R26: 5 | S26: -0.66711961 | T26: -0.060700121 | U26: -0.076870473 | V26: -0.81905192 | W26: -0.79734944 | X26: 0.12896867 | Y26: -0.32510767 | Z26: 0.8048938 | AA26: -0.41884939 | AB26: 0.82015188 | AC26: -0.25623342 | AD26: -0.42230187 | AE26: 0.50441689 | AF26: -0.49545867 | AG26: -0.19632821 | AH26: -0.70710678 | AI26: -0.75902788 | AJ26: 0.060177479 | AK26: 0.059251079 | AL26: 0.9957247 | AM26: 0.32088192 | AN26: 0.90630779 | AO26: 0.089463989 | AP26: 0.98413373 | AQ26: 0.43292381 | AR26: -0.54170821
F27: =$B$13*(-SIN(RADIANS(A26))) + $B$14*COS(RADIANS(A26)) + $B$15+ $B$16*COS(RADIANS(B26)) + $B$17*(1/TAN(RADIANS(B26)))+E26 -> -0.1142483 | G27: =$D$10*0 + $D$11*0 + $D$12*0 + $D$13*(-SIN($J$9*A26)) + $D$14*COS($J$9*A26) + $D$15+ $D$16*COS($J$9*B26) + $D$17*(1/TAN($J$9*B26))-F27+C26 -> 0.030321255 | H27: =$E$10*0 + $E$11*0 + $E$12*0 + $E$13*(-SIN($J$9*A26)) + $E$14*COS($J$9*A26) + $E$15+ $E$16*COS($J$9*B26) + $E$17*(1/TAN($J$9*B26))-F27+C26 -> 0.023052013 | I27: =0 -> 0 | J27: 0 | K27: =0 -> 0 | L27: =-SIN(RADIANS(A26)) -> 0.99164867 | M27: =COS(RADIANS(A26)) -> 0.12896867 | N27: 1 | O27: =COS(RADIANS(B26)) -> 0.59454215 | P27: =1/TAN(RADIANS(B26)) -> 0.73942102 | R27: 6 | S27: 0 | T27: 1 | U27: 0 | V27: 1 | W27: 0 | X27: 1 | Y27: 0 | Z27: 1 | AA27: 0 | AB27: 1 | AC27: 0 | AD27: 1 | AE27: 0 | AF27: 1 | AG27: 0 | AH27: 1 | AI27: 0 | AJ27: 1 | AK27: 0 | AL27: 1 | AM27: 0 | AN27: 1 | AO27: 0 | AP27: 1 | AQ27: 0 | AR27: 1
A28: =360+Observations!H18 -> 323.6 | B28: =Observations!I18 -> 33.22 | C28: =(0.0019279+1.02/TAN(RADIANS((B28+10.3/(B28+5.1)))))/60 -> 0.025727252 | D28: =Observations!F18 -> -0.015 | E28: =Observations!G18 -> -0.01 | F28: =$B$10 + $B$11*COS(RADIANS(B28)) + $B$12*SIN(RADIANS(B28)) + $B$13*SIN(RADIANS(B28))*COS(RADIANS(A28)) + $B$14*SIN(RADIANS(B28))*SIN(RADIANS(A28))+D28 -> -0.37735721 | G28: =$D$10 + $D$11*(COS($J$9*B28)) + $D$12*SIN($J$9*B28) + $D$13*SIN($J$9*B28)*COS($J$9*A28) + $D$14*SIN($J$9*B28)*SIN($J$9*A28)-F28 -> 0.028222422 | H28: =$E$10 + $E$11*(COS($J$9*B28)) + $E$12*SIN($J$9*B28) + $E$13*SIN($J$9*B28)*COS($J$9*A28) + $E$14*SIN($J$9*B28)*SIN($J$9*A28)-F28 -> 0.01015439 | I28: =1 -> 1 | J28: =COS(RADIANS(B28)) -> 0.83657313 | K28: =SIN(RADIANS(B28)) -> 0.54785528 | L28: =SIN(RADIANS(B28))*COS(RADIANS(A28)) -> 0.44096531 | M28: =SIN(RADIANS(B28))*SIN(RADIANS(A28)) -> -0.32510767 | N28: 0 | O28: =0 -> 0 | P28: =0 -> 0 | R28: 7 | S28: 0 | T28: 0.74384513 | U28: 0 | V28: 0.9909832 | W28: 0 | X28: 0.59454215 | Y28: 0 | Z28: 0.83657313 | AA28: 0 | AB28: 0.68123211 | AC28: 0 | AD28: 0.95921536 | AE28: 0 | AF28: 0.81411552 | AG28: 0 | AH28: 0.96068229 | AI28: 0 | AJ28: 0.64944805 | AK28: 0 | AL28: 0.76716515 | AM28: 0 | AN28: 0.65077422 | AO28: 0 | AP28: 0.86357161 | AQ28: 0 | AR28: 0.8571673
F29: =$B$13*(-SIN(RADIANS(A28))) + $B$14*COS(RADIANS(A28)) + $B$15+ $B$16*COS(RADIANS(B28)) + $B$17*(1/TAN(RADIANS(B28)))+E28 -> -0.17898448 | G29: =$D$10*0 + $D$11*0 + $D$12*0 + $D$13*(-SIN($J$9*A28)) + $D$14*COS($J$9*A28) + $D$15+ $D$16*COS($J$9*B28) + $D$17*(1/TAN($J$9*B28))-F29+C28 -> 0.044834725 | H29: =$E$10*0 + $E$11*0 + $E$12*0 + $E$13*(-SIN($J$9*A28)) + $E$14*COS($J$9*A28) + $E$15+ $E$16*COS($J$9*B28) + $E$17*(1/TAN($J$9*B28))-F29+C28 -> 0.1047 | I29: =0 -> 0 | J29: 1 | K29: =0 -> 0 | L29: =-SIN(RADIANS(A28)) -> 0.59341889 | M29: =COS(RADIANS(A28)) -> 0.8048938 | N29: 1 | O29: =COS(RADIANS(B28)) -> 0.83657313 | P29: =1/TAN(RADIANS(B28)) -> 1.5269966 | R29: 8 | S29: 0 | T29: 1.1129541 | U29: 0 | V29: 7.3961595 | W29: 0 | X29: 0.73942102 | Y29: 0 | Z29: 1.5269966 | AA29: 0 | AB29: 0.93055917 | AC29: 0 | AD29: 3.3933349 | AE29: 0 | AF29: 1.4019483 | AG29: 0 | AH29: 3.4600477 | AI29: 0 | AJ29: 0.85408069 | AK29: 0 | AL29: 1.1959866 | AM29: 0 | AN29: 0.85710366 | AO29: 0 | AP29: 1.712667 | AQ29: 0 | AR29: 1.6642795
A30: =360+Observations!H19 -> 325.1 | B30: =Observations!I19 -> 47.06 | C30: =(0.0019279+1.02/TAN(RADIANS((B30+10.3/(B30+5.1)))))/60 -> 0.015742661 | D30: =Observations!F19 -> 0.05 | E30: =Observations!G19 -> 0.045 | F30: =$B$10 + $B$11*COS(RADIANS(B30)) + $B$12*SIN(RADIANS(B30)) + $B$13*SIN(RADIANS(B30))*COS(RADIANS(A30)) + $B$14*SIN(RADIANS(B30))*SIN(RADIANS(A30))+D30 -> -0.31301428 | G30: =$D$10 + $D$11*(COS($J$9*B30)) + $D$12*SIN($J$9*B30) + $D$13*SIN($J$9*B30)*COS($J$9*A30) + $D$14*SIN($J$9*B30)*SIN($J$9*A30)-F30 -> -0.00095453729 | H30: =$E$10 + $E$11*(COS($J$9*B30)) + $E$12*SIN($J$9*B30) + $E$13*SIN($J$9*B30)*COS($J$9*A30) + $E$14*SIN($J$9*B30)*SIN($J$9*A30)-F30 -> 0.0027707978 | I30: =1 -> 1 | J30: =COS(RADIANS(B30)) -> 0.68123211 | K30: =SIN(RADIANS(B30)) -> 0.73206749 | L30: =SIN(RADIANS(B30))*COS(RADIANS(A30)) -> 0.60040652 | M30: =SIN(RADIANS(B30))*SIN(RADIANS(A30)) -> -0.41884939 | N30: 0 | O30: =0 -> 0 | P30: =0 -> 0
F31: =$B$13*(-SIN(RADIANS(A30))) + $B$14*COS(RADIANS(A30)) + $B$15+ $B$16*COS(RADIANS(B30)) + $B$17*(1/TAN(RADIANS(B30)))+E30 -> -0.12387425 | G31: =$D$10*0 + $D$11*0 + $D$12*0 + $D$13*(-SIN($J$9*A30)) + $D$14*COS($J$9*A30) + $D$15+ $D$16*COS($J$9*B30) + $D$17*(1/TAN($J$9*B30))-F31+C30 -> 0.011879318 | H31: =$E$10*0 + $E$11*0 + $E$12*0 + $E$13*(-SIN($J$9*A30)) + $E$14*COS($J$9*A30) + $E$15+ $E$16*COS($J$9*B30) + $E$17*(1/TAN($J$9*B30))-F31+C30 -> 0.041388901 | I31: =0 -> 0 | J31: 0 | K31: =0 -> 0 | L31: =-SIN(RADIANS(A30)) -> 0.57214587 | M31: =COS(RADIANS(A30)) -> 0.82015188 | N31: 1 | O31: =COS(RADIANS(B30)) -> 0.68123211 | P31: =1/TAN(RADIANS(B30)) -> 0.93055917 | R31: Phi T x Phi
A32: =360+Observations!H20 -> 245.02 | B32: =Observations!I20 -> 16.42 | C32: =(0.0019279+1.02/TAN(RADIANS((B32+10.3/(B32+5.1)))))/60 -> 0.05599055 | D32: =Observations!F20 -> -0.0025 | E32: =Observations!G20 -> 0.0465 | F32: =$B$10 + $B$11*COS(RADIANS(B32)) + $B$12*SIN(RADIANS(B32)) + $B$13*SIN(RADIANS(B32))*COS(RADIANS(A32)) + $B$14*SIN(RADIANS(B32))*SIN(RADIANS(A32))+D32 -> -0.36468468 | G32: =$D$10 + $D$11*(COS($J$9*B32)) + $D$12*SIN($J$9*B32) + $D$13*SIN($J$9*B32)*COS($J$9*A32) + $D$14*SIN($J$9*B32)*SIN($J$9*A32)-F32 -> -0.02738536 | H32: =$E$10 + $E$11*(COS($J$9*B32)) + $E$12*SIN($J$9*B32) + $E$13*SIN($J$9*B32)*COS($J$9*A32) + $E$14*SIN($J$9*B32)*SIN($J$9*A32)-F32 -> -0.039220468 | I32: =1 -> 1 | J32: =COS(RADIANS(B32)) -> 0.95921536 | K32: =SIN(RADIANS(B32)) -> 0.2826763 | L32: =SIN(RADIANS(B32))*COS(RADIANS(A32)) -> -0.11937473 | M32: =SIN(RADIANS(B32))*SIN(RADIANS(A32)) -> -0.25623342 | N32: 0 | O32: =0 -> 0 | P32: =0 -> 0 | S32: 1 | T32: 2 | U32: 3 | V32: 4 | W32: 5 | X32: 6 | Y32: 7 | Z32: 8
F33: =$B$13*(-SIN(RADIANS(A32))) + $B$14*COS(RADIANS(A32)) + $B$15+ $B$16*COS(RADIANS(B32)) + $B$17*(1/TAN(RADIANS(B32)))+E32 -> -0.13232836 | G33: =$D$10*0 + $D$11*0 + $D$12*0 + $D$13*(-SIN($J$9*A32)) + $D$14*COS($J$9*A32) + $D$15+ $D$16*COS($J$9*B32) + $D$17*(1/TAN($J$9*B32))-F33+C32 -> 0.028158872 | H33: =$E$10*0 + $E$11*0 + $E$12*0 + $E$13*(-SIN($J$9*A32)) + $E$14*COS($J$9*A32) + $E$15+ $E$16*COS($J$9*B32) + $E$17*(1/TAN($J$9*B32))-F33+C32 -> 0.066802809 | I33: =0 -> 0 | J33: 1 | K33: =0 -> 0 | L33: =-SIN(RADIANS(A32)) -> 0.90645525 | M33: =COS(RADIANS(A32)) -> -0.42230187 | N33: 1 | O33: =COS(RADIANS(B32)) -> 0.95921536 | P33: =1/TAN(RADIANS(B32)) -> 3.3933349 | R33: 1 | S33: {=MMULT(S22:AR29,I22:P47)} -> 13 | T33: 10.369315 | U33: 7.2077459 | V33: 1.9811687 | W33: -2.0899484 | X33: 0 | Y33: 0 | Z33: 0
A34: =Observations!H21 -> 119.7 | B34: =Observations!I21 -> 35.5 | C34: =(0.0019279+1.02/TAN(RADIANS((B34+10.3/(B34+5.1)))))/60 -> 0.02364341 | D34: =Observations!F21 -> 0 | E34: =Observations!G21 -> 0.075 | F34: =$B$10 + $B$11*COS(RADIANS(B34)) + $B$12*SIN(RADIANS(B34)) + $B$13*SIN(RADIANS(B34))*COS(RADIANS(A34)) + $B$14*SIN(RADIANS(B34))*SIN(RADIANS(A34))+D34 -> -0.35606518 | G34: =$D$10 + $D$11*(COS($J$9*B34)) + $D$12*SIN($J$9*B34) + $D$13*SIN($J$9*B34)*COS($J$9*A34) + $D$14*SIN($J$9*B34)*SIN($J$9*A34)-F34 -> 0.001716482 | H34: =$E$10 + $E$11*(COS($J$9*B34)) + $E$12*SIN($J$9*B34) + $E$13*SIN($J$9*B34)*COS($J$9*A34) + $E$14*SIN($J$9*B34)*SIN($J$9*A34)-F34 -> 0.0030368293 | I34: =1 -> 1 | J34: =COS(RADIANS(B34)) -> 0.81411552 | K34: =SIN(RADIANS(B34)) -> 0.58070296 | L34: =SIN(RADIANS(B34))*COS(RADIANS(A34)) -> -0.28771431 | M34: =SIN(RADIANS(B34))*SIN(RADIANS(A34)) -> 0.50441689 | N34: 0 | O34: =0 -> 0 | P34: =0 -> 0 | R34: 2 | S34: 10.369315 | T34: 14.472878 | U34: 5.4326131 | V34: 3.8311024 | W34: -0.5815511 | X34: 6 | Y34: 5.3781907 | Z34: 18.685192
F35: =$B$13*(-SIN(RADIANS(A34))) + $B$14*COS(RADIANS(A34)) + $B$15+ $B$16*COS(RADIANS(B34)) + $B$17*(1/TAN(RADIANS(B34)))+E34 -> -0.1056708 | G35: =$D$10*0 + $D$11*0 + $D$12*0 + $D$13*(-SIN($J$9*A34)) + $D$14*COS($J$9*A34) + $D$15+ $D$16*COS($J$9*B34) + $D$17*(1/TAN($J$9*B34))-F35+C34 -> 0.058364897 | H35: =$E$10*0 + $E$11*0 + $E$12*0 + $E$13*(-SIN($J$9*A34)) + $E$14*COS($J$9*A34) + $E$15+ $E$16*COS($J$9*B34) + $E$17*(1/TAN($J$9*B34))-F35+C34 -> 0.01814573 | I35: =0 -> 0 | J35: 0 | K35: =0 -> 0 | L35: =-SIN(RADIANS(A34)) -> -0.86863151 | M35: =COS(RADIANS(A34)) -> -0.49545867 | N35: 1 | O35: =COS(RADIANS(B34)) -> 0.81411552 | P35: =1/TAN(RADIANS(B34)) -> 1.4019483 | R35: 3 | S35: 7.2077459 | T35: 5.4326131 | U35: 4.527122 | V35: 1.5408429 | W35: -1.4434979 | X35: 0 | Y35: 0 | Z35: 0
A36: =360+Observations!H23 -> 225 | B36: =Observations!I23 -> 16.12 | C36: =(0.0019279+1.02/TAN(RADIANS((B36+10.3/(B36+5.1)))))/60 -> 0.057037906 | D36: =Observations!F23 -> -0.055 | E36: =Observations!G23 -> 0.105 | F36: =$B$10 + $B$11*COS(RADIANS(B36)) + $B$12*SIN(RADIANS(B36)) + $B$13*SIN(RADIANS(B36))*COS(RADIANS(A36)) + $B$14*SIN(RADIANS(B36))*SIN(RADIANS(A36))+D36 -> -0.41674732 | G36: =$D$10 + $D$11*(COS($J$9*B36)) + $D$12*SIN($J$9*B36) + $D$13*SIN($J$9*B36)*COS($J$9*A36) + $D$14*SIN($J$9*B36)*SIN($J$9*A36)-F36 -> 0.023381437 | H36: =$E$10 + $E$11*(COS($J$9*B36)) + $E$12*SIN($J$9*B36) + $E$13*SIN($J$9*B36)*COS($J$9*A36) + $E$14*SIN($J$9*B36)*SIN($J$9*A36)-F36 -> 0.012971866 | I36: =1 -> 1 | J36: =COS(RADIANS(B36)) -> 0.96068229 | K36: =SIN(RADIANS(B36)) -> 0.27765001 | L36: =SIN(RADIANS(B36))*COS(RADIANS(A36)) -> -0.19632821 | M36: =SIN(RADIANS(B36))*SIN(RADIANS(A36)) -> -0.19632821 | N36: 0 | O36: =0 -> 0 | P36: =0 -> 0 | R36: 4 | S36: 1.9811687 | T36: 3.8311024 | U36: 1.5408429 | V36: 8.9086711 | W36: -0.41283549 | X36: 3.9392234 | Y36: 3.0570738 | Z36: 10.507803
F37: =$B$13*(-SIN(RADIANS(A36))) + $B$14*COS(RADIANS(A36)) + $B$15+ $B$16*COS(RADIANS(B36)) + $B$17*(1/TAN(RADIANS(B36)))+E36 -> -0.076303301 | G37: =$D$10*0 + $D$11*0 + $D$12*0 + $D$13*(-SIN($J$9*A36)) + $D$14*COS($J$9*A36) + $D$15+ $D$16*COS($J$9*B36) + $D$17*(1/TAN($J$9*B36))-F37+C36 -> -0.012280285 | H37: =$E$10*0 + $E$11*0 + $E$12*0 + $E$13*(-SIN($J$9*A36)) + $E$14*COS($J$9*A36) + $E$15+ $E$16*COS($J$9*B36) + $E$17*(1/TAN($J$9*B36))-F37+C36 -> 0.0088818 | I37: =0 -> 0 | J37: 1 | K37: =0 -> 0 | L37: =-SIN(RADIANS(A36)) -> 0.70710678 | M37: =COS(RADIANS(A36)) -> -0.70710678 | N37: 1 | O37: =COS(RADIANS(B36)) -> 0.96068229 | P37: =1/TAN(RADIANS(B36)) -> 3.4600477 | R37: 5 | S37: -2.0899484 | T37: -0.5815511 | U37: -1.4434979 | V37: -0.41283549 | W37: 8.6184509 | X37: 1.6540305 | Y37: 0.74248601 | Z37: -5.8089963
A38: =360+Observations!H24 -> 273.45 | B38: =Observations!I24 -> 49.5 | C38: =(0.0019279+1.02/TAN(RADIANS((B38+10.3/(B38+5.1)))))/60 -> 0.014454973 | D38: =Observations!F24 -> 0.08 | E38: =Observations!G24 -> 0.0925 | F38: =$B$10 + $B$11*COS(RADIANS(B38)) + $B$12*SIN(RADIANS(B38)) + $B$13*SIN(RADIANS(B38))*COS(RADIANS(A38)) + $B$14*SIN(RADIANS(B38))*SIN(RADIANS(A38))+D38 -> -0.286192 | G38: =$D$10 + $D$11*(COS($J$9*B38)) + $D$12*SIN($J$9*B38) + $D$13*SIN($J$9*B38)*COS($J$9*A38) + $D$14*SIN($J$9*B38)*SIN($J$9*A38)-F38 -> 0.0037864948 | H38: =$E$10 + $E$11*(COS($J$9*B38)) + $E$12*SIN($J$9*B38) + $E$13*SIN($J$9*B38)*COS($J$9*A38) + $E$14*SIN($J$9*B38)*SIN($J$9*A38)-F38 -> -0.014767622 | I38: =1 -> 1 | J38: =COS(RADIANS(B38)) -> 0.64944805 | K38: =SIN(RADIANS(B38)) -> 0.76040597 | L38: =SIN(RADIANS(B38))*COS(RADIANS(A38)) -> 0.045759314 | M38: =SIN(RADIANS(B38))*SIN(RADIANS(A38)) -> -0.75902788 | N38: 0 | O38: =0 -> 0 | P38: =0 -> 0 | R38: 6 | S38: 0 | T38: 6 | U38: 0 | V38: 3.9392234 | W38: 1.6540305 | X38: 13 | Y38: 10.369315 | Z38: 26.245539
F39: =$B$13*(-SIN(RADIANS(A38))) + $B$14*COS(RADIANS(A38)) + $B$15+ $B$16*COS(RADIANS(B38)) + $B$17*(1/TAN(RADIANS(B38)))+E38 -> -0.082307813 | G39: =$D$10*0 + $D$11*0 + $D$12*0 + $D$13*(-SIN($J$9*A38)) + $D$14*COS($J$9*A38) + $D$15+ $D$16*COS($J$9*B38) + $D$17*(1/TAN($J$9*B38))-F39+C38 -> -0.0079272451 | H39: =$E$10*0 + $E$11*0 + $E$12*0 + $E$13*(-SIN($J$9*A38)) + $E$14*COS($J$9*A38) + $E$15+ $E$16*COS($J$9*B38) + $E$17*(1/TAN($J$9*B38))-F39+C38 -> -0.0073939238 | I39: =0 -> 0 | J39: 0 | K39: =0 -> 0 | L39: =-SIN(RADIANS(A38)) -> 0.99818769 | M39: =COS(RADIANS(A38)) -> 0.060177479 | N39: 1 | O39: =COS(RADIANS(B38)) -> 0.64944805 | P39: =1/TAN(RADIANS(B38)) -> 0.85408069 | R39: 7 | S39: 0 | T39: 5.3781907 | U39: 0 | V39: 3.0570738 | W39: 0.74248601 | X39: 10.369315 | Y39: 8.472878 | Z39: 23.164175
A40: =Observations!H25 -> 5.3 | B40: =Observations!I25 -> 39.9 | C40: =(0.0019279+1.02/TAN(RADIANS((B40+10.3/(B40+5.1)))))/60 -> 0.020199634 | D40: =Observations!F25 -> 0 | E40: =Observations!G25 -> 0.05 | F40: =$B$10 + $B$11*COS(RADIANS(B40)) + $B$12*SIN(RADIANS(B40)) + $B$13*SIN(RADIANS(B40))*COS(RADIANS(A40)) + $B$14*SIN(RADIANS(B40))*SIN(RADIANS(A40))+D40 -> -0.35906705 | G40: =$D$10 + $D$11*(COS($J$9*B40)) + $D$12*SIN($J$9*B40) + $D$13*SIN($J$9*B40)*COS($J$9*A40) + $D$14*SIN($J$9*B40)*SIN($J$9*A40)-F40 -> 0.0094789278 | H40: =$E$10 + $E$11*(COS($J$9*B40)) + $E$12*SIN($J$9*B40) + $E$13*SIN($J$9*B40)*COS($J$9*A40) + $E$14*SIN($J$9*B40)*SIN($J$9*A40)-F40 -> 0.020086129 | I40: =1 -> 1 | J40: =COS(RADIANS(B40)) -> 0.76716515 | K40: =SIN(RADIANS(B40)) -> 0.64144963 | L40: =SIN(RADIANS(B40))*COS(RADIANS(A40)) -> 0.63870724 | M40: =SIN(RADIANS(B40))*SIN(RADIANS(A40)) -> 0.059251079 | N40: 0 | O40: =0 -> 0 | P40: =0 -> 0 | R40: 8 | S40: 0 | T40: 18.685192 | U40: 0 | V40: 10.507803 | W40: -5.8089963 | X40: 26.245539 | Y40: 23.164175 | Z40: 93.735875
F41: =$B$13*(-SIN(RADIANS(A40))) + $B$14*COS(RADIANS(A40)) + $B$15+ $B$16*COS(RADIANS(B40)) + $B$17*(1/TAN(RADIANS(B40)))+E40 -> -0.11789972 | G41: =$D$10*0 + $D$11*0 + $D$12*0 + $D$13*(-SIN($J$9*A40)) + $D$14*COS($J$9*A40) + $D$15+ $D$16*COS($J$9*B40) + $D$17*(1/TAN($J$9*B40))-F41+C40 -> 0.0034596441 | H41: =$E$10*0 + $E$11*0 + $E$12*0 + $E$13*(-SIN($J$9*A40)) + $E$14*COS($J$9*A40) + $E$15+ $E$16*COS($J$9*B40) + $E$17*(1/TAN($J$9*B40))-F41+C40 -> 0.040398127 | I41: =0 -> 0 | J41: 1 | K41: =0 -> 0 | L41: =-SIN(RADIANS(A40)) -> -0.092370587 | M41: =COS(RADIANS(A40)) -> 0.9957247 | N41: 1 | O41: =COS(RADIANS(B40)) -> 0.76716515 | P41: =1/TAN(RADIANS(B40)) -> 1.1959866
A42: =Observations!H26 -> 25 | B42: =Observations!I26 -> 49.4 | C42: =(0.0019279+1.02/TAN(RADIANS((B42+10.3/(B42+5.1)))))/60 -> 0.014505899 | D42: =Observations!F26 -> 0.05 | E42: =Observations!G26 -> 0.1 | F42: =$B$10 + $B$11*COS(RADIANS(B42)) + $B$12*SIN(RADIANS(B42)) + $B$13*SIN(RADIANS(B42))*COS(RADIANS(A42)) + $B$14*SIN(RADIANS(B42))*SIN(RADIANS(A42))+D42 -> -0.30688707 | G42: =$D$10 + $D$11*(COS($J$9*B42)) + $D$12*SIN($J$9*B42) + $D$13*SIN($J$9*B42)*COS($J$9*A42) + $D$14*SIN($J$9*B42)*SIN($J$9*A42)-F42 -> -0.03106292 | H42: =$E$10 + $E$11*(COS($J$9*B42)) + $E$12*SIN($J$9*B42) + $E$13*SIN($J$9*B42)*COS($J$9*A42) + $E$14*SIN($J$9*B42)*SIN($J$9*A42)-F42 -> 0.014708992 | I42: =1 -> 1 | J42: =COS(RADIANS(B42)) -> 0.65077422 | K42: =SIN(RADIANS(B42)) -> 0.75927131 | L42: =SIN(RADIANS(B42))*COS(RADIANS(A42)) -> 0.6881335 | M42: =SIN(RADIANS(B42))*SIN(RADIANS(A42)) -> 0.32088192 | N42: 0 | O42: =0 -> 0 | P42: =0 -> 0 | R42: Inverse of Phi T x Phi
F43: =$B$13*(-SIN(RADIANS(A42))) + $B$14*COS(RADIANS(A42)) + $B$15+ $B$16*COS(RADIANS(B42)) + $B$17*(1/TAN(RADIANS(B42)))+E42 -> -0.068864109 | G43: =$D$10*0 + $D$11*0 + $D$12*0 + $D$13*(-SIN($J$9*A42)) + $D$14*COS($J$9*A42) + $D$15+ $D$16*COS($J$9*B42) + $D$17*(1/TAN($J$9*B42))-F43+C42 -> -0.016513802 | H43: =$E$10*0 + $E$11*0 + $E$12*0 + $E$13*(-SIN($J$9*A42)) + $E$14*COS($J$9*A42) + $E$15+ $E$16*COS($J$9*B42) + $E$17*(1/TAN($J$9*B42))-F43+C42 -> -0.014841956 | I43: =0 -> 0 | J43: 0 | K43: =0 -> 0 | L43: =-SIN(RADIANS(A42)) -> -0.42261826 | M43: =COS(RADIANS(A42)) -> 0.90630779 | N43: 1 | O43: =COS(RADIANS(B42)) -> 0.65077422 | P43: =1/TAN(RADIANS(B42)) -> 0.85710366 | S43: 1 | T43: 2 | U43: 3 | V43: 4 | W43: 5 | X43: 6 | Y43: 7 | Z43: 8
A44: =Observations!H27 -> 10.22 | B44: =Observations!I27 -> 30.28 | C44: =(0.0019279+1.02/TAN(RADIANS((B44+10.3/(B44+5.1)))))/60 -> 0.028810653 | D44: =Observations!F27 -> -0.035 | E44: =Observations!G27 -> 0.085 | F44: =$B$10 + $B$11*COS(RADIANS(B44)) + $B$12*SIN(RADIANS(B44)) + $B$13*SIN(RADIANS(B44))*COS(RADIANS(A44)) + $B$14*SIN(RADIANS(B44))*SIN(RADIANS(A44))+D44 -> -0.39391904 | G44: =$D$10 + $D$11*(COS($J$9*B44)) + $D$12*SIN($J$9*B44) + $D$13*SIN($J$9*B44)*COS($J$9*A44) + $D$14*SIN($J$9*B44)*SIN($J$9*A44)-F44 -> 0.019588461 | H44: =$E$10 + $E$11*(COS($J$9*B44)) + $E$12*SIN($J$9*B44) + $E$13*SIN($J$9*B44)*COS($J$9*A44) + $E$14*SIN($J$9*B44)*SIN($J$9*A44)-F44 -> 0.020975918 | I44: =1 -> 1 | J44: =COS(RADIANS(B44)) -> 0.86357161 | K44: =SIN(RADIANS(B44)) -> 0.50422621 | L44: =SIN(RADIANS(B44))*COS(RADIANS(A44)) -> 0.49622602 | M44: =SIN(RADIANS(B44))*SIN(RADIANS(A44)) -> 0.089463989 | N44: 0 | O44: =0 -> 0 | P44: =0 -> 0 | R44: 1 | S44: {=MINVERSE(S33:Z40)} -> 2.3274829 | T44: -1.4612347 | U44: -1.9024601 | V44: 0.26905254 | W44: 0.443008 | X44: -3.8419339 | Y44: 5.436706 | Z44: 0.020766313
F45: =$B$13*(-SIN(RADIANS(A44))) + $B$14*COS(RADIANS(A44)) + $B$15+ $B$16*COS(RADIANS(B44)) + $B$17*(1/TAN(RADIANS(B44)))+E44 -> -0.083054303 | G45: =$D$10*0 + $D$11*0 + $D$12*0 + $D$13*(-SIN($J$9*A44)) + $D$14*COS($J$9*A44) + $D$15+ $D$16*COS($J$9*B44) + $D$17*(1/TAN($J$9*B44))-F45+C44 -> -0.041381819 | H45: =$E$10*0 + $E$11*0 + $E$12*0 + $E$13*(-SIN($J$9*A44)) + $E$14*COS($J$9*A44) + $E$15+ $E$16*COS($J$9*B44) + $E$17*(1/TAN($J$9*B44))-F45+C44 -> 0.011884917 | I45: =0 -> 0 | J45: 1 | K45: =0 -> 0 | L45: =-SIN(RADIANS(A44)) -> -0.17742828 | M45: =COS(RADIANS(A44)) -> 0.98413373 | N45: 1 | O45: =COS(RADIANS(B44)) -> 0.86357161 | P45: =1/TAN(RADIANS(B44)) -> 1.712667 | R45: 2 | S45: -1.4612347 | T45: 1.2917878 | U45: 0.71082832 | V45: -0.1940606 | W45: -0.41249444 | X45: 3.3298082 | Y45: -4.7029489 | Z45: -0.031439553
A46: =Observations!H28 -> 122.8 | B46: =Observations!I28 -> 31 | C46: =(0.0019279+1.02/TAN(RADIANS((B46+10.3/(B46+5.1)))))/60 -> 0.028008366 | D46: =Observations!F28 -> -0.035 | E46: =Observations!G28 -> 0.1 | F46: =$B$10 + $B$11*COS(RADIANS(B46)) + $B$12*SIN(RADIANS(B46)) + $B$13*SIN(RADIANS(B46))*COS(RADIANS(A46)) + $B$14*SIN(RADIANS(B46))*SIN(RADIANS(A46))+D46 -> -0.39164533 | G46: =$D$10 + $D$11*(COS($J$9*B46)) + $D$12*SIN($J$9*B46) + $D$13*SIN($J$9*B46)*COS($J$9*A46) + $D$14*SIN($J$9*B46)*SIN($J$9*A46)-F46 -> 0.026546682 | H46: =$E$10 + $E$11*(COS($J$9*B46)) + $E$12*SIN($J$9*B46) + $E$13*SIN($J$9*B46)*COS($J$9*A46) + $E$14*SIN($J$9*B46)*SIN($J$9*A46)-F46 -> 0.023119866 | I46: =1 -> 1 | J46: =COS(RADIANS(B46)) -> 0.8571673 | K46: =SIN(RADIANS(B46)) -> 0.51503807 | L46: =SIN(RADIANS(B46))*COS(RADIANS(A46)) -> -0.27900035 | M46: =SIN(RADIANS(B46))*SIN(RADIANS(A46)) -> 0.43292381 | N46: 0 | O46: =0 -> 0 | P46: =0 -> 0 | R46: 3 | S46: -1.9024601 | T46: 0.71082832 | U46: 2.4357196 | V46: -0.24010331 | W46: -0.13436493 | X46: 1.9990653 | Y46: -2.8745928 | Z46: 0.027540054
F47: =$B$13*(-SIN(RADIANS(A46))) + $B$14*COS(RADIANS(A46)) + $B$15+ $B$16*COS(RADIANS(B46)) + $B$17*(1/TAN(RADIANS(B46)))+E46 -> -0.081030404 | G47: =$D$10*0 + $D$11*0 + $D$12*0 + $D$13*(-SIN($J$9*A46)) + $D$14*COS($J$9*A46) + $D$15+ $D$16*COS($J$9*B46) + $D$17*(1/TAN($J$9*B46))-F47+C46 -> 0.029346802 | H47: =$E$10*0 + $E$11*0 + $E$12*0 + $E$13*(-SIN($J$9*A46)) + $E$14*COS($J$9*A46) + $E$15+ $E$16*COS($J$9*B46) + $E$17*(1/TAN($J$9*B46))-F47+C46 -> -0.0036720507 | I47: =0 -> 0 | J47: 0 | K47: =0 -> 0 | L47: =-SIN(RADIANS(A46)) -> -0.8405666 | M47: =COS(RADIANS(A46)) -> -0.54170821 | N47: 1 | O47: =COS(RADIANS(B46)) -> 0.8571673 | P47: =1/TAN(RADIANS(B46)) -> 1.6642795 | R47: 4 | S47: 0.26905254 | T47: -0.1940606 | U47: -0.24010331 | V47: 0.18911034 | W47: 0.061945763 | X47: -0.83769559 | Y47: 1.1565571 | Z47: -0.029936784
R48: 5 | S48: 0.443008 | T48: -0.41249444 | U48: -0.13436493 | V48: 0.061945763 | W48: 0.30435005 | X48: -1.2766681 | Y48: 1.6664617 | Z48: 0.03978439
...

Sheet 8 component model corrections
A1: Solution
A2: -0.49525646 | B2: -0.36
A3: 0.030049052 | B3: 0
A4: 0.2195617 | B4: 0
A5: -0.025164705 | B5: 0.0007
A6: -0.036271602 | B6: 0.0082
A7: 0.043509767 | B7: -0.176
A8: -0.17528946 | B8: 0
A9: -0.008262181 | B9: 0
A10: Az corrections (old - new)
A11: Az/El | B11: 0 | C11: 15 | D11: 30 | E11: 45 | F11: 60 | G11: 75 | H11: 90 | I11: 105 | J11: 120 | K11: 135 | L11: 150 | M11: 165 | N11: 180 | O11: 195 | P11: 210 | Q11: 225 | R11: 240 | S11: 255 | T11: 270 | U11: 285 | V11: 300 | W11: 315 | X11: 330 | Y11: 345 | Z11: 360
A12: 5 | B12: =$A$2 + $A$3*(COS(RADIANS($A12))) + $A$4*SIN(RADIANS($A12)) + $A$5*SIN(RADIANS($A12))*COS(RADIANS(B$11)) + $A$6*SIN(RADIANS($A12))*SIN(RADIANS(B$11)) - ($B$2 + $B$3*(COS(RADIANS($A12))) + $B$4*SIN(RADIANS($A12)) + $B$5*SIN(RADIANS($A12))*COS(RADIANS(B$11)) + $B$6*SIN(RADIANS($A12))*SIN(RADIANS(B$11))) -> -0.088439953 | C12: =$A$2 + $A$3*(COS(RADIANS($A12))) + $A$4*SIN(RADIANS($A12)) + $A$5*SIN(RADIANS($A12))*COS(RADIANS(C$11)) + $A$6*SIN(RADIANS($A12))*SIN(RADIANS(C$11)) - ($B$2 + $B$3*(COS(RADIANS($A12))) + $B$4*SIN(RADIANS($A12)) + $B$5*SIN(RADIANS($A12))*COS(RADIANS(C$11)) + $B$6*SIN(RADIANS($A12))*SIN(RADIANS(C$11))) -> -0.089366312 | D12: =$A$2 + $A$3*(COS(RADIANS($A12))) + $A$4*SIN(RADIANS($A12)) + $A$5*SIN(RADIANS($A12))*COS(RADIANS(D$11)) + $A$6*SIN(RADIANS($A12))*SIN(RADIANS(D$11)) - ($B$2 + $B$3*(COS(RADIANS($A12))) + $B$4*SIN(RADIANS($A12)) + $B$5*SIN(RADIANS($A12))*COS(RADIANS(D$11)) + $B$6*SIN(RADIANS($A12))*SIN(RADIANS(D$11))) -> -0.090075917 | E12: =$A$2 + $A$3*(COS(RADIANS($A12))) + $A$4*SIN(RADIANS($A12)) + $A$5*SIN(RADIANS($A12))*COS(RADIANS(E$11)) + $A$6*SIN(RADIANS($A12))*SIN(RADIANS(E$11)) - ($B$2 + $B$3*(COS(RADIANS($A12))) + $B$4*SIN(RADIANS($A12)) + $B$5*SIN(RADIANS($A12))*COS(RADIANS(E$11)) + $B$6*SIN(RADIANS($A12))*SIN(RADIANS(E$11))) -> -0.090520411 | F12: =$A$2 + $A$3*(COS(RADIANS($A12))) + $A$4*SIN(RADIANS($A12)) + $A$5*SIN(RADIANS($A12))*COS(RADIANS(F$11)) + $A$6*SIN(RADIANS($A12))*SIN(RADIANS(F$11)) - ($B$2 + $B$3*(COS(RADIANS($A12))) + $B$4*SIN(RADIANS($A12)) + $B$5*SIN(RADIANS($A12))*COS(RADIANS(F$11)) + $B$6*SIN(RADIANS($A12))*SIN(RADIANS(F$11))) -> -0.0906695 | G12: =$A$2 + $A$3*(COS(RADIANS($A12))) + $A$4*SIN(RADIANS($A12)) + $A$5*SIN(RADIANS($A12))*COS(RADIANS(G$11)) + $A$6*SIN(RADIANS($A12))*SIN(RADIANS(G$11)) - ($B$2 + $B$3*(COS(RADIANS($A12))) + $B$4*SIN(RADIANS($A12)) + $B$5*SIN(RADIANS($A12))*COS(RADIANS(G$11)) + $B$6*SIN(RADIANS($A12))*SIN(RADIANS(G$11))) -> -0.090513026 | H12: =$A$2 + $A$3*(COS(RADIANS($A12))) + $A$4*SIN(RADIANS($A12)) + $A$5*SIN(RADIANS($A12))*COS(RADIANS(H$11)) + $A$6*SIN(RADIANS($A12))*SIN(RADIANS(H$11)) - ($B$2 + $B$3*(COS(RADIANS($A12))) + $B$4*SIN(RADIANS($A12)) + $B$5*SIN(RADIANS($A12))*COS(RADIANS(H$11)) + $B$6*SIN(RADIANS($A12))*SIN(RADIANS(H$11))) -> -0.090061651 | I12: =$A$2 + $A$3*(COS(RADIANS($A12))) + $A$4*SIN(RADIANS($A12)) + $A$5*SIN(RADIANS($A12))*COS(RADIANS(I$11)) + $A$6*SIN(RADIANS($A12))*SIN(RADIANS(I$11)) - ($B$2 + $B$3*(COS(RADIANS($A12))) + $B$4*SIN(RADIANS($A12)) + $B$5*SIN(RADIANS($A12))*COS(RADIANS(I$11)) + $B$6*SIN(RADIANS($A12))*SIN(RADIANS(I$11))) -> -0.089346136 | ... Z12: =$A$2 + $A$3*(COS(RADIANS($A12))) + $A$4*SIN(RADIANS($A12)) + $A$5*SIN(RADIANS($A12))*COS(RADIANS(Z$11)) + $A$6*SIN(RADIANS($A12))*SIN(RADIANS(Z$11)) - ($B$2 + $B$3*(COS(RADIANS($A12))) + $B$4*SIN(RADIANS($A12)) + $B$5*SIN(RADIANS($A12))*COS(RADIANS(Z$11)) + $B$6*SIN(RADIANS($A12))*SIN(RADIANS(Z$11))) -> -0.088439953
A13: 10 | B13: =$A$2 + $A$3*(COS(RADIANS($A13))) + $A$4*SIN(RADIANS($A13)) + $A$5*SIN(RADIANS($A13))*COS(RADIANS(B$11)) + $A$6*SIN(RADIANS($A13))*SIN(RADIANS(B$11)) - ($B$2 + $B$3*(COS(RADIANS($A13))) + $B$4*SIN(RADIANS($A13)) + $B$5*SIN(RADIANS($A13))*COS(RADIANS(B$11)) + $B$6*SIN(RADIANS($A13))*SIN(RADIANS(B$11))) -> -0.072028795 | C13: =$A$2 + $A$3*(COS(RADIANS($A13))) + $A$4*SIN(RADIANS($A13)) + $A$5*SIN(RADIANS($A13))*COS(RADIANS(C$11)) + $A$6*SIN(RADIANS($A13))*SIN(RADIANS(C$11)) - ($B$2 + $B$3*(COS(RADIANS($A13))) + $B$4*SIN(RADIANS($A13)) + $B$5*SIN(RADIANS($A13))*COS(RADIANS(C$11)) + $B$6*SIN(RADIANS($A13))*SIN(RADIANS(C$11))) -> -0.073874463 | D13: =$A$2 + $A$3*(COS(RADIANS($A13))) + $A$4*SIN(RADIANS($A13)) + $A$5*SIN(RADIANS($A13))*COS(RADIANS(D$11)) + $A$6*SIN(RADIANS($A13))*SIN(RADIANS(D$11)) - ($B$2 + $B$3*(COS(RADIANS($A13))) + $B$4*SIN(RADIANS($A13)) + $B$5*SIN(RADIANS($A13))*COS(RADIANS(D$11)) + $B$6*SIN(RADIANS($A13))*SIN(RADIANS(D$11))) -> -0.075288273 | E13: =$A$2 + $A$3*(COS(RADIANS($A13))) + $A$4*SIN(RADIANS($A13)) + $A$5*SIN(RADIANS($A13))*COS(RADIANS(E$11)) + $A$6*SIN(RADIANS($A13))*SIN(RADIANS(E$11)) - ($B$2 + $B$3*(COS(RADIANS($A13))) + $B$4*SIN(RADIANS($A13)) + $B$5*SIN(RADIANS($A13))*COS(RADIANS(E$11)) + $B$6*SIN(RADIANS($A13))*SIN(RADIANS(E$11))) -> -0.076173877 | F13: =$A$2 + $A$3*(COS(RADIANS($A13))) + $A$4*SIN(RADIANS($A13)) + $A$5*SIN(RADIANS($A13))*COS(RADIANS(F$11)) + $A$6*SIN(RADIANS($A13))*SIN(RADIANS(F$11)) - ($B$2 + $B$3*(COS(RADIANS($A13))) + $B$4*SIN(RADIANS($A13)) + $B$5*SIN(RADIANS($A13))*COS(RADIANS(F$11)) + $B$6*SIN(RADIANS($A13))*SIN(RADIANS(F$11))) -> -0.076470921 | G13: =$A$2 + $A$3*(COS(RADIANS($A13))) + $A$4*SIN(RADIANS($A13)) + $A$5*SIN(RADIANS($A13))*COS(RADIANS(G$11)) + $A$6*SIN(RADIANS($A13))*SIN(RADIANS(G$11)) - ($B$2 + $B$3*(COS(RADIANS($A13))) + $B$4*SIN(RADIANS($A13)) + $B$5*SIN(RADIANS($A13))*COS(RADIANS(G$11)) + $B$6*SIN(RADIANS($A13))*SIN(RADIANS(G$11))) -> -0.076159163 | H13: =$A$2 + $A$3*(COS(RADIANS($A13))) + $A$4*SIN(RADIANS($A13)) + $A$5*SIN(RADIANS($A13))*COS(RADIANS(H$11)) + $A$6*SIN(RADIANS($A13))*SIN(RADIANS(H$11)) - ($B$2 + $B$3*(COS(RADIANS($A13))) + $B$4*SIN(RADIANS($A13)) + $B$5*SIN(RADIANS($A13))*COS(RADIANS(H$11)) + $B$6*SIN(RADIANS($A13))*SIN(RADIANS(H$11))) -> -0.075259849 | I13: =$A$2 + $A$3*(COS(RADIANS($A13))) + $A$4*SIN(RADIANS($A13)) + $A$5*SIN(RADIANS($A13))*COS(RADIANS(I$11)) + $A$6*SIN(RADIANS($A13))*SIN(RADIANS(I$11)) - ($B$2 + $B$3*(COS(RADIANS($A13))) + $B$4*SIN(RADIANS($A13)) + $B$5*SIN(RADIANS($A13))*COS(RADIANS(I$11)) + $B$6*SIN(RADIANS($A13))*SIN(RADIANS(I$11))) -> -0.073834265 | ... Z13: =$A$2 + $A$3*(COS(RADIANS($A13))) + $A$4*SIN(RADIANS($A13)) + $A$5*SIN(RADIANS($A13))*COS(RADIANS(Z$11)) + $A$6*SIN(RADIANS($A13))*SIN(RADIANS(Z$11)) - ($B$2 + $B$3*(COS(RADIANS($A13))) + $B$4*SIN(RADIANS($A13)) + $B$5*SIN(RADIANS($A13))*COS(RADIANS(Z$11)) + $B$6*SIN(RADIANS($A13))*SIN(RADIANS(Z$11))) -> -0.072028795
A14: 15 | B14: =$A$2 + $A$3*(COS(RADIANS($A14))) + $A$4*SIN(RADIANS($A14)) + $A$5*SIN(RADIANS($A14))*COS(RADIANS(B$11)) + $A$6*SIN(RADIANS($A14))*SIN(RADIANS(B$11)) - ($B$2 + $B$3*(COS(RADIANS($A14))) + $B$4*SIN(RADIANS($A14)) + $B$5*SIN(RADIANS($A14))*COS(RADIANS(B$11)) + $B$6*SIN(RADIANS($A14))*SIN(RADIANS(B$11))) -> -0.056098838 | C14: =$A$2 + $A$3*(COS(RADIANS($A14))) + $A$4*SIN(RADIANS($A14)) + $A$5*SIN(RADIANS($A14))*COS(RADIANS(C$11)) + $A$6*SIN(RADIANS($A14))*SIN(RADIANS(C$11)) - ($B$2 + $B$3*(COS(RADIANS($A14))) + $B$4*SIN(RADIANS($A14)) + $B$5*SIN(RADIANS($A14))*COS(RADIANS(C$11)) + $B$6*SIN(RADIANS($A14))*SIN(RADIANS(C$11))) -> -0.058849768 | D14: =$A$2 + $A$3*(COS(RADIANS($A14))) + $A$4*SIN(RADIANS($A14)) + $A$5*SIN(RADIANS($A14))*COS(RADIANS(D$11)) + $A$6*SIN(RADIANS($A14))*SIN(RADIANS(D$11)) - ($B$2 + $B$3*(COS(RADIANS($A14))) + $B$4*SIN(RADIANS($A14)) + $B$5*SIN(RADIANS($A14))*COS(RADIANS(D$11)) + $B$6*SIN(RADIANS($A14))*SIN(RADIANS(D$11))) -> -0.060957024 | E14: =$A$2 + $A$3*(COS(RADIANS($A14))) + $A$4*SIN(RADIANS($A14)) + $A$5*SIN(RADIANS($A14))*COS(RADIANS(E$11)) + $A$6*SIN(RADIANS($A14))*SIN(RADIANS(E$11)) - ($B$2 + $B$3*(COS(RADIANS($A14))) + $B$4*SIN(RADIANS($A14)) + $B$5*SIN(RADIANS($A14))*COS(RADIANS(E$11)) + $B$6*SIN(RADIANS($A14))*SIN(RADIANS(E$11))) -> -0.062276997 | F14: =$A$2 + $A$3*(COS(RADIANS($A14))) + $A$4*SIN(RADIANS($A14)) + $A$5*SIN(RADIANS($A14))*COS(RADIANS(F$11)) + $A$6*SIN(RADIANS($A14))*SIN(RADIANS(F$11)) - ($B$2 + $B$3*(COS(RADIANS($A14))) + $B$4*SIN(RADIANS($A14)) + $B$5*SIN(RADIANS($A14))*COS(RADIANS(F$11)) + $B$6*SIN(RADIANS($A14))*SIN(RADIANS(F$11))) -> -0.062719736 | G14: =$A$2 + $A$3*(COS(RADIANS($A14))) + $A$4*SIN(RADIANS($A14)) + $A$5*SIN(RADIANS($A14))*COS(RADIANS(G$11)) + $A$6*SIN(RADIANS($A14))*SIN(RADIANS(G$11)) - ($B$2 + $B$3*(COS(RADIANS($A14))) + $B$4*SIN(RADIANS($A14)) + $B$5*SIN(RADIANS($A14))*COS(RADIANS(G$11)) + $B$6*SIN(RADIANS($A14))*SIN(RADIANS(G$11))) -> -0.062255067 | H14: =$A$2 + $A$3*(COS(RADIANS($A14))) + $A$4*SIN(RADIANS($A14)) + $A$5*SIN(RADIANS($A14))*COS(RADIANS(H$11)) + $A$6*SIN(RADIANS($A14))*SIN(RADIANS(H$11)) - ($B$2 + $B$3*(COS(RADIANS($A14))) + $B$4*SIN(RADIANS($A14)) + $B$5*SIN(RADIANS($A14))*COS(RADIANS(H$11)) + $B$6*SIN(RADIANS($A14))*SIN(RADIANS(H$11))) -> -0.060914657 | I14: =$A$2 + $A$3*(COS(RADIANS($A14))) + $A$4*SIN(RADIANS($A14)) + $A$5*SIN(RADIANS($A14))*COS(RADIANS(I$11)) + $A$6*SIN(RADIANS($A14))*SIN(RADIANS(I$11)) - ($B$2 + $B$3*(COS(RADIANS($A14))) + $B$4*SIN(RADIANS($A14)) + $B$5*SIN(RADIANS($A14))*COS(RADIANS(I$11)) + $B$6*SIN(RADIANS($A14))*SIN(RADIANS(I$11))) -> -0.058789853 | ... Z14: =$A$2 + $A$3*(COS(RADIANS($A14))) + $A$4*SIN(RADIANS($A14)) + $A$5*SIN(RADIANS($A14))*COS(RADIANS(Z$11)) + $A$6*SIN(RADIANS($A14))*SIN(RADIANS(Z$11)) - ($B$2 + $B$3*(COS(RADIANS($A14))) + $B$4*SIN(RADIANS($A14)) + $B$5*SIN(RADIANS($A14))*COS(RADIANS(Z$11)) + $B$6*SIN(RADIANS($A14))*SIN(RADIANS(Z$11))) -> -0.056098838
A15: 20 | B15: =$A$2 + $A$3*(COS(RADIANS($A15))) + $A$4*SIN(RADIANS($A15)) + $A$5*SIN(RADIANS($A15))*COS(RADIANS(B$11)) + $A$6*SIN(RADIANS($A15))*SIN(RADIANS(B$11)) - ($B$2 + $B$3*(COS(RADIANS($A15))) + $B$4*SIN(RADIANS($A15)) + $B$5*SIN(RADIANS($A15))*COS(RADIANS(B$11)) + $B$6*SIN(RADIANS($A15))*SIN(RADIANS(B$11))) -> -0.040771318 | C15: =$A$2 + $A$3*(COS(RADIANS($A15))) + $A$4*SIN(RADIANS($A15)) + $A$5*SIN(RADIANS($A15))*COS(RADIANS(C$11)) + $A$6*SIN(RADIANS($A15))*SIN(RADIANS(C$11)) - ($B$2 + $B$3*(COS(RADIANS($A15))) + $B$4*SIN(RADIANS($A15)) + $B$5*SIN(RADIANS($A15))*COS(RADIANS(C$11)) + $B$6*SIN(RADIANS($A15))*SIN(RADIANS(C$11))) -> -0.044406575 | D15: =$A$2 + $A$3*(COS(RADIANS($A15))) + $A$4*SIN(RADIANS($A15)) + $A$5*SIN(RADIANS($A15))*COS(RADIANS(D$11)) + $A$6*SIN(RADIANS($A15))*SIN(RADIANS(D$11)) - ($B$2 + $B$3*(COS(RADIANS($A15))) + $B$4*SIN(RADIANS($A15)) + $B$5*SIN(RADIANS($A15))*COS(RADIANS(D$11)) + $B$6*SIN(RADIANS($A15))*SIN(RADIANS(D$11))) -> -0.047191237 | E15: =$A$2 + $A$3*(COS(RADIANS($A15))) + $A$4*SIN(RADIANS($A15)) + $A$5*SIN(RADIANS($A15))*COS(RADIANS(E$11)) + $A$6*SIN(RADIANS($A15))*SIN(RADIANS(E$11)) - ($B$2 + $B$3*(COS(RADIANS($A15))) + $B$4*SIN(RADIANS($A15)) + $B$5*SIN(RADIANS($A15))*COS(RADIANS(E$11)) + $B$6*SIN(RADIANS($A15))*SIN(RADIANS(E$11))) -> -0.048935536 | F15: =$A$2 + $A$3*(COS(RADIANS($A15))) + $A$4*SIN(RADIANS($A15)) + $A$5*SIN(RADIANS($A15))*COS(RADIANS(F$11)) + $A$6*SIN(RADIANS($A15))*SIN(RADIANS(F$11)) - ($B$2 + $B$3*(COS(RADIANS($A15))) + $B$4*SIN(RADIANS($A15)) + $B$5*SIN(RADIANS($A15))*COS(RADIANS(F$11)) + $B$6*SIN(RADIANS($A15))*SIN(RADIANS(F$11))) -> -0.049520599 | G15: =$A$2 + $A$3*(COS(RADIANS($A15))) + $A$4*SIN(RADIANS($A15)) + $A$5*SIN(RADIANS($A15))*COS(RADIANS(G$11)) + $A$6*SIN(RADIANS($A15))*SIN(RADIANS(G$11)) - ($B$2 + $B$3*(COS(RADIANS($A15))) + $B$4*SIN(RADIANS($A15)) + $B$5*SIN(RADIANS($A15))*COS(RADIANS(G$11)) + $B$6*SIN(RADIANS($A15))*SIN(RADIANS(G$11))) -> -0.048906555 | H15: =$A$2 + $A$3*(COS(RADIANS($A15))) + $A$4*SIN(RADIANS($A15)) + $A$5*SIN(RADIANS($A15))*COS(RADIANS(H$11)) + $A$6*SIN(RADIANS($A15))*SIN(RADIANS(H$11)) - ($B$2 + $B$3*(COS(RADIANS($A15))) + $B$4*SIN(RADIANS($A15)) + $B$5*SIN(RADIANS($A15))*COS(RADIANS(H$11)) + $B$6*SIN(RADIANS($A15))*SIN(RADIANS(H$11))) -> -0.047135252 | I15: =$A$2 + $A$3*(COS(RADIANS($A15))) + $A$4*SIN(RADIANS($A15)) + $A$5*SIN(RADIANS($A15))*COS(RADIANS(I$11)) + $A$6*SIN(RADIANS($A15))*SIN(RADIANS(I$11)) - ($B$2 + $B$3*(COS(RADIANS($A15))) + $B$4*SIN(RADIANS($A15)) + $B$5*SIN(RADIANS($A15))*COS(RADIANS(I$11)) + $B$6*SIN(RADIANS($A15))*SIN(RADIANS(I$11))) -> -0.044327399 | ... Z15: =$A$2 + $A$3*(COS(RADIANS($A15))) + $A$4*SIN(RADIANS($A15)) + $A$5*SIN(RADIANS($A15))*COS(RADIANS(Z$11)) + $A$6*SIN(RADIANS($A15))*SIN(RADIANS(Z$11)) - ($B$2 + $B$3*(COS(RADIANS($A15))) + $B$4*SIN(RADIANS($A15)) + $B$5*SIN(RADIANS($A15))*COS(RADIANS(Z$11)) + $B$6*SIN(RADIANS($A15))*SIN(RADIANS(Z$11))) -> -0.040771318
A16: 25 | B16: =$A$2 + $A$3*(COS(RADIANS($A16))) + $A$4*SIN(RADIANS($A16)) + $A$5*SIN(RADIANS($A16))*COS(RADIANS(B$11)) + $A$6*SIN(RADIANS($A16))*SIN(RADIANS(B$11)) - ($B$2 + $B$3*(COS(RADIANS($A16))) + $B$4*SIN(RADIANS($A16)) + $B$5*SIN(RADIANS($A16))*COS(RADIANS(B$11)) + $B$6*SIN(RADIANS($A16))*SIN(RADIANS(B$11))) -> -0.026162887 | C16: =$A$2 + $A$3*(COS(RADIANS($A16))) + $A$4*SIN(RADIANS($A16)) + $A$5*SIN(RADIANS($A16))*COS(RADIANS(C$11)) + $A$6*SIN(RADIANS($A16))*SIN(RADIANS(C$11)) - ($B$2 + $B$3*(COS(RADIANS($A16))) + $B$4*SIN(RADIANS($A16)) + $B$5*SIN(RADIANS($A16))*COS(RADIANS(C$11)) + $B$6*SIN(RADIANS($A16))*SIN(RADIANS(C$11))) -> -0.030654804 | D16: =$A$2 + $A$3*(COS(RADIANS($A16))) + $A$4*SIN(RADIANS($A16)) + $A$5*SIN(RADIANS($A16))*COS(RADIANS(D$11)) + $A$6*SIN(RADIANS($A16))*SIN(RADIANS(D$11)) - ($B$2 + $B$3*(COS(RADIANS($A16))) + $B$4*SIN(RADIANS($A16)) + $B$5*SIN(RADIANS($A16))*COS(RADIANS(D$11)) + $B$6*SIN(RADIANS($A16))*SIN(RADIANS(D$11))) -> -0.034095681 | E16: =$A$2 + $A$3*(COS(RADIANS($A16))) + $A$4*SIN(RADIANS($A16)) + $A$5*SIN(RADIANS($A16))*COS(RADIANS(E$11)) + $A$6*SIN(RADIANS($A16))*SIN(RADIANS(E$11)) - ($B$2 + $B$3*(COS(RADIANS($A16))) + $B$4*SIN(RADIANS($A16)) + $B$5*SIN(RADIANS($A16))*COS(RADIANS(E$11)) + $B$6*SIN(RADIANS($A16))*SIN(RADIANS(E$11))) -> -0.036251028 | F16: =$A$2 + $A$3*(COS(RADIANS($A16))) + $A$4*SIN(RADIANS($A16)) + $A$5*SIN(RADIANS($A16))*COS(RADIANS(F$11)) + $A$6*SIN(RADIANS($A16))*SIN(RADIANS(F$11)) - ($B$2 + $B$3*(COS(RADIANS($A16))) + $B$4*SIN(RADIANS($A16)) + $B$5*SIN(RADIANS($A16))*COS(RADIANS(F$11)) + $B$6*SIN(RADIANS($A16))*SIN(RADIANS(F$11))) -> -0.036973963 | G16: =$A$2 + $A$3*(COS(RADIANS($A16))) + $A$4*SIN(RADIANS($A16)) + $A$5*SIN(RADIANS($A16))*COS(RADIANS(G$11)) + $A$6*SIN(RADIANS($A16))*SIN(RADIANS(G$11)) - ($B$2 + $B$3*(COS(RADIANS($A16))) + $B$4*SIN(RADIANS($A16)) + $B$5*SIN(RADIANS($A16))*COS(RADIANS(G$11)) + $B$6*SIN(RADIANS($A16))*SIN(RADIANS(G$11))) -> -0.036215219 | H16: =$A$2 + $A$3*(COS(RADIANS($A16))) + $A$4*SIN(RADIANS($A16)) + $A$5*SIN(RADIANS($A16))*COS(RADIANS(H$11)) + $A$6*SIN(RADIANS($A16))*SIN(RADIANS(H$11)) - ($B$2 + $B$3*(COS(RADIANS($A16))) + $B$4*SIN(RADIANS($A16)) + $B$5*SIN(RADIANS($A16))*COS(RADIANS(H$11)) + $B$6*SIN(RADIANS($A16))*SIN(RADIANS(H$11))) -> -0.034026502 | I16: =$A$2 + $A$3*(COS(RADIANS($A16))) + $A$4*SIN(RADIANS($A16)) + $A$5*SIN(RADIANS($A16))*COS(RADIANS(I$11)) + $A$6*SIN(RADIANS($A16))*SIN(RADIANS(I$11)) - ($B$2 + $B$3*(COS(RADIANS($A16))) + $B$4*SIN(RADIANS($A16)) + $B$5*SIN(RADIANS($A16))*COS(RADIANS(I$11)) + $B$6*SIN(RADIANS($A16))*SIN(RADIANS(I$11))) -> -0.03055697 | ... Z16: =$A$2 + $A$3*(COS(RADIANS($A16))) + $A$4*SIN(RADIANS($A16)) + $A$5*SIN(RADIANS($A16))*COS(RADIANS(Z$11)) + $A$6*SIN(RADIANS($A16))*SIN(RADIANS(Z$11)) - ($B$2 + $B$3*(COS(RADIANS($A16))) + $B$4*SIN(RADIANS($A16)) + $B$5*SIN(RADIANS($A16))*COS(RADIANS(Z$11)) + $B$6*SIN(RADIANS($A16))*SIN(RADIANS(Z$11))) -> -0.026162887
A17: 30 | B17: =$A$2 + $A$3*(COS(RADIANS($A17))) + $A$4*SIN(RADIANS($A17)) + $A$5*SIN(RADIANS($A17))*COS(RADIANS(B$11)) + $A$6*SIN(RADIANS($A17))*SIN(RADIANS(B$11)) - ($B$2 + $B$3*(COS(RADIANS($A17))) + $B$4*SIN(RADIANS($A17)) + $B$5*SIN(RADIANS($A17))*COS(RADIANS(B$11)) + $B$6*SIN(RADIANS($A17))*SIN(RADIANS(B$11))) -> -0.012384725 | C17: =$A$2 + $A$3*(COS(RADIANS($A17))) + $A$4*SIN(RADIANS($A17)) + $A$5*SIN(RADIANS($A17))*COS(RADIANS(C$11)) + $A$6*SIN(RADIANS($A17))*SIN(RADIANS(C$11)) - ($B$2 + $B$3*(COS(RADIANS($A17))) + $B$4*SIN(RADIANS($A17)) + $B$5*SIN(RADIANS($A17))*COS(RADIANS(C$11)) + $B$6*SIN(RADIANS($A17))*SIN(RADIANS(C$11))) -> -0.017699114 | D17: =$A$2 + $A$3*(COS(RADIANS($A17))) + $A$4*SIN(RADIANS($A17)) + $A$5*SIN(RADIANS($A17))*COS(RADIANS(D$11)) + $A$6*SIN(RADIANS($A17))*SIN(RADIANS(D$11)) - ($B$2 + $B$3*(COS(RADIANS($A17))) + $B$4*SIN(RADIANS($A17)) + $B$5*SIN(RADIANS($A17))*COS(RADIANS(D$11)) + $B$6*SIN(RADIANS($A17))*SIN(RADIANS(D$11))) -> -0.021770018 | E17: =$A$2 + $A$3*(COS(RADIANS($A17))) + $A$4*SIN(RADIANS($A17)) + $A$5*SIN(RADIANS($A17))*COS(RADIANS(E$11)) + $A$6*SIN(RADIANS($A17))*SIN(RADIANS(E$11)) - ($B$2 + $B$3*(COS(RADIANS($A17))) + $B$4*SIN(RADIANS($A17)) + $B$5*SIN(RADIANS($A17))*COS(RADIANS(E$11)) + $B$6*SIN(RADIANS($A17))*SIN(RADIANS(E$11))) -> -0.024320012 | F17: =$A$2 + $A$3*(COS(RADIANS($A17))) + $A$4*SIN(RADIANS($A17)) + $A$5*SIN(RADIANS($A17))*COS(RADIANS(F$11)) + $A$6*SIN(RADIANS($A17))*SIN(RADIANS(F$11)) - ($B$2 + $B$3*(COS(RADIANS($A17))) + $B$4*SIN(RADIANS($A17)) + $B$5*SIN(RADIANS($A17))*COS(RADIANS(F$11)) + $B$6*SIN(RADIANS($A17))*SIN(RADIANS(F$11))) -> -0.025175317 | G17: =$A$2 + $A$3*(COS(RADIANS($A17))) + $A$4*SIN(RADIANS($A17)) + $A$5*SIN(RADIANS($A17))*COS(RADIANS(G$11)) + $A$6*SIN(RADIANS($A17))*SIN(RADIANS(G$11)) - ($B$2 + $B$3*(COS(RADIANS($A17))) + $B$4*SIN(RADIANS($A17)) + $B$5*SIN(RADIANS($A17))*COS(RADIANS(G$11)) + $B$6*SIN(RADIANS($A17))*SIN(RADIANS(G$11))) -> -0.024277646 | H17: =$A$2 + $A$3*(COS(RADIANS($A17))) + $A$4*SIN(RADIANS($A17)) + $A$5*SIN(RADIANS($A17))*COS(RADIANS(H$11)) + $A$6*SIN(RADIANS($A17))*SIN(RADIANS(H$11)) - ($B$2 + $B$3*(COS(RADIANS($A17))) + $B$4*SIN(RADIANS($A17)) + $B$5*SIN(RADIANS($A17))*COS(RADIANS(H$11)) + $B$6*SIN(RADIANS($A17))*SIN(RADIANS(H$11))) -> -0.021688173 | I17: =$A$2 + $A$3*(COS(RADIANS($A17))) + $A$4*SIN(RADIANS($A17)) + $A$5*SIN(RADIANS($A17))*COS(RADIANS(I$11)) + $A$6*SIN(RADIANS($A17))*SIN(RADIANS(I$11)) - ($B$2 + $B$3*(COS(RADIANS($A17))) + $B$4*SIN(RADIANS($A17)) + $B$5*SIN(RADIANS($A17))*COS(RADIANS(I$11)) + $B$6*SIN(RADIANS($A17))*SIN(RADIANS(I$11))) -> -0.017583367 | ... Z17: =$A$2 + $A$3*(COS(RADIANS($A17))) + $A$4*SIN(RADIANS($A17)) + $A$5*SIN(RADIANS($A17))*COS(RADIANS(Z$11)) + $A$6*SIN(RADIANS($A17))*SIN(RADIANS(Z$11)) - ($B$2 + $B$3*(COS(RADIANS($A17))) + $B$4*SIN(RADIANS($A17)) + $B$5*SIN(RADIANS($A17))*COS(RADIANS(Z$11)) + $B$6*SIN(RADIANS($A17))*SIN(RADIANS(Z$11))) -> -0.012384725
A18: 35 | B18: =$A$2 + $A$3*(COS(RADIANS($A18))) + $A$4*SIN(RADIANS($A18)) + $A$5*SIN(RADIANS($A18))*COS(RADIANS(B$11)) + $A$6*SIN(RADIANS($A18))*SIN(RADIANS(B$11)) - ($B$2 + $B$3*(COS(RADIANS($A18))) + $B$4*SIN(RADIANS($A18)) + $B$5*SIN(RADIANS($A18))*COS(RADIANS(B$11)) + $B$6*SIN(RADIANS($A18))*SIN(RADIANS(B$11))) -> 0.00045830994 | C18: =$A$2 + $A$3*(COS(RADIANS($A18))) + $A$4*SIN(RADIANS($A18)) + $A$5*SIN(RADIANS($A18))*COS(RADIANS(C$11)) + $A$6*SIN(RADIANS($A18))*SIN(RADIANS(C$11)) - ($B$2 + $B$3*(COS(RADIANS($A18))) + $B$4*SIN(RADIANS($A18)) + $B$5*SIN(RADIANS($A18))*COS(RADIANS(C$11)) + $B$6*SIN(RADIANS($A18))*SIN(RADIANS(C$11))) -> -0.0056381073 | D18: =$A$2 + $A$3*(COS(RADIANS($A18))) + $A$4*SIN(RADIANS($A18)) + $A$5*SIN(RADIANS($A18))*COS(RADIANS(D$11)) + $A$6*SIN(RADIANS($A18))*SIN(RADIANS(D$11)) - ($B$2 + $B$3*(COS(RADIANS($A18))) + $B$4*SIN(RADIANS($A18)) + $B$5*SIN(RADIANS($A18))*COS(RADIANS(D$11)) + $B$6*SIN(RADIANS($A18))*SIN(RADIANS(D$11))) -> -0.010308057 | E18: =$A$2 + $A$3*(COS(RADIANS($A18))) + $A$4*SIN(RADIANS($A18)) + $A$5*SIN(RADIANS($A18))*COS(RADIANS(E$11)) + $A$6*SIN(RADIANS($A18))*SIN(RADIANS(E$11)) - ($B$2 + $B$3*(COS(RADIANS($A18))) + $B$4*SIN(RADIANS($A18)) + $B$5*SIN(RADIANS($A18))*COS(RADIANS(E$11)) + $B$6*SIN(RADIANS($A18))*SIN(RADIANS(E$11))) -> -0.013233289 | F18: =$A$2 + $A$3*(COS(RADIANS($A18))) + $A$4*SIN(RADIANS($A18)) + $A$5*SIN(RADIANS($A18))*COS(RADIANS(F$11)) + $A$6*SIN(RADIANS($A18))*SIN(RADIANS(F$11)) - ($B$2 + $B$3*(COS(RADIANS($A18))) + $B$4*SIN(RADIANS($A18)) + $B$5*SIN(RADIANS($A18))*COS(RADIANS(F$11)) + $B$6*SIN(RADIANS($A18))*SIN(RADIANS(F$11))) -> -0.014214455 | G18: =$A$2 + $A$3*(COS(RADIANS($A18))) + $A$4*SIN(RADIANS($A18)) + $A$5*SIN(RADIANS($A18))*COS(RADIANS(G$11)) + $A$6*SIN(RADIANS($A18))*SIN(RADIANS(G$11)) - ($B$2 + $B$3*(COS(RADIANS($A18))) + $B$4*SIN(RADIANS($A18)) + $B$5*SIN(RADIANS($A18))*COS(RADIANS(G$11)) + $B$6*SIN(RADIANS($A18))*SIN(RADIANS(G$11))) -> -0.013184689 | H18: =$A$2 + $A$3*(COS(RADIANS($A18))) + $A$4*SIN(RADIANS($A18)) + $A$5*SIN(RADIANS($A18))*COS(RADIANS(H$11)) + $A$6*SIN(RADIANS($A18))*SIN(RADIANS(H$11)) - ($B$2 + $B$3*(COS(RADIANS($A18))) + $B$4*SIN(RADIANS($A18)) + $B$5*SIN(RADIANS($A18))*COS(RADIANS(H$11)) + $B$6*SIN(RADIANS($A18))*SIN(RADIANS(H$11))) -> -0.010214168 | I18: =$A$2 + $A$3*(COS(RADIANS($A18))) + $A$4*SIN(RADIANS($A18)) + $A$5*SIN(RADIANS($A18))*COS(RADIANS(I$11)) + $A$6*SIN(RADIANS($A18))*SIN(RADIANS(I$11)) - ($B$2 + $B$3*(COS(RADIANS($A18))) + $B$4*SIN(RADIANS($A18)) + $B$5*SIN(RADIANS($A18))*COS(RADIANS(I$11)) + $B$6*SIN(RADIANS($A18))*SIN(RADIANS(I$11))) -> -0.0055053281 | ... Z18: =$A$2 + $A$3*(COS(RADIANS($A18))) + $A$4*SIN(RADIANS($A18)) + $A$5*SIN(RADIANS($A18))*COS(RADIANS(Z$11)) + $A$6*SIN(RADIANS($A18))*SIN(RADIANS(Z$11)) - ($B$2 + $B$3*(COS(RADIANS($A18))) + $B$4*SIN(RADIANS($A18)) + $B$5*SIN(RADIANS($A18))*COS(RADIANS(Z$11)) + $B$6*SIN(RADIANS($A18))*SIN(RADIANS(Z$11))) -> 0.00045830994
A19: 40 | B19: =$A$2 + $A$3*(COS(RADIANS($A19))) + $A$4*SIN(RADIANS($A19)) + $A$5*SIN(RADIANS($A19))*COS(RADIANS(B$11)) + $A$6*SIN(RADIANS($A19))*SIN(RADIANS(B$11)) - ($B$2 + $B$3*(COS(RADIANS($A19))) + $B$4*SIN(RADIANS($A19)) + $B$5*SIN(RADIANS($A19))*COS(RADIANS(B$11)) + $B$6*SIN(RADIANS($A19))*SIN(RADIANS(B$11))) -> 0.012268473 | C19: =$A$2 + $A$3*(COS(RADIANS($A19))) + $A$4*SIN(RADIANS($A19)) + $A$5*SIN(RADIANS($A19))*COS(RADIANS(C$11)) + $A$6*SIN(RADIANS($A19))*SIN(RADIANS(C$11)) - ($B$2 + $B$3*(COS(RADIANS($A19))) + $B$4*SIN(RADIANS($A19)) + $B$5*SIN(RADIANS($A19))*COS(RADIANS(C$11)) + $B$6*SIN(RADIANS($A19))*SIN(RADIANS(C$11))) -> 0.0054364257 | D19: =$A$2 + $A$3*(COS(RADIANS($A19))) + $A$4*SIN(RADIANS($A19)) + $A$5*SIN(RADIANS($A19))*COS(RADIANS(D$11)) + $A$6*SIN(RADIANS($A19))*SIN(RADIANS(D$11)) - ($B$2 + $B$3*(COS(RADIANS($A19))) + $B$4*SIN(RADIANS($A19)) + $B$5*SIN(RADIANS($A19))*COS(RADIANS(D$11)) + $B$6*SIN(RADIANS($A19))*SIN(RADIANS(D$11))) -> 0.00020297204 | E19: =$A$2 + $A$3*(COS(RADIANS($A19))) + $A$4*SIN(RADIANS($A19)) + $A$5*SIN(RADIANS($A19))*COS(RADIANS(E$11)) + $A$6*SIN(RADIANS($A19))*SIN(RADIANS(E$11)) - ($B$2 + $B$3*(COS(RADIANS($A19))) + $B$4*SIN(RADIANS($A19)) + $B$5*SIN(RADIANS($A19))*COS(RADIANS(E$11)) + $B$6*SIN(RADIANS($A19))*SIN(RADIANS(E$11))) -> -0.0030752364 | F19: =$A$2 + $A$3*(COS(RADIANS($A19))) + $A$4*SIN(RADIANS($A19)) + $A$5*SIN(RADIANS($A19))*COS(RADIANS(F$11)) + $A$6*SIN(RADIANS($A19))*SIN(RADIANS(F$11)) - ($B$2 + $B$3*(COS(RADIANS($A19))) + $B$4*SIN(RADIANS($A19)) + $B$5*SIN(RADIANS($A19))*COS(RADIANS(F$11)) + $B$6*SIN(RADIANS($A19))*SIN(RADIANS(F$11))) -> -0.0041747953 | G19: =$A$2 + $A$3*(COS(RADIANS($A19))) + $A$4*SIN(RADIANS($A19)) + $A$5*SIN(RADIANS($A19))*COS(RADIANS(G$11)) + $A$6*SIN(RADIANS($A19))*SIN(RADIANS(G$11)) - ($B$2 + $B$3*(COS(RADIANS($A19))) + $B$4*SIN(RADIANS($A19)) + $B$5*SIN(RADIANS($A19))*COS(RADIANS(G$11)) + $B$6*SIN(RADIANS($A19))*SIN(RADIANS(G$11))) -> -0.0030207714 | H19: =$A$2 + $A$3*(COS(RADIANS($A19))) + $A$4*SIN(RADIANS($A19)) + $A$5*SIN(RADIANS($A19))*COS(RADIANS(H$11)) + $A$6*SIN(RADIANS($A19))*SIN(RADIANS(H$11)) - ($B$2 + $B$3*(COS(RADIANS($A19))) + $B$4*SIN(RADIANS($A19)) + $B$5*SIN(RADIANS($A19))*COS(RADIANS(H$11)) + $B$6*SIN(RADIANS($A19))*SIN(RADIANS(H$11))) -> 0.00030819037 | I19: =$A$2 + $A$3*(COS(RADIANS($A19))) + $A$4*SIN(RADIANS($A19)) + $A$5*SIN(RADIANS($A19))*COS(RADIANS(I$11)) + $A$6*SIN(RADIANS($A19))*SIN(RADIANS(I$11)) - ($B$2 + $B$3*(COS(RADIANS($A19))) + $B$4*SIN(RADIANS($A19)) + $B$5*SIN(RADIANS($A19))*COS(RADIANS(I$11)) + $B$6*SIN(RADIANS($A19))*SIN(RADIANS(I$11))) -> 0.0055852269 | ... Z19: =$A$2 + $A$3*(COS(RADIANS($A19))) + $A$4*SIN(RADIANS($A19)) + $A$5*SIN(RADIANS($A19))*COS(RADIANS(Z$11)) + $A$6*SIN(RADIANS($A19))*SIN(RADIANS(Z$11)) - ($B$2 + $B$3*(COS(RADIANS($A19))) + $B$4*SIN(RADIANS($A19)) + $B$5*SIN(RADIANS($A19))*COS(RADIANS(Z$11)) + $B$6*SIN(RADIANS($A19))*SIN(RADIANS(Z$11))) -> 0.012268473
A20: 45 | B20: =$A$2 + $A$3*(COS(RADIANS($A20))) + $A$4*SIN(RADIANS($A20)) + $A$5*SIN(RADIANS($A20))*COS(RADIANS(B$11)) + $A$6*SIN(RADIANS($A20))*SIN(RADIANS(B$11)) - ($B$2 + $B$3*(COS(RADIANS($A20))) + $B$4*SIN(RADIANS($A20)) + $B$5*SIN(RADIANS($A20))*COS(RADIANS(B$11)) + $B$6*SIN(RADIANS($A20))*SIN(RADIANS(B$11))) -> 0.022955883 | C20: =$A$2 + $A$3*(COS(RADIANS($A20))) + $A$4*SIN(RADIANS($A20)) + $A$5*SIN(RADIANS($A20))*COS(RADIANS(C$11)) + $A$6*SIN(RADIANS($A20))*SIN(RADIANS(C$11)) - ($B$2 + $B$3*(COS(RADIANS($A20))) + $B$4*SIN(RADIANS($A20)) + $B$5*SIN(RADIANS($A20))*COS(RADIANS(C$11)) + $B$6*SIN(RADIANS($A20))*SIN(RADIANS(C$11))) -> 0.015440201 | D20: =$A$2 + $A$3*(COS(RADIANS($A20))) + $A$4*SIN(RADIANS($A20)) + $A$5*SIN(RADIANS($A20))*COS(RADIANS(D$11)) + $A$6*SIN(RADIANS($A20))*SIN(RADIANS(D$11)) - ($B$2 + $B$3*(COS(RADIANS($A20))) + $B$4*SIN(RADIANS($A20)) + $B$5*SIN(RADIANS($A20))*COS(RADIANS(D$11)) + $B$6*SIN(RADIANS($A20))*SIN(RADIANS(D$11))) -> 0.0096830728 | E20: =$A$2 + $A$3*(COS(RADIANS($A20))) + $A$4*SIN(RADIANS($A20)) + $A$5*SIN(RADIANS($A20))*COS(RADIANS(E$11)) + $A$6*SIN(RADIANS($A20))*SIN(RADIANS(E$11)) - ($B$2 + $B$3*(COS(RADIANS($A20))) + $B$4*SIN(RADIANS($A20)) + $B$5*SIN(RADIANS($A20))*COS(RADIANS(E$11)) + $B$6*SIN(RADIANS($A20))*SIN(RADIANS(E$11))) -> 0.0060768374 | F20: =$A$2 + $A$3*(COS(RADIANS($A20))) + $A$4*SIN(RADIANS($A20)) + $A$5*SIN(RADIANS($A20))*COS(RADIANS(F$11)) + $A$6*SIN(RADIANS($A20))*SIN(RADIANS(F$11)) - ($B$2 + $B$3*(COS(RADIANS($A20))) + $B$4*SIN(RADIANS($A20)) + $B$5*SIN(RADIANS($A20))*COS(RADIANS(F$11)) + $B$6*SIN(RADIANS($A20))*SIN(RADIANS(F$11))) -> 0.0048672535 | G20: =$A$2 + $A$3*(COS(RADIANS($A20))) + $A$4*SIN(RADIANS($A20)) + $A$5*SIN(RADIANS($A20))*COS(RADIANS(G$11)) + $A$6*SIN(RADIANS($A20))*SIN(RADIANS(G$11)) - ($B$2 + $B$3*(COS(RADIANS($A20))) + $B$4*SIN(RADIANS($A20)) + $B$5*SIN(RADIANS($A20))*COS(RADIANS(G$11)) + $B$6*SIN(RADIANS($A20))*SIN(RADIANS(G$11))) -> 0.0061367523 | H20: =$A$2 + $A$3*(COS(RADIANS($A20))) + $A$4*SIN(RADIANS($A20)) + $A$5*SIN(RADIANS($A20))*COS(RADIANS(H$11)) + $A$6*SIN(RADIANS($A20))*SIN(RADIANS(H$11)) - ($B$2 + $B$3*(COS(RADIANS($A20))) + $B$4*SIN(RADIANS($A20)) + $B$5*SIN(RADIANS($A20))*COS(RADIANS(H$11)) + $B$6*SIN(RADIANS($A20))*SIN(RADIANS(H$11))) -> 0.0097988196 | I20: =$A$2 + $A$3*(COS(RADIANS($A20))) + $A$4*SIN(RADIANS($A20)) + $A$5*SIN(RADIANS($A20))*COS(RADIANS(I$11)) + $A$6*SIN(RADIANS($A20))*SIN(RADIANS(I$11)) - ($B$2 + $B$3*(COS(RADIANS($A20))) + $B$4*SIN(RADIANS($A20)) + $B$5*SIN(RADIANS($A20))*COS(RADIANS(I$11)) + $B$6*SIN(RADIANS($A20))*SIN(RADIANS(I$11))) -> 0.015603891 | ... Z20: =$A$2 + $A$3*(COS(RADIANS($A20))) + $A$4*SIN(RADIANS($A20)) + $A$5*SIN(RADIANS($A20))*COS(RADIANS(Z$11)) + $A$6*SIN(RADIANS($A20))*SIN(RADIANS(Z$11)) - ($B$2 + $B$3*(COS(RADIANS($A20))) + $B$4*SIN(RADIANS($A20)) + $B$5*SIN(RADIANS($A20))*COS(RADIANS(Z$11)) + $B$6*SIN(RADIANS($A20))*SIN(RADIANS(Z$11))) -> 0.022955883
